BEGIN:VCALENDAR
VERSION:2.0
PRODID:-//Helms Design District - ECPv6.15.18//NONSGML v1.0//EN
CALSCALE:GREGORIAN
METHOD:PUBLISH
X-WR-CALNAME:Helms Design District
X-ORIGINAL-URL:https://helmsdesigndistrict.com
X-WR-CALDESC:Events for Helms Design District
REFRESH-INTERVAL;VALUE=DURATION:PT1H
X-Robots-Tag:noindex
X-PUBLISHED-TTL:PT1H
BEGIN:VTIMEZONE
TZID:America/Los_Angeles
BEGIN:DAYLIGHT
TZOFFSETFROM:-0800
TZOFFSETTO:-0700
TZNAME:PDT
DTSTART:20250309T100000
END:DAYLIGHT
BEGIN:STANDARD
TZOFFSETFROM:-0700
TZOFFSETTO:-0800
TZNAME:PST
DTSTART:20251102T090000
END:STANDARD
BEGIN:DAYLIGHT
TZOFFSETFROM:-0800
TZOFFSETTO:-0700
TZNAME:PDT
DTSTART:20260308T100000
END:DAYLIGHT
BEGIN:STANDARD
TZOFFSETFROM:-0700
TZOFFSETTO:-0800
TZNAME:PST
DTSTART:20261101T090000
END:STANDARD
BEGIN:DAYLIGHT
TZOFFSETFROM:-0800
TZOFFSETTO:-0700
TZNAME:PDT
DTSTART:20270314T100000
END:DAYLIGHT
BEGIN:STANDARD
TZOFFSETFROM:-0700
TZOFFSETTO:-0800
TZNAME:PST
DTSTART:20271107T090000
END:STANDARD
END:VTIMEZONE
BEGIN:VEVENT
DTSTART;TZID=America/Los_Angeles:20260401T170000
DTEND;TZID=America/Los_Angeles:20260430T170000
DTSTAMP:20260420T175225
CREATED:20260402T000019Z
LAST-MODIFIED:20260401T200606Z
UID:10002013-1775062800-1777568400@helmsdesigndistrict.com
SUMMARY:Fresh Perks: April Instagram Giveaway
DESCRIPTION:Set the Mood With Fragrance\nEnter April 1 – April 30\nThey say a home is built with furniture\, but it’s finished with a feeling. This month\, our Fresh Perks Giveaway is all about those intangible details that turn a beautiful room into a personal sanctuary. We’ve partnered with our friends at Harbour to give away an elegantly crafted candle from Lola James Harper. \nAt Helms\, we believe great design should engage all the senses. Whether you are looking to bottle the nostalgia of a favorite travel memory or simply want to shift the energy of your living room after a long day\, the right fragrance acts as a final “layer” of interior design. It’s an effortless way to transform your perspective without moving a single piece of furniture. \nAs we enjoy the fresh energy of spring throughout the District\, we want to thank you for making Helms your destination for inspiration\, shopping\, and dining. We love seeing you explore our showrooms and sharing in the history of this landmark space. \n\nTo enter is simple: \n(1) You must Follow us on Instagram.\n(2) Tag two friends in your comment so they can follow us and enter too.\n(3) What is one scent that instantly makes you feel at home? (Not mandatory\, but we love a good story!) \nBonus: Sign up for our newsletter for an automatic second entry. You’ll also be the first to know when our next Fresh Perk arrives. \nGood luck! \n\n		\n	 \n \n	\n		\n			ENTER ON INSTAGRAM\n		\n	 \n \n	\n		\n			\n  \n\nRules & Regs \nNo purchase is required to enter. \nWinners will be selected randomly\, contacted after each giveaway closes\, and announced in our comments on Instagram. \nOpen to US residents only\, 18 years and older.  By entering\, entrants confirm they are at least 18+ years of age. \nThis is a “GIVEAWAY” and is not eligible for return\, refund\, or exchange at any of our showrooms or restaurants. \nThe “Fresh Perks” giveaway  is not sponsored\, endorsed\, administered by or associated with Instagram. Entrants release Instagram and all brands of all responsibility and agree to Instagram’s terms of use. \nOne entry per Instagram user. Duplicate entries will not be considered. \nThis giveaway is open to residents of Los Angeles County.
URL:https://helmsdesigndistrict.com/event/fresh-perks-april-instagram-giveaway/
LOCATION:Online\, CA
CATEGORIES:Long Term Events
ATTACH;FMTTYPE=image/jpeg:https://helmsdesigndistrict.com/wp-content/uploads/2026/03/Fresh-Perks_04.2026_Horiz.jpg
END:VEVENT
BEGIN:VEVENT
DTSTART;TZID=America/Los_Angeles:20260402T183000
DTEND;TZID=America/Los_Angeles:20260402T203000
DTSTAMP:20260420T175225
CREATED:20260327T172326Z
LAST-MODIFIED:20260331T171228Z
UID:10002011-1775154600-1775161800@helmsdesigndistrict.com
SUMMARY:A reception\, lecture\, and Q+A discussion with Thom Mayne of Morphosis
DESCRIPTION:Please join us on Thursday\, April 2\, 6:30-8:30 pm\, for a special evening with Thom Mayne of Morphosis.\nIn collaboration with the Helms Design District and the Cal Poly SLO/LA Metro Program in Architecture and Urban Design \nHelms Design Center        \n8745 Washington Blvd.\, Culver City\, CA 90232 \nFree Parking is available at the corner of Helms Ave. and Venice Blvd. \nLecture is Free and Open to the Public with RSVP \n\n		\n	 \n \n	\n		\n			RSVP HERE\n		\n	 \n \n\n \n\n \n	\n		\n			\nThom Mayne founded Morphosis in 1972 as a collective practice engaged in architecture\, urban planning\, and design. Working globally\, his work represents a wide variety of scales and typologies.\nMayne cofounded the Southern California Institute of Architecture (SCI-Arc) in 1972 and continued to play an active role in architectural education. He has held teaching positions at UCLA\, Yale\, Harvard GSD\, Columbia\, the Bartlett School of Architecture\, and the University of Pennsylvania. He co-directed the NOW Institute\, a division of Morphosis that collaborates with communities\, cities\, and academic institutions to research and enhance urban environments. Mayne was awarded the Pritzker Prize in 2005 and the AIA Gold Medal in 2013. From 2009 to 2016\, he served on the President’s Committee on the Arts and Humanities under President Barack Obama. \nIn addition to built work\, Mayne maintains active art and research practice. His recent publications include Strange Networks (Rizzoli\, 2020)\, a monograph of his recent studies of combinatory systems\, and M3: modeled works [archive] 1972-2022 (Rizzoli\, 2023)\, a survey of 50 years of Morphosis models. These investigations continue at Stray Dog Café\, his personal studio\, where he leads a team of emerging designers and students. His work is held in the permanent collections of MoMA\, SFMOMA\, the Art Institute of Chicago\, and other institutions. \nMayne’s practice reflects a sustained commitment to advancing architectural discourse through built form\, speculative research\, and civic engagement. \n  \n  \n  \n\nIntroduced and moderated by Stephen Phillips\, FAIA\, PhD\, of Stephen Phillips Architects (SPARCHS) and professor\, director\, Cal Poly LA Metro Program in Architecture and Urban Design (California Polytechnic State University\, San Luis Obispo). \n\n		\n	 \n \n	\n		\n			\nPhoto: Thom Mayne of Morphosis \n\n		\n	 \n \n	\n		\n			\nSPONSORED BY
URL:https://helmsdesigndistrict.com/event/thom-mayne/
LOCATION:Helms Design Center\, 8745 Washington Boulevard\, Culver City\, CA\, 90232
CATEGORIES:News
ATTACH;FMTTYPE=image/jpeg:https://helmsdesigndistrict.com/wp-content/uploads/2026/03/ThomMayne.jpg
GEO:34.0286594;-118.3857496
X-APPLE-STRUCTURED-LOCATION;VALUE=URI;X-ADDRESS=Helms Design Center 8745 Washington Boulevard Culver City CA 90232;X-APPLE-RADIUS=500;X-TITLE=8745 Washington Boulevard:geo:-118.3857496,34.0286594
END:VEVENT
BEGIN:VEVENT
DTSTART;TZID=America/Los_Angeles:20260409T183000
DTEND;TZID=America/Los_Angeles:20260409T203000
DTSTAMP:20260420T175225
CREATED:20260327T171326Z
LAST-MODIFIED:20260409T225656Z
UID:10002010-1775759400-1775766600@helmsdesigndistrict.com
SUMMARY:LA Rebuilds Exhibition: Cal Poly LA Metro Opening Reception
DESCRIPTION:The Eaton Canyon and Palisades fires transformed the lives of so many here in Los Angeles. One year later\, the rebuild effort is well underway\, but it has not been easy. Insurance\, permitting\, infrastructure\, and inflated costs have proven challenging. No simple solution has clearly manifested. Instead\, a variety of real-world approaches have developed for bringing our communities back together. \nPlease join us on Thursday\, April 9th from 6:30 to 8:30 pm during the opening reception as we take account of some of the best architectural projects permitted and being constructed in the city and county. Engage in a conversation with the participating architects and studios working to spearhead change within our city and county. \nPoster Design by Thy Truc Ho \nRSVP required below \n\n		\n	 \n \n	\n		\n			\nEXHIBITS BY: \nAmeen Ayoub Design Studio AADS\nAndy Kim\nBestor Architecture\nByben\nCal Poly LA Metro Students\nCasey Hughes Architects\nEhrlich Yanai Rhee Chaney Architects\nFilosa Vol Architects\nFlorencia Pita\nGeoffrey von Oeyen Design\nJohn Friedman Alice Kimm Architects\nLehrer Architects\nMarmol Radziner\nMorphosis\nM-Rad\nOffice of Mobile Design (OMD)\nPlant Prefab\nScott Prentice Architects\nSorensen Architects\nSOTO\nSPARCHS\nStudio Antares A + E\nTighe Architecture\nWTARCH\nXTEN Architecture \n\n		\n	 \n \n	\n		\n			\nSPONSORED BY
URL:https://helmsdesigndistrict.com/event/la-rebuilds-exhibition-cal-poly-la-metro-opening-reception/
LOCATION:Helms Design Center\, 8745 Washington Boulevard\, Culver City\, CA\, 90232
CATEGORIES:News
ATTACH;FMTTYPE=image/png:https://helmsdesigndistrict.com/wp-content/uploads/2026/03/Exhibition-Image.png
GEO:34.0286594;-118.3857496
X-APPLE-STRUCTURED-LOCATION;VALUE=URI;X-ADDRESS=Helms Design Center 8745 Washington Boulevard Culver City CA 90232;X-APPLE-RADIUS=500;X-TITLE=8745 Washington Boulevard:geo:-118.3857496,34.0286594
END:VEVENT
BEGIN:VEVENT
DTSTART;TZID=America/Los_Angeles:20260410T110000
DTEND;TZID=America/Los_Angeles:20260410T140000
DTSTAMP:20260420T175225
CREATED:20260407T202712Z
LAST-MODIFIED:20260409T225741Z
UID:10002015-1775818800-1775829600@helmsdesigndistrict.com
SUMMARY:LA Rebuilds Exhibition: Cal Poly LA Metro Friday Docent Hours
DESCRIPTION:The Eaton Canyon and Palisades fires transformed the lives of so many here in Los Angeles. One year later\, the rebuild effort is well underway\, but it has not been easy. Insurance\, permitting\, infrastructure\, and inflated costs have proven challenging. No simple solution has clearly manifested. Instead\, a variety of real-world approaches have developed for bringing our communities back together. \nPlease stop by to view the exhibition and engage in a conversation with the Cal Poly student docents during the open studio hours\, as we take account of some of the best architectural projects permitted and being constructed in the city and county. \nRSVP Below and let us know you’re coming! \nPoster Design by Thy Truc Ho \n\n		\n	 \n \n	\n		\n			\nEXHIBITS BY: \nAmeen Ayoub Design Studio AADS\nAndy Kim\nBestor Architecture\nByben\nCal Poly LA Metro Students\nCasey Hughes Architects\nEhrlich Yanai Rhee Chaney Architects\nFilosa Vol Architects\nFlorencia Pita\nGeoffrey von Oeyen Design\nJohn Friedman Alice Kimm Architects\nLehrer Architects\nMarmol Radziner\nMorphosis\nM-Rad\nOffice of Mobile Design (OMD)\nPlant Prefab\nScott Prentice Architects\nSorensen Architects\nSOTO\nSPARCHS\nStudio Antares A + E\nTighe Architecture\nWTARCH\nXTEN Architecture \n\n		\n	 \n \n	\n		\n			\nSPONSORED BY
URL:https://helmsdesigndistrict.com/event/la-rebuilds-exhibition-cal-poly-la-metro-docent-hours/
LOCATION:Helms Design Center\, 8745 Washington Boulevard\, Culver City\, CA\, 90232
CATEGORIES:News
ATTACH;FMTTYPE=image/png:https://helmsdesigndistrict.com/wp-content/uploads/2026/03/Exhibition-Image.png
GEO:34.0286594;-118.3857496
X-APPLE-STRUCTURED-LOCATION;VALUE=URI;X-ADDRESS=Helms Design Center 8745 Washington Boulevard Culver City CA 90232;X-APPLE-RADIUS=500;X-TITLE=8745 Washington Boulevard:geo:-118.3857496,34.0286594
END:VEVENT
BEGIN:VEVENT
DTSTART;TZID=America/Los_Angeles:20260411T110000
DTEND;TZID=America/Los_Angeles:20260411T140000
DTSTAMP:20260420T175225
CREATED:20260407T203601Z
LAST-MODIFIED:20260409T225919Z
UID:10002016-1775905200-1775916000@helmsdesigndistrict.com
SUMMARY:LA Rebuilds Exhibition: Cal Poly LA Metro Saturday Docent Hours
DESCRIPTION:The Eaton Canyon and Palisades fires transformed the lives of so many here in Los Angeles. One year later\, the rebuild effort is well underway\, but it has not been easy. Insurance\, permitting\, infrastructure\, and inflated costs have proven challenging. No simple solution has clearly manifested. Instead\, a variety of real-world approaches have developed for bringing our communities back together. \nPlease stop by to view the exhibition and engage in a conversation with the Cal Poly student docents during the open studio hours\, as we take account of some of the best architectural projects permitted and being constructed in the city and county. \nRSVP Below and let us know you’re coming! \nPoster Design by Thy Truc Ho \n\n		\n	 \n \n	\n		\n			\nEXHIBITS BY: \nAmeen Ayoub Design Studio AADS\nAndy Kim\nBestor Architecture\nByben\nCal Poly LA Metro Students\nCasey Hughes Architects\nEhrlich Yanai Rhee Chaney Architects\nFilosa Vol Architects\nFlorencia Pita\nGeoffrey von Oeyen Design\nJohn Friedman Alice Kimm Architects\nLehrer Architects\nMarmol Radziner\nMorphosis\nM-Rad\nOffice of Mobile Design (OMD)\nPlant Prefab\nScott Prentice Architects\nSorensen Architects\nSOTO\nSPARCHS\nStudio Antares A + E\nTighe Architecture\nWTARCH\nXTEN Architecture \n\n		\n	 \n \n	\n		\n			\nSPONSORED BY
URL:https://helmsdesigndistrict.com/event/la-rebuilds-exhibition-cal-poly-la-metro-saturday-docent-hours/
LOCATION:Helms Design Center\, 8745 Washington Boulevard\, Culver City\, CA\, 90232
CATEGORIES:News
ATTACH;FMTTYPE=image/png:https://helmsdesigndistrict.com/wp-content/uploads/2026/03/Exhibition-Image.png
GEO:34.0286594;-118.3857496
X-APPLE-STRUCTURED-LOCATION;VALUE=URI;X-ADDRESS=Helms Design Center 8745 Washington Boulevard Culver City CA 90232;X-APPLE-RADIUS=500;X-TITLE=8745 Washington Boulevard:geo:-118.3857496,34.0286594
END:VEVENT
BEGIN:VEVENT
DTSTART;TZID=America/Los_Angeles:20260411T160000
DTEND;TZID=America/Los_Angeles:20260411T180000
DTSTAMP:20260420T175225
CREATED:20260407T202211Z
LAST-MODIFIED:20260407T202211Z
UID:10002014-1775923200-1775930400@helmsdesigndistrict.com
SUMMARY:Book Signing + Discussion with Eric Doeringer
DESCRIPTION:Please join Arcana: Books on the Arts on Saturday\, April 11th between 4:00 and 6:00 PM for a very special presentation of Books & Co. – an exhibition of publications by appropriation artist Eric Doeringer. Doeringer recreates iconic books by artists such as Ed Ruscha\, Richard Prince\, Sol Lewitt\, and Dieter Roth. For example\, his edition of Some Los Angeles Apartments presents photographs of each of the buildings in Ed Ruscha’s book of the same title\, but shot by Doeringer forty years after the original. \nFeaturing more than twenty-five publications\, this will be the most comprehensive exhibition of Doeringer’s books to date. In addition to the opportunity to meet the artist and get a book – or books – signed\, the artist will be producing an exclusive sixteen-page publication to accompany the event. \nEric Doeringer is a Los Angeles-based artist who remakes work by other artists. He has exhibited at institutions including MoMA PS1\, The Whitney Museum\, The Brooklyn Museum\, MassMoCA\, and La Musée d’Art Moderne de Paris. Doeringer’s artwork and books are in the collections of  MoMA\, The New York Public Library\, The Whitney Museum\, The Brooklyn Museum\,  The Getty Center\, SFMOMA\, The National Gallery of Canada\, The Baltimore Museum\, and numerous university libraries. \nUpcoming Arcana Events \nSaturday\, April 25th\, 4:00 – 6:00 PM\nBrad Donenfeld: Looking. Seeing.\nBook signing + discussion with Eli Consilvio \nSaturday\, May 2nd\, 4:00 – 6:00 PM\nAndres Macpherson: The Flower Book\nBook signing
URL:https://helmsdesigndistrict.com/event/book-signing-discussion-with-eri-doeringer/
LOCATION:Arcana: Books on the Arts\, 8675 Washington Blvd.\, Culver City\, CA\, 90232
CATEGORIES:News
ATTACH;FMTTYPE=image/jpeg:https://helmsdesigndistrict.com/wp-content/uploads/2026/04/EricDoeringer_site_1.jpg
GEO:34.0300679;-118.3835128
X-APPLE-STRUCTURED-LOCATION;VALUE=URI;X-ADDRESS=Arcana: Books on the Arts 8675 Washington Blvd. Culver City CA 90232;X-APPLE-RADIUS=500;X-TITLE=8675 Washington Blvd.:geo:-118.3835128,34.0300679
END:VEVENT
BEGIN:VEVENT
DTSTART;TZID=America/Los_Angeles:20260412T130000
DTEND;TZID=America/Los_Angeles:20260412T160000
DTSTAMP:20260420T175225
CREATED:20260327T171622Z
LAST-MODIFIED:20260409T230021Z
UID:10002012-1775998800-1776009600@helmsdesigndistrict.com
SUMMARY:LA Rebuilds Symposium: Exhibition + Panel Discussions
DESCRIPTION:The Eaton Canyon and Palisades fires transformed the lives of so many here in Los Angeles. One year later\, the rebuild effort is well underway\, but it has not been easy. Insurance\, permitting\, infrastructure\, and inflated costs have proven challenging. No simple solution has clearly manifested. Instead\, a variety of real-world approaches have developed for bringing our communities back together. \nPlease join us on Sunday\, April 12th from 1:00 to 4:00 pm during the symposium as we take account of some of the best architectural projects permitted and being constructed in the city and county. Engage in a conversation of varied building approaches alongside a discussion from our grass-roots leaders spearheading change within our city and county. \nPoster Design by Thy Truc Ho \nRSVP required below \n\n		\n	 \n \n	\n		\n			\nEXHIBITS BY: \nAmeen Ayoub Design Studio AADS\nAndy Kim\nBestor Architecture\nByben\nCal Poly LA Metro Students\nCasey Hughes Architects\nEhrlich Yanai Rhee Chaney Architects\nFilosa Vol Architects\nFlorencia Pita\nGeoffrey von Oeyen Design\nJohn Friedman Alice Kimm Architects\nLehrer Architects\nMarmol Radziner\nMorphosis\nM-Rad\nOffice of Mobile Design (OMD)\nPlant Prefab\nScott Prentice Architects\nSorensen Architects\nSOTO\nSPARCHS\nStudio Antares A + E\nTighe Architecture\nWTARCH\nXTEN Architecture \n\n		\n	  \n	\n		\n			\nSPEAKERS: \nBarbara Bestor\nJoy Chen\nRoseanne Landay\nSam Lubell\nLeo Marmol\nStephen Phillips\nJennifer Siegal\nSteven Somers \n\n		\n	 \n \n	\n		\n			\nSPONSORED BY
URL:https://helmsdesigndistrict.com/event/la-rebuilds-symposium-exhibition-panel-discussions/
LOCATION:Helms Design Center\, 8745 Washington Boulevard\, Culver City\, CA\, 90232
CATEGORIES:News
ATTACH;FMTTYPE=image/png:https://helmsdesigndistrict.com/wp-content/uploads/2026/03/Exhibition-Image.png
GEO:34.0286594;-118.3857496
X-APPLE-STRUCTURED-LOCATION;VALUE=URI;X-ADDRESS=Helms Design Center 8745 Washington Boulevard Culver City CA 90232;X-APPLE-RADIUS=500;X-TITLE=8745 Washington Boulevard:geo:-118.3857496,34.0286594
END:VEVENT
BEGIN:VEVENT
DTSTART;TZID=America/Los_Angeles:20260421T173000
DTEND;TZID=America/Los_Angeles:20260421T200000
DTSTAMP:20260420T175225
CREATED:20260311T181008Z
LAST-MODIFIED:20260326T145702Z
UID:10002009-1776792600-1776801600@helmsdesigndistrict.com
SUMMARY:ULI Hosts a Meet and Greet Focused on Transit-Oriented Development
DESCRIPTION:Join the ULI Los Angeles Programs Committee for an exclusive Meet & Greet event focused on the future of transit-oriented development in our city. \nHear directly from Nicholas Saponara\, LA Metro Executive Officer\, Transit Oriented Communities\, and other Metro representatives as they highlight their active joint development pipeline and provide insights into the impactful 10K Home Program. \nThis is a must-attend event for the ULI community to gain a comprehensive understanding of Metro’s current projects and their vision for increasing housing and community benefits around transit hubs. Learn how these initiatives are shaping the urban landscape of Los Angeles. \nMODERATOR\nHilary Norton\, Executive Director FASTLinkDTLA \nSPEAKERS\nNick Saponara\, Executive Director\, LA Metro \nAttendees are eligible to receive AIA and AICP credits. \n\n		\n	 \n \n	\n		\n			TICKET INFO + REGISTRATION
URL:https://helmsdesigndistrict.com/event/uli-hosts-a-meet-and-greet-focused-on-transit-oriented-development/
LOCATION:Helms Design Center\, 8745 Washington Boulevard\, Culver City\, CA\, 90232
CATEGORIES:News
ATTACH;FMTTYPE=image/jpeg:https://helmsdesigndistrict.com/wp-content/uploads/2026/03/Metro_MG_Event_Image_3247358.jpg
GEO:34.0286594;-118.3857496
X-APPLE-STRUCTURED-LOCATION;VALUE=URI;X-ADDRESS=Helms Design Center 8745 Washington Boulevard Culver City CA 90232;X-APPLE-RADIUS=500;X-TITLE=8745 Washington Boulevard:geo:-118.3857496,34.0286594
END:VEVENT
BEGIN:VEVENT
DTSTART;TZID=America/Los_Angeles:20260423T183000
DTEND;TZID=America/Los_Angeles:20260423T203000
DTSTAMP:20260420T175225
CREATED:20260416T214449Z
LAST-MODIFIED:20260416T225941Z
UID:10002017-1776969000-1776976200@helmsdesigndistrict.com
SUMMARY:A reception\, lecture\, and discussion with Paul Lewis
DESCRIPTION:Please join us on Thursday\, April 23rd\, 6:30-8:30 pm\, for a special evening with Paul Lewis.\nIn collaboration with the Helms Design District and the Cal Poly SLO/LA Metro Program in Architecture and Urban Design \nHelms Design Center        \n8745 Washington Blvd.\, Culver City\, CA 90232 \nFree Parking is available at the corner of Helms Ave. and Venice Blvd. \nLecture is Free and Open to the Public with RSVP \n\n		\n	 \n \n	\n		\n			RSVP HERE\n		\n	 \n \n\n \n\n \n	\n		\n			\nPaul Lewis\, FAIA\, is a Principal at LTL Architects based in New York City and Professor / Interim Associate Dean at Princeton University School of Architecture. LTL are the 2019 NY State AIA firm of the year\, have received a National Design Award\, and were inducted into the ID Hall of Fame.\nThe firm’s recent work includes All Straw House\, First Place in The Resilient Campus an International Design Competition for University of Buffalo\, Ithaca Straw House\, Poster House\, The Helen R. Walton Children’s Enrichment Center\, and a new residence hall at Carnegie Mellon University. Their current focus is on the architectural potentials of plant and earth-based materials which is explicated in their most recent book Manual of Biogenic House Sections (2022). LTL Architects are also the authors of Intensities (2013)\, Opportunistic Architecture (2008) and Situation Normal….Pamphlet Architecture #21 (1998) and Manual of Section (2016) which has been translated into seven languages. Paul received a BA from Wesleyan University and a M.Arch from Princeton University\, and is a recent past president of The Architectural League of New York. \nFollow Link To Purchase: Manual of Biogenic House Sections (ORO Editions\, 2022) by authors Paul Lewis\, Marc Tsurumaki & David J. Lewis. \n\nIntroduced and moderated by Stephen Phillips\, FAIA\, PhD\, of Stephen Phillips Architects (SPARCHS) and professor\, director\, Cal Poly LA Metro Program in Architecture and Urban Design (California Polytechnic State University\, San Luis Obispo). \n\n		\n	 \n \n            \n\n                \n                \n                \n                \n                     \n	\n		\n		\n		\n	  \n	\n		\n		\n		\n	 \n                 \n                \n                \n            \n\n            \n\n            \n\n         \n	\n		\n			\nPhotos: All Straw House section perspective; Manual of Biogenic House Sections book cover; All Straw House construction image.\n \n\n		\n	 \n \n	\n		\n			\nSPONSORED BY
URL:https://helmsdesigndistrict.com/event/a-reception-lecture-and-discussion-with-paul-lewis/
LOCATION:Helms Design Center\, 8745 Washington Boulevard\, Culver City\, CA\, 90232
CATEGORIES:News
ATTACH;FMTTYPE=image/jpeg:https://helmsdesigndistrict.com/wp-content/uploads/2026/04/PLewis_featuredimage.jpg
GEO:34.0286594;-118.3857496
X-APPLE-STRUCTURED-LOCATION;VALUE=URI;X-ADDRESS=Helms Design Center 8745 Washington Boulevard Culver City CA 90232;X-APPLE-RADIUS=500;X-TITLE=8745 Washington Boulevard:geo:-118.3857496,34.0286594
END:VEVENT
END:VCALENDAR