BEGIN:VCALENDAR
VERSION:2.0
PRODID:-//Helms Design District - ECPv6.15.18//NONSGML v1.0//EN
CALSCALE:GREGORIAN
METHOD:PUBLISH
X-WR-CALNAME:Helms Design District
X-ORIGINAL-URL:https://helmsdesigndistrict.com
X-WR-CALDESC:Events for Helms Design District
REFRESH-INTERVAL;VALUE=DURATION:PT1H
X-Robots-Tag:noindex
X-PUBLISHED-TTL:PT1H
BEGIN:VTIMEZONE
TZID:America/Los_Angeles
BEGIN:DAYLIGHT
TZOFFSETFROM:-0800
TZOFFSETTO:-0700
TZNAME:PDT
DTSTART:20230312T100000
END:DAYLIGHT
BEGIN:STANDARD
TZOFFSETFROM:-0700
TZOFFSETTO:-0800
TZNAME:PST
DTSTART:20231105T090000
END:STANDARD
BEGIN:DAYLIGHT
TZOFFSETFROM:-0800
TZOFFSETTO:-0700
TZNAME:PDT
DTSTART:20240310T100000
END:DAYLIGHT
BEGIN:STANDARD
TZOFFSETFROM:-0700
TZOFFSETTO:-0800
TZNAME:PST
DTSTART:20241103T090000
END:STANDARD
BEGIN:DAYLIGHT
TZOFFSETFROM:-0800
TZOFFSETTO:-0700
TZNAME:PDT
DTSTART:20250309T100000
END:DAYLIGHT
BEGIN:STANDARD
TZOFFSETFROM:-0700
TZOFFSETTO:-0800
TZNAME:PST
DTSTART:20251102T090000
END:STANDARD
END:VTIMEZONE
BEGIN:VEVENT
DTSTART;TZID=America/Los_Angeles:20241017T074500
DTEND;TZID=America/Los_Angeles:20241017T093000
DTSTAMP:20260423T191924
CREATED:20241010T173953Z
LAST-MODIFIED:20241010T174220Z
UID:10001918-1729151100-1729157400@helmsdesigndistrict.com
SUMMARY:2024 Legislative Roundup with Westside Urban Forum
DESCRIPTION:The 2024 California Legislative Roundup: Insights into Sacramento \n7:45 am – 9:30 am\n7:45 am – Registration & Light Breakfast\n8:30 am – Panel Discussion \nPURCHASE TICKETS HERE\nIn recent years\, the California legislature has become increasingly bold about wielding the power of state law to address the housing crisis and other land use matters. This year\, the legislature yet again considered dozens of bills with major impacts on planning and development statewide and\, especially\, in urban areas like Los Angeles. It is sending the vast majority of them to the governor’s desk\, for signature or veto by September 30th. \nJoin Westside Urban Forum for an engaging and informative panel discussion to review the significant legislation passed–and not passed–in the 2024 session. This event aims to provide a comprehensive overview of the latest legislative changes and their impact on our communities and cities. Whether you are a government official\, urban planner\, developer\, or community advocate\, this discussion is essential for understanding how recent legislation will impact your work and our communities. \nSpeakers \nDistinguished guest speaker\, Assemblymember Rick Chavez Zbur\nAdditional speakers to be announced \nModerator\nTo be announced \nRegistration Fees\n$25 Members\n$65 Non-Members \nDirections\nAvoid the stress of rush hour and skip traffic! The Helms Design Center at 8745 Washington Blvd in Culver City is conveniently located a short\, pleasant walk from a number of transit lines\, including: \nMetro Rail “E” (Expo) Line Culver City Station (1 block west at Washington and National Blvds)\, and \nCulver City Bus “1” and “1C1” lines (at the adjacent Washington Blvd/Helms Avenue street corner). \nFor those who choose to drive\, parking is available throughout the Helms Bakery complex. Please note that the garage at 8711 Washington is no longer available for use. \nClick Here for the Helms Bakery District Parking Map \nSponsor Provided Tickets\nThanks to the generosity of our annual Sponsors\, WUF has a small number of free tickets available to members of the community. If you are not able to join as a member or purchase a ticket for this month’s panel presentation\, but would like to join us\, please write us at info@westsideurbanforum to inquire if we have any remaining sponsor provided tickets.
URL:https://helmsdesigndistrict.com/event/2024-legislative-roundup-with-westside-urban-forum/
LOCATION:Helms Design Center\, 8745 Washington Boulevard\, Culver City\, CA\, 90232
CATEGORIES:News
ATTACH;FMTTYPE=image/jpeg:https://helmsdesigndistrict.com/wp-content/uploads/2024/10/iStock_37131964_LARGE-1-scaled-e1728581757830.jpg
GEO:34.0286594;-118.3857496
X-APPLE-STRUCTURED-LOCATION;VALUE=URI;X-ADDRESS=Helms Design Center 8745 Washington Boulevard Culver City CA 90232;X-APPLE-RADIUS=500;X-TITLE=8745 Washington Boulevard:geo:-118.3857496,34.0286594
END:VEVENT
BEGIN:VEVENT
DTSTART;TZID=America/Los_Angeles:20240516T073000
DTEND;TZID=America/Los_Angeles:20240516T093000
DTSTAMP:20260423T191925
CREATED:20240430T195150Z
LAST-MODIFIED:20240513T190125Z
UID:10001894-1715844600-1715851800@helmsdesigndistrict.com
SUMMARY:Join Westside Urban Forum for Light Bites + Panel Discussion
DESCRIPTION:Adaptive Reuse: Can It Save Post-Pandemic Los Angeles?\n7:45 am – 9:30 am\n7:45 am – Registration & Light Breakfast\n8:15 am – Panel Discussion \nMEMBERS REGISTER HERE\nGUESTS REGISTER HERE\nFour years after the onset of the pandemic and the resulting work-from-home trend\, the office market in Los Angeles continues to experience significant challenges with increased vacancy\, sluggish leasing\, and financially burdened ownership. This market disruption has hollowed out many commercial centers that were traditionally reliant on office workers\, resulting in decreased foot traffic and the shuttering of restaurant and retail establishments. Many policy experts have suggested that the rejuvenation of commercial centers requires the reinvention of office centers into mixed-use districts with round-the-clock activation. \nIn order to achieve this\, it has been suggested that lightly used office buildings could be converted into residential space\, providing a much-needed boost in activity. In response\, the City of Los Angeles has released a proposed Adaptive Reuse Ordinance that is intended to encourage these conversions. A similar measure was adopted in Downtown Los Angeles and helped to usher in the boom of residential development that occurred in the neighborhood in the ensuing two decades. However\, few office-to-residential conversions have been successfully executed in recent years\, and experts in the field have commented that there are significant financial\, engineering\, and policy challenges that stand in the way of a meaningful wave of residential conversions. \nDoes the City’s proposed ordinance do enough to overcome these challenges? Are there other converted uses that have a higher chance of success? And how does the environmental benefit of preserving the embodied carbon in existing office buildings come into play? \nJoin the Westside Urban Forum as a panel of experts in the development\, design\, and public policy fields break down these complex issues. This event aims to provide a comprehensive overview of the challenges and opportunities of office conversion while discussing the path forward for conversion. \nModerator\nAdrian Scott Fine – President and CEO\, Los Angeles Conservancy \nPanelists\nHolly Harper\, AIA – Planning Assistant\, Urban Design Studio\, Los Angeles City Planning\nMatthew Wister – Studio Director/Senior Associate\, Studio One Eleven\nRachelle Habchi\, M.S.\, P.E. – Project Engineer & Director of Sustainability\, Glotman Simpson Structural Engineers \nRegistration Fees\n$50 Members\n$65 Non-Members\n$10 Student Members & Retired Members\n$15 Student Non-Members & Retired Non-Members \nPre-registration closes on Wednesday\, May 15th. After Wednesday\, May 15th\, onsite registration will be available at the cost of an additional $10. No refunds or credits will be provided after this day. \nDirections\nAvoid the stress of rush hour and skip traffic! The Helms Design Center at 8745 Washington Blvd in Culver City is conveniently located a short\, pleasant walk from a number of transit lines\, including: \nMetro Rail “E” (Expo) Line Culver City Station (1 block west at Washington and National Blvds)\, and \nCulver City Bus “1” and “1C1” lines (at the adjacent Washington Blvd/Helms Avenue street corner). \nProtected bike lanes along Washington Blvd. connecting to Culver City’s larger bike lane network also provide a convenient\, safe way to get to the Design Center. \nFor those who choose to drive\, parking is available throughout the Helms Bakery complex. Please note that the garage at 8711 Washington is no longer available for use. \nClick Here for the Helms Bakery District Parking Map \nSponsor Provided Tickets\nThanks to the generosity of our annual Sponsors\, WUF has a small number of free tickets available to members of the community. If you are not able to join as a member or purchase a ticket for this month’s panel presentation\, but would like to join us\, please write us at info@westsideurbanforum to inquire if we have any remaining sponsor provided tickets.
URL:https://helmsdesigndistrict.com/event/join-westside-urban-forum-for-light-bites-panel-discussion/
LOCATION:Helms Design Center\, 8745 Washington Boulevard\, Culver City\, CA\, 90232
CATEGORIES:News
ATTACH;FMTTYPE=image/jpeg:https://helmsdesigndistrict.com/wp-content/uploads/2024/04/Space_Available_750x500.jpg
GEO:34.0286594;-118.3857496
X-APPLE-STRUCTURED-LOCATION;VALUE=URI;X-ADDRESS=Helms Design Center 8745 Washington Boulevard Culver City CA 90232;X-APPLE-RADIUS=500;X-TITLE=8745 Washington Boulevard:geo:-118.3857496,34.0286594
END:VEVENT
END:VCALENDAR