BEGIN:VCALENDAR
VERSION:2.0
PRODID:-//Helms Design District - ECPv6.15.18//NONSGML v1.0//EN
CALSCALE:GREGORIAN
METHOD:PUBLISH
X-WR-CALNAME:Helms Design District
X-ORIGINAL-URL:https://helmsdesigndistrict.com
X-WR-CALDESC:Events for Helms Design District
REFRESH-INTERVAL;VALUE=DURATION:PT1H
X-Robots-Tag:noindex
X-PUBLISHED-TTL:PT1H
BEGIN:VTIMEZONE
TZID:America/Los_Angeles
BEGIN:DAYLIGHT
TZOFFSETFROM:-0800
TZOFFSETTO:-0700
TZNAME:PDT
DTSTART:20180311T100000
END:DAYLIGHT
BEGIN:STANDARD
TZOFFSETFROM:-0700
TZOFFSETTO:-0800
TZNAME:PST
DTSTART:20181104T090000
END:STANDARD
BEGIN:DAYLIGHT
TZOFFSETFROM:-0800
TZOFFSETTO:-0700
TZNAME:PDT
DTSTART:20190310T100000
END:DAYLIGHT
BEGIN:STANDARD
TZOFFSETFROM:-0700
TZOFFSETTO:-0800
TZNAME:PST
DTSTART:20191103T090000
END:STANDARD
BEGIN:DAYLIGHT
TZOFFSETFROM:-0800
TZOFFSETTO:-0700
TZNAME:PDT
DTSTART:20200308T100000
END:DAYLIGHT
BEGIN:STANDARD
TZOFFSETFROM:-0700
TZOFFSETTO:-0800
TZNAME:PST
DTSTART:20201101T090000
END:STANDARD
END:VTIMEZONE
BEGIN:VEVENT
DTSTART;TZID=America/Los_Angeles:20190117T183000
DTEND;TZID=America/Los_Angeles:20190117T203000
DTSTAMP:20260423T211014
CREATED:20190110T233701Z
LAST-MODIFIED:20190118T192618Z
UID:10000281-1547749800-1547757000@helmsdesigndistrict.com
SUMMARY:Lecture and Discussion with Michael Osman
DESCRIPTION:Free\nOn Thursday\, Jan 17\, from 6:30 pm – 8:30 pm Helms Bakery District and the Cal Poly LA Metro Program in Architecture and Urban Design are excited to host a presentation and discussion with Michael Osman. \n\nAbout Michael Osman \nMichael Osman is an Associate Professor and the Director of the Critical Studies and M.A./Ph.D programs at UCLA Architecture and Urban Design. His research in architectural history focuses on the modern period with a particular emphasis on the buildings and cities of the United States. He seeks connections between the infrastructure that undergirds the process of modernization and the historiography of modernist architecture. Some topics of his writing include: the early formation of ecological science and its influence on theories of city growth\, the study of the managerial instruments used for organizing and representing spaces for industrial production\, and the architectural profession’s relation to modern construction processes. In this expanded view of modernism’s history\, he identifies the contributions made by architects and urban thinkers to changes in the modes of life over the last two centuries. Osman’s book\, Modernism’s Visible Hand: Architecture and Regulation in America(University of Minnesota Press)\, focuses on the history of environmental and economic systems of regulation in the United States. A number of his essays address critical problems in modernism’s historiography. These include an examination of Reyner Banham’s use of the term “ecology” and an analysis of the metaphysical aspirations latent in some twentieth-century writings on concrete. Osman is a founding member of Aggregate: The Architectural History Collaborative\, a platform for exploring new methods in architectural history. He is currently chair of the Aggregate Board of Directors. \n\nIntroduced and moderated by Stephen Phillips\, AIA\, PhD\, Principal of Stephen Phillips Architects (SPARCHS) and professor\, director\, Cal Poly LA Metro Program in Architecture and Urban Design (California Polytechnic State University\, San Luis Obispo) \nFree Parking is available at the corner of Helms Ave. and Venice Blvd. \nPhotos courtesy of Michael Osman \n 
URL:https://helmsdesigndistrict.com/event/lecture-and-discussion-with-michael-osman/
LOCATION:Helms Design Center\, 8745 Washington Boulevard\, Culver City\, CA\, 90232
CATEGORIES:News
ATTACH;FMTTYPE=image/jpeg:https://helmsdesigndistrict.com/wp-content/uploads/2019/01/Osman_header_new.jpg
GEO:34.0286594;-118.3857496
X-APPLE-STRUCTURED-LOCATION;VALUE=URI;X-ADDRESS=Helms Design Center 8745 Washington Boulevard Culver City CA 90232;X-APPLE-RADIUS=500;X-TITLE=8745 Washington Boulevard:geo:-118.3857496,34.0286594
END:VEVENT
END:VCALENDAR