BEGIN:VCALENDAR
VERSION:2.0
PRODID:-//Helms Design District - ECPv6.15.18//NONSGML v1.0//EN
CALSCALE:GREGORIAN
METHOD:PUBLISH
X-ORIGINAL-URL:https://helmsdesigndistrict.com
X-WR-CALDESC:Events for Helms Design District
REFRESH-INTERVAL;VALUE=DURATION:PT1H
X-Robots-Tag:noindex
X-PUBLISHED-TTL:PT1H
BEGIN:VTIMEZONE
TZID:America/Los_Angeles
BEGIN:DAYLIGHT
TZOFFSETFROM:-0800
TZOFFSETTO:-0700
TZNAME:PDT
DTSTART:20230312T100000
END:DAYLIGHT
BEGIN:STANDARD
TZOFFSETFROM:-0700
TZOFFSETTO:-0800
TZNAME:PST
DTSTART:20231105T090000
END:STANDARD
BEGIN:DAYLIGHT
TZOFFSETFROM:-0800
TZOFFSETTO:-0700
TZNAME:PDT
DTSTART:20240310T100000
END:DAYLIGHT
BEGIN:STANDARD
TZOFFSETFROM:-0700
TZOFFSETTO:-0800
TZNAME:PST
DTSTART:20241103T090000
END:STANDARD
BEGIN:DAYLIGHT
TZOFFSETFROM:-0800
TZOFFSETTO:-0700
TZNAME:PDT
DTSTART:20250309T100000
END:DAYLIGHT
BEGIN:STANDARD
TZOFFSETFROM:-0700
TZOFFSETTO:-0800
TZNAME:PST
DTSTART:20251102T090000
END:STANDARD
END:VTIMEZONE
BEGIN:VEVENT
DTSTART;TZID=America/Los_Angeles:20240321T073000
DTEND;TZID=America/Los_Angeles:20240321T093000
DTSTAMP:20260423T231311
CREATED:20240305T214628Z
LAST-MODIFIED:20240827T142521Z
UID:10001871-1711006200-1711013400@helmsdesigndistrict.com
SUMMARY:Friend or Foe: How Will AI Affect Urban Development in LA?
DESCRIPTION:In 2024\, we find ourselves suddenly navigating the dynamics brought about by the swift proliferation of applied artificial intelligence. It has changed the conversation around inspired creativity\, technical prowess\, and even experience itself – nothing seems to be immune to the reach of AI-powered techniques. \nAt the same time\, our most urgent societal challenge is ensuring shelter for our unsheltered and housing insecure neighbors. Could AI technologies help us to accelerate development of housing for Los Angeles? Does AI help us to make better informed choices in urban planning? Is a rapid visualization of design concepts building a stronger community engagement? What are the opportunities that AI technologies offer – and what are the potential risks? \nJoin Westside Urban Forum on March 21 as our panelists bring diverse perspectives on the issue through their work in government\, public policy\, venture capital\, startups\, housing development\, and urban design. Our question to them was this: Does Artificial Intelligence/Machine Learning offer us a path to improve urban development? Come find out what the leading minds have to say. \nRSVP Required \nMEMBER TICKETS\nNONMEMBER TICKETS\nRegistration Fees\n$50 Members\n$65 Non-Members\n$10 Student Members & Retired Members\n$15 Student Non-Members & Retired Non-Members \nPre-registration closes on Wednesday\, March 20th.  After Wednesday\, March 20th\, onsite registration will be available at the cost of an additional $10.  No refunds or credits will be provided after this day. \nEvent Time\n7:45 am – 9:30 am\n7:45 am – Registration & Light Breakfast\n8:15 am – Panel Discussion \nContact\nSuzi Paine · info@westsideurbanforum.com · 310-283-2423
URL:https://helmsdesigndistrict.com/event/friend-or-foe-how-will-ai-affect-urban-development-in-la/
LOCATION:Helms Design Center\, 8745 Washington Boulevard\, Culver City\, CA\, 90232
ATTACH;FMTTYPE=image/png:https://helmsdesigndistrict.com/wp-content/uploads/2024/03/march-2024-event.png
GEO:34.0286594;-118.3857496
X-APPLE-STRUCTURED-LOCATION;VALUE=URI;X-ADDRESS=Helms Design Center 8745 Washington Boulevard Culver City CA 90232;X-APPLE-RADIUS=500;X-TITLE=8745 Washington Boulevard:geo:-118.3857496,34.0286594
END:VEVENT
END:VCALENDAR