BEGIN:VCALENDAR
VERSION:2.0
PRODID:-//Helms Design District - ECPv6.15.18//NONSGML v1.0//EN
CALSCALE:GREGORIAN
METHOD:PUBLISH
X-ORIGINAL-URL:https://helmsdesigndistrict.com
X-WR-CALDESC:Events for Helms Design District
REFRESH-INTERVAL;VALUE=DURATION:PT1H
X-Robots-Tag:noindex
X-PUBLISHED-TTL:PT1H
BEGIN:VTIMEZONE
TZID:America/Los_Angeles
BEGIN:DAYLIGHT
TZOFFSETFROM:-0800
TZOFFSETTO:-0700
TZNAME:PDT
DTSTART:20180311T100000
END:DAYLIGHT
BEGIN:STANDARD
TZOFFSETFROM:-0700
TZOFFSETTO:-0800
TZNAME:PST
DTSTART:20181104T090000
END:STANDARD
BEGIN:DAYLIGHT
TZOFFSETFROM:-0800
TZOFFSETTO:-0700
TZNAME:PDT
DTSTART:20190310T100000
END:DAYLIGHT
BEGIN:STANDARD
TZOFFSETFROM:-0700
TZOFFSETTO:-0800
TZNAME:PST
DTSTART:20191103T090000
END:STANDARD
BEGIN:DAYLIGHT
TZOFFSETFROM:-0800
TZOFFSETTO:-0700
TZNAME:PDT
DTSTART:20200308T100000
END:DAYLIGHT
BEGIN:STANDARD
TZOFFSETFROM:-0700
TZOFFSETTO:-0800
TZNAME:PST
DTSTART:20201101T090000
END:STANDARD
END:VTIMEZONE
BEGIN:VEVENT
DTSTART;TZID=America/Los_Angeles:20190427T160000
DTEND;TZID=America/Los_Angeles:20190427T180000
DTSTAMP:20260423T205708
CREATED:20190422T211122Z
LAST-MODIFIED:20190422T211122Z
UID:10000312-1556380800-1556388000@helmsdesigndistrict.com
SUMMARY:Arcana Books Hosts Public Issue 2 Launch Party + Signing
DESCRIPTION:Free\nOn Saturday\, April 27th between 4:00 and 6:00 PM\, please stop by Arcana: Books on the Arts to celebrate the West Coast launch of the latest installment of Creative Director Alexander McWhirter’s thematic annual art and fashion journal\, Public.  \nPresented in a distinctive large-format with three different cover options\, the highly-anticipated new issue tackles the challenge “We Must Take Action”. Public 2 features seven subjects photographed by Camille Vivier\, Jack Webb\, Eileen Cowin\, Thomas Giddings\, Aleksandra Zagozda\, Moises Saman\, and Rachel Lamb\, with styling by Delphine Danhier\, Eliza Conlon\, and Shibon Kennedy. Notes McWhirter: “The obvious is all around us. It is a void in which everything has been fine-tuned to such an extent that indistinctiveness prevails. “Cool” has become inoffensive and predictable\, and taste is easy to place a pulse on. Public breaks this pattern of democratized cool\, bringing together a body of work that covers a unique perspective on subjects in life.” \nOriginally from London\, Alexander McWhirter began his career in New York as the Art Director at V Magazine before founding McWhirter Studio. His projects focus on working closely with distinctive collaborators to present a narrative that observes human interaction\, be that with our environment or with each other. The story is woven together with elements from art and fashion\, the resulting idea is unmistakable and inclusive to all. He has collaborated with Visionaire\, Suzanne Geiss Gallery\, Cultural Traffic\, and Calvin Klein\, where he worked closely with Raf Simons and Pieter Mulier on 2017 campaigns for Calvin Klein Jeans\, Underwear\, and the 205W39NYC RTW Collection Book.
URL:https://helmsdesigndistrict.com/event/arcana-books-hosts-public-issue-2-launch-party-signing/
LOCATION:Arcana: Books on the Arts\, 8675 Washington Blvd.\, Culver City\, CA\, 90232
CATEGORIES:News
ATTACH;FMTTYPE=image/jpeg:https://helmsdesigndistrict.com/wp-content/uploads/2019/04/Arcana-19.04.27.jpg
GEO:34.0300679;-118.3835128
X-APPLE-STRUCTURED-LOCATION;VALUE=URI;X-ADDRESS=Arcana: Books on the Arts 8675 Washington Blvd. Culver City CA 90232;X-APPLE-RADIUS=500;X-TITLE=8675 Washington Blvd.:geo:-118.3835128,34.0300679
END:VEVENT
END:VCALENDAR