BEGIN:VCALENDAR
VERSION:2.0
PRODID:-//Helms Design District - ECPv6.15.18//NONSGML v1.0//EN
CALSCALE:GREGORIAN
METHOD:PUBLISH
X-WR-CALNAME:Helms Design District
X-ORIGINAL-URL:https://helmsdesigndistrict.com
X-WR-CALDESC:Events for Helms Design District
REFRESH-INTERVAL;VALUE=DURATION:PT1H
X-Robots-Tag:noindex
X-PUBLISHED-TTL:PT1H
BEGIN:VTIMEZONE
TZID:America/Los_Angeles
BEGIN:DAYLIGHT
TZOFFSETFROM:-0800
TZOFFSETTO:-0700
TZNAME:PDT
DTSTART:20230312T100000
END:DAYLIGHT
BEGIN:STANDARD
TZOFFSETFROM:-0700
TZOFFSETTO:-0800
TZNAME:PST
DTSTART:20231105T090000
END:STANDARD
BEGIN:DAYLIGHT
TZOFFSETFROM:-0800
TZOFFSETTO:-0700
TZNAME:PDT
DTSTART:20240310T100000
END:DAYLIGHT
BEGIN:STANDARD
TZOFFSETFROM:-0700
TZOFFSETTO:-0800
TZNAME:PST
DTSTART:20241103T090000
END:STANDARD
BEGIN:DAYLIGHT
TZOFFSETFROM:-0800
TZOFFSETTO:-0700
TZNAME:PDT
DTSTART:20250309T100000
END:DAYLIGHT
BEGIN:STANDARD
TZOFFSETFROM:-0700
TZOFFSETTO:-0800
TZNAME:PST
DTSTART:20251102T090000
END:STANDARD
END:VTIMEZONE
BEGIN:VEVENT
DTSTART;TZID=America/Los_Angeles:20240420T160000
DTEND;TZID=America/Los_Angeles:20240420T180000
DTSTAMP:20260423T193100
CREATED:20240417T210010Z
LAST-MODIFIED:20240417T212237Z
UID:10001890-1713628800-1713636000@helmsdesigndistrict.com
SUMMARY:Arcana Book Signing with Tim Street-Porter and Annie Kelly for City of Dreams: Los Angeles Interiors
DESCRIPTION:Free \n\nJoin Arcana: Books on the Arts on Saturday\, April 20th\, between 4:00 and 6:00 PM for a book signing with Annie Kelly and Tim Street-Porter to celebrate the publication of their latest sumptuous architecture and design survey\, City of Dreams: Los Angeles Interiors. \nIf you cannot attend and would like to order a signed copy to have shipped or to pick up at Arcana\, please place your order here! \nWe look forward to seeing you! \n\n“Los Angeles’ Tim Street-Porter has been chronicling this metropolis’ architecture and interiors for over twenty-five years. This stunning collection of inspiring homes begins with a look back\, which includes examples of iconic houses inspired by Hollywood film fantasies\, Modernist residences by such luminaries as John Lautner\, and Frank Gehry’s Deconstructivism-style home. The heart of the book features today’s forward-looking homes\, divided into two sections: Living with Art and Design and Los Angeles Modern. Antiquarian Joel Chen artfully blends an eye-catching collection of period furniture and Chinese objets while interior designer Jean-Louis Denoit’s house sparkles with a Tony Duquette gilded mirror and an abalone shell chandelier. Another trend is the renovation of modernist houses with a personal touch. Artist Mary Weatherford’s reworking of her A. Quincy Jones–designed home\, in collaboration with designer Oliver Furth\, has a striking orange bedroom. Illuminating Los Angeles’s dramatic indoor-outdoor living spaces\, this tome is a must-have for architecture and design enthusiasts.” \nTim Street-Porter is the renowned Los Angeles-based architecture and design photographer that has produced numerous books\, including L.A. Modern\, Palm Springs: Modernist Paradise\, Splash: The Art of the Swimming Pool\, and Casa Mexico. \nWriter and designer Annie Kelly is the author of the successful Rooms to Inspire series\, as well as Living in Paradise\, Splash: The Art of the Swimming Pool\, and Casa Mexico. She writes about lifestyle for such publications as Belle and The Los Angeles Times.
URL:https://helmsdesigndistrict.com/event/city-of-dreams/
LOCATION:Arcana: Books on the Arts\, 8675 Washington Blvd.\, Culver City\, CA\, 90232
CATEGORIES:News
ATTACH;FMTTYPE=image/jpeg:https://helmsdesigndistrict.com/wp-content/uploads/2024/04/AnnieKellyTimStreet-Porter_IGPost.jpg
GEO:34.0300679;-118.3835128
X-APPLE-STRUCTURED-LOCATION;VALUE=URI;X-ADDRESS=Arcana: Books on the Arts 8675 Washington Blvd. Culver City CA 90232;X-APPLE-RADIUS=500;X-TITLE=8675 Washington Blvd.:geo:-118.3835128,34.0300679
END:VEVENT
END:VCALENDAR