BEGIN:VCALENDAR
VERSION:2.0
PRODID:-//Helms Design District - ECPv6.15.18//NONSGML v1.0//EN
CALSCALE:GREGORIAN
METHOD:PUBLISH
X-ORIGINAL-URL:https://helmsdesigndistrict.com
X-WR-CALDESC:Events for Helms Design District
REFRESH-INTERVAL;VALUE=DURATION:PT1H
X-Robots-Tag:noindex
X-PUBLISHED-TTL:PT1H
BEGIN:VTIMEZONE
TZID:America/Los_Angeles
BEGIN:DAYLIGHT
TZOFFSETFROM:-0800
TZOFFSETTO:-0700
TZNAME:PDT
DTSTART:20170312T100000
END:DAYLIGHT
BEGIN:STANDARD
TZOFFSETFROM:-0700
TZOFFSETTO:-0800
TZNAME:PST
DTSTART:20171105T090000
END:STANDARD
BEGIN:DAYLIGHT
TZOFFSETFROM:-0800
TZOFFSETTO:-0700
TZNAME:PDT
DTSTART:20180311T100000
END:DAYLIGHT
BEGIN:STANDARD
TZOFFSETFROM:-0700
TZOFFSETTO:-0800
TZNAME:PST
DTSTART:20181104T090000
END:STANDARD
BEGIN:DAYLIGHT
TZOFFSETFROM:-0800
TZOFFSETTO:-0700
TZNAME:PDT
DTSTART:20190310T100000
END:DAYLIGHT
BEGIN:STANDARD
TZOFFSETFROM:-0700
TZOFFSETTO:-0800
TZNAME:PST
DTSTART:20191103T090000
END:STANDARD
END:VTIMEZONE
BEGIN:VEVENT
DTSTART;TZID=America/Los_Angeles:20180407T170000
DTEND;TZID=America/Los_Angeles:20180407T210000
DTSTAMP:20260423T221609
CREATED:20180328T232627Z
LAST-MODIFIED:20180413T221046Z
UID:10000101-1523120400-1523134800@helmsdesigndistrict.com
SUMMARY:An International Art Exhibition Comes to the Helms Design Center
DESCRIPTION:Free\nOn Saturday\, April 7 from 5 to 9 pm\, please join us for the opening reception of Bridges between Continents & Memories/ Passerelles entre Continents et Souvenirs\, an International exchange exhibition inside the Helms Design Center. \nBridges between Continents & Memories is a collection of works from three American and four French artists using photographic images as source to create contemporary mixed media pieces dealing with memory and modernity. \nAmerican artists worked closely with the French organization\, Les Seize Agnes\, to strengthen the artistic dialogue between International artists. This collection of work was originally exhibited in France in 2016 at the Marie de Paris 8th\, and the Mu Gallery in Paris. In 2017 Bridges between Continents was exhibited at St Glidas de Rhuys in the Mayors Gallery in Brittany\, and will be presented at Helms Bakery from April 6 – 17\, 2018 by appointment only. \nCalifornia artists include Rachel X Hobreigh\, Cris Orfescu\, and Debra Dobkin. French artists include Renée Amitai\, Jean Pierre Mosca\, Patrick Dunand\, and François De Verdière. \nFor more information about the artists and exhibition\, please contact: Rachel X Hobreigh\, 310 850-8140. \n 
URL:https://helmsdesigndistrict.com/event/an-international-art-exhibition-comes-to-the-helms-design-center/
LOCATION:Helms Design Center\, 8745 Washington Boulevard\, Culver City\, CA\, 90232
CATEGORIES:News
ATTACH;FMTTYPE=image/jpeg:https://helmsdesigndistrict.com/wp-content/uploads/2018/03/Bridges-Poster.jpg
GEO:34.0286594;-118.3857496
X-APPLE-STRUCTURED-LOCATION;VALUE=URI;X-ADDRESS=Helms Design Center 8745 Washington Boulevard Culver City CA 90232;X-APPLE-RADIUS=500;X-TITLE=8745 Washington Boulevard:geo:-118.3857496,34.0286594
END:VEVENT
END:VCALENDAR