BEGIN:VCALENDAR
VERSION:2.0
PRODID:-//Helms Design District - ECPv6.15.18//NONSGML v1.0//EN
CALSCALE:GREGORIAN
METHOD:PUBLISH
X-ORIGINAL-URL:https://helmsdesigndistrict.com
X-WR-CALDESC:Events for Helms Design District
REFRESH-INTERVAL;VALUE=DURATION:PT1H
X-Robots-Tag:noindex
X-PUBLISHED-TTL:PT1H
BEGIN:VTIMEZONE
TZID:America/Los_Angeles
BEGIN:DAYLIGHT
TZOFFSETFROM:-0800
TZOFFSETTO:-0700
TZNAME:PDT
DTSTART:20240310T100000
END:DAYLIGHT
BEGIN:STANDARD
TZOFFSETFROM:-0700
TZOFFSETTO:-0800
TZNAME:PST
DTSTART:20241103T090000
END:STANDARD
BEGIN:DAYLIGHT
TZOFFSETFROM:-0800
TZOFFSETTO:-0700
TZNAME:PDT
DTSTART:20250309T100000
END:DAYLIGHT
BEGIN:STANDARD
TZOFFSETFROM:-0700
TZOFFSETTO:-0800
TZNAME:PST
DTSTART:20251102T090000
END:STANDARD
BEGIN:DAYLIGHT
TZOFFSETFROM:-0800
TZOFFSETTO:-0700
TZNAME:PDT
DTSTART:20260308T100000
END:DAYLIGHT
BEGIN:STANDARD
TZOFFSETFROM:-0700
TZOFFSETTO:-0800
TZNAME:PST
DTSTART:20261101T090000
END:STANDARD
END:VTIMEZONE
BEGIN:VEVENT
DTSTART;TZID=America/Los_Angeles:20251026T160000
DTEND;TZID=America/Los_Angeles:20251026T180000
DTSTAMP:20260423T192108
CREATED:20251023T202554Z
LAST-MODIFIED:20251024T004810Z
UID:10001989-1761494400-1761501600@helmsdesigndistrict.com
SUMMARY:Book Signing with Photographer STILLZ at Arcana Books
DESCRIPTION:Stop in Arcana: Books on the Arts this Sunday\, October 26 from 4:00 to 6:00 pm for a special book signing with photographer STILLZ. \n“Bad Bunny by STILLZ is a recently published photography collection showcasing six years of close-up portraits of the Puerto Rican icon. This volume is the work of Colombian-American filmmaker and photographer STILLZ\, a longtime collaborator and trusted confidant of the artist”. \nA brand new example of the first edition of this fantastic\, sure-to-disappear-quickly collection of Polaroid portraits perfect for the Bad Bunny completist additionally SIGNED by photographer STILLZ. \n\n		\n	 \n \n	\n		\n			PURCHASE THE BOOK
URL:https://helmsdesigndistrict.com/event/book-signing-with-photographer-stillz-at-arcana-books/
LOCATION:Arcana: Books on the Arts\, 8675 Washington Blvd.\, Culver City\, CA\, 90232
CATEGORIES:News
ATTACH;FMTTYPE=image/jpeg:https://helmsdesigndistrict.com/wp-content/uploads/2025/10/Stillz_BadBunny_Site.jpg
GEO:34.0300679;-118.3835128
X-APPLE-STRUCTURED-LOCATION;VALUE=URI;X-ADDRESS=Arcana: Books on the Arts 8675 Washington Blvd. Culver City CA 90232;X-APPLE-RADIUS=500;X-TITLE=8675 Washington Blvd.:geo:-118.3835128,34.0300679
END:VEVENT
END:VCALENDAR