BEGIN:VCALENDAR
VERSION:2.0
PRODID:-//Helms Design District - ECPv6.15.18//NONSGML v1.0//EN
CALSCALE:GREGORIAN
METHOD:PUBLISH
X-ORIGINAL-URL:https://helmsdesigndistrict.com
X-WR-CALDESC:Events for Helms Design District
REFRESH-INTERVAL;VALUE=DURATION:PT1H
X-Robots-Tag:noindex
X-PUBLISHED-TTL:PT1H
BEGIN:VTIMEZONE
TZID:America/Los_Angeles
BEGIN:DAYLIGHT
TZOFFSETFROM:-0800
TZOFFSETTO:-0700
TZNAME:PDT
DTSTART:20180311T100000
END:DAYLIGHT
BEGIN:STANDARD
TZOFFSETFROM:-0700
TZOFFSETTO:-0800
TZNAME:PST
DTSTART:20181104T090000
END:STANDARD
BEGIN:DAYLIGHT
TZOFFSETFROM:-0800
TZOFFSETTO:-0700
TZNAME:PDT
DTSTART:20190310T100000
END:DAYLIGHT
BEGIN:STANDARD
TZOFFSETFROM:-0700
TZOFFSETTO:-0800
TZNAME:PST
DTSTART:20191103T090000
END:STANDARD
BEGIN:DAYLIGHT
TZOFFSETFROM:-0800
TZOFFSETTO:-0700
TZNAME:PDT
DTSTART:20200308T100000
END:DAYLIGHT
BEGIN:STANDARD
TZOFFSETFROM:-0700
TZOFFSETTO:-0800
TZNAME:PST
DTSTART:20201101T090000
END:STANDARD
END:VTIMEZONE
BEGIN:VEVENT
DTSTART;TZID=America/Los_Angeles:20190907T160000
DTEND;TZID=America/Los_Angeles:20190907T180000
DTSTAMP:20260423T220319
CREATED:20190826T220326Z
LAST-MODIFIED:20190826T220326Z
UID:10000324-1567872000-1567879200@helmsdesigndistrict.com
SUMMARY:Arcana Books Welcomes Billy Al Bengston and Joan Agajanian Quinn on September 7th
DESCRIPTION:Free\nOn Saturday\, September 7th from 4:00 to 6:00 pm\, stop by Arcana: Books on the Arts for a book signing and Q & A with Billy Al Bengston\, moderated by Joan Agajanian Quinn. \nFor more than sixty years Billy Al Bengston has been an innovative and integral part of the Southern California cultural scene. A member of the original group of Los Angeles artists to exhibit at Ferus Gallery\, Mr. Bengston has made a name for himself over the decades in the varied worlds of contemporary art\, surfing\, and dirt-track motorcycle racing. From his early Dentos and Finish / Fetish pieces to delicate watercolors of Dracula bearded irises and beyond\, his work remains remarkably vibrant and ever-inventive. He has been the subject of several major museum retrospectives\, but until now there has never been a single comprehensive book to fully do justice to his prolific body of work. \nAt long last\, from Galerie Neuendorf comes that tome – Billy Al Bengston: Paintings & Watercolors! This lavishly illustrated hardbound volume features hundreds of works spanning 1957 through 2016\, and contains a detailed chronology\, exhibition history\, bibliography\, collections listing\, and more.
URL:https://helmsdesigndistrict.com/event/arcana-books-welcomes-billy-al-bengston-and-joan-agajanian-quinn-on-september-7th/
LOCATION:Arcana: Books on the Arts\, 8675 Washington Blvd.\, Culver City\, CA\, 90232
CATEGORIES:News
ATTACH;FMTTYPE=image/jpeg:https://helmsdesigndistrict.com/wp-content/uploads/2019/08/Arcana-19.09.07.jpg
GEO:34.0300679;-118.3835128
X-APPLE-STRUCTURED-LOCATION;VALUE=URI;X-ADDRESS=Arcana: Books on the Arts 8675 Washington Blvd. Culver City CA 90232;X-APPLE-RADIUS=500;X-TITLE=8675 Washington Blvd.:geo:-118.3835128,34.0300679
END:VEVENT
END:VCALENDAR