BEGIN:VCALENDAR
VERSION:2.0
PRODID:-//Helms Design District - ECPv6.15.18//NONSGML v1.0//EN
CALSCALE:GREGORIAN
METHOD:PUBLISH
X-WR-CALNAME:Helms Design District
X-ORIGINAL-URL:https://helmsdesigndistrict.com
X-WR-CALDESC:Events for Helms Design District
REFRESH-INTERVAL;VALUE=DURATION:PT1H
X-Robots-Tag:noindex
X-PUBLISHED-TTL:PT1H
BEGIN:VTIMEZONE
TZID:America/Los_Angeles
BEGIN:DAYLIGHT
TZOFFSETFROM:-0800
TZOFFSETTO:-0700
TZNAME:PDT
DTSTART:20240310T100000
END:DAYLIGHT
BEGIN:STANDARD
TZOFFSETFROM:-0700
TZOFFSETTO:-0800
TZNAME:PST
DTSTART:20241103T090000
END:STANDARD
BEGIN:DAYLIGHT
TZOFFSETFROM:-0800
TZOFFSETTO:-0700
TZNAME:PDT
DTSTART:20250309T100000
END:DAYLIGHT
BEGIN:STANDARD
TZOFFSETFROM:-0700
TZOFFSETTO:-0800
TZNAME:PST
DTSTART:20251102T090000
END:STANDARD
BEGIN:DAYLIGHT
TZOFFSETFROM:-0800
TZOFFSETTO:-0700
TZNAME:PDT
DTSTART:20260308T100000
END:DAYLIGHT
BEGIN:STANDARD
TZOFFSETFROM:-0700
TZOFFSETTO:-0800
TZNAME:PST
DTSTART:20261101T090000
END:STANDARD
END:VTIMEZONE
BEGIN:VEVENT
DTSTART;TZID=America/Los_Angeles:20250605T183000
DTEND;TZID=America/Los_Angeles:20250605T203000
DTSTAMP:20260423T204222
CREATED:20250522T230209Z
LAST-MODIFIED:20250602T183828Z
UID:10001965-1749148200-1749155400@helmsdesigndistrict.com
SUMMARY:A reception\, lecture\, and Q+A discussion with Leon Rost\, AIA of BIG | Bjarke Ingels Group
DESCRIPTION:Please join us on Thursday\, June 5th\, 6:30-8:30 pm\, for a reception\, lecture\, and Q+A discussion with Leon Rost\, Partner at Bjarke Ingels Group (BIG).\nIn collaboration with the Helms Design District and the Cal Poly SLO/LA Metro Program in Architecture and Urban Design \nHelms Design Center        \n8745 Washington Blvd.\, Culver City\, CA 90232 \nFree Parking is available at the corner of Helms Ave. and Venice Blvd. \nLecture is Free and Open to the Public with RSVP \n\n		\n	 \n \n	\n		\n		\n		\n	 \n \n	\n		\n			\nLeon Rost\, AIA is a Partner at Bjarke Ingels Group (BIG) and leads the Los Angeles office\, overseeing projects that span large-scale masterplans\, workplaces\, higher education\, and residential design.\nHe oversaw the design of 3 million square feet within Google’s next-generation campus—home to Google Gemini—reimagining the Silicon Valley workplace as a flexible\, sustainable\, and human-centered environment. He also played a key role in the Athletics Ballpark Masterplan\, shaping a vision for an integrated sports district. Additionally\, Leon led the visioning of Toyota’s Woven City\, a prototype smart city exploring the future of mobility\, robotics\, and urban life. \nHis expertise in institutional and campus planning includes work on the UC San Diego and Claremont McKenna College campuses\, integrating architecture with campus design. His leadership on the Johns Hopkins University Student Center\, the university’s first mass timber structure\, has shaped a dynamic hub for academic and social life. \nBeyond large-scale projects\, Leon has a strong focus on residential and hospitality design. His work on private homes along the Pacific Coast and Not A Hotel in Setouchi\, Japan\, creates bespoke spaces deeply connected to their surroundings. \nLeon’s projects shape how people live\, learn\, work\, and gather\, from urban-scale developments to private homes. \n\nIntroduced and moderated by Stephen Phillips\, FAIA\, PhD\, of Stephen Phillips Architects (SPARCHS) and professor\, director\, Cal Poly LA Metro Program in Architecture and Urban Design (California Polytechnic State University\, San Luis Obispo). \n\n		\n	 \n \n	\n		\n			\nPhotos: (Top) Google Bay View © Iwan Baan; (Above\, left to right) Leon Rost © Bruce Damonte; Toyota Woven City © Squint Opera Ltd; (Below) Johns Hopkins Student Center ©BIG \n\n		\n	 \n \n	\n		\n		\n		\n	 \n \n	\n		\n		\n		\n	 \n \n	\n		\n			\nSPONSORED BY
URL:https://helmsdesigndistrict.com/event/a-reception-lecture-and-qa-discussion-with-leon-rost-of-big/
LOCATION:Helms Design Center\, 8745 Washington Boulevard\, Culver City\, CA\, 90232
CATEGORIES:News
ATTACH;FMTTYPE=image/jpeg:https://helmsdesigndistrict.com/wp-content/uploads/2025/06/Google-Bay-View_Iwan-Baan_1200px.jpg
GEO:34.0286594;-118.3857496
X-APPLE-STRUCTURED-LOCATION;VALUE=URI;X-ADDRESS=Helms Design Center 8745 Washington Boulevard Culver City CA 90232;X-APPLE-RADIUS=500;X-TITLE=8745 Washington Boulevard:geo:-118.3857496,34.0286594
END:VEVENT
END:VCALENDAR