BEGIN:VCALENDAR
VERSION:2.0
PRODID:-//Helms Design District - ECPv6.15.18//NONSGML v1.0//EN
CALSCALE:GREGORIAN
METHOD:PUBLISH
X-WR-CALNAME:Helms Design District
X-ORIGINAL-URL:https://helmsdesigndistrict.com
X-WR-CALDESC:Events for Helms Design District
REFRESH-INTERVAL;VALUE=DURATION:PT1H
X-Robots-Tag:noindex
X-PUBLISHED-TTL:PT1H
BEGIN:VTIMEZONE
TZID:America/Los_Angeles
BEGIN:DAYLIGHT
TZOFFSETFROM:-0800
TZOFFSETTO:-0700
TZNAME:PDT
DTSTART:20250309T100000
END:DAYLIGHT
BEGIN:STANDARD
TZOFFSETFROM:-0700
TZOFFSETTO:-0800
TZNAME:PST
DTSTART:20251102T090000
END:STANDARD
BEGIN:DAYLIGHT
TZOFFSETFROM:-0800
TZOFFSETTO:-0700
TZNAME:PDT
DTSTART:20260308T100000
END:DAYLIGHT
BEGIN:STANDARD
TZOFFSETFROM:-0700
TZOFFSETTO:-0800
TZNAME:PST
DTSTART:20261101T090000
END:STANDARD
BEGIN:DAYLIGHT
TZOFFSETFROM:-0800
TZOFFSETTO:-0700
TZNAME:PDT
DTSTART:20270314T100000
END:DAYLIGHT
BEGIN:STANDARD
TZOFFSETFROM:-0700
TZOFFSETTO:-0800
TZNAME:PST
DTSTART:20271107T090000
END:STANDARD
END:VTIMEZONE
BEGIN:VEVENT
DTSTART;TZID=America/Los_Angeles:20260325T170000
DTEND;TZID=America/Los_Angeles:20260325T200000
DTSTAMP:20260420T222417
CREATED:20260305T221710Z
LAST-MODIFIED:20260319T195251Z
UID:10002008-1774458000-1774468800@helmsdesigndistrict.com
SUMMARY:Skip the Traffic. Find your Vibe.
DESCRIPTION:Why sit in 5:00 pm gridlock when you could be on Helms Avenue? On Wednesday\, March 25th\, join us for Vibes After 5\, an after-work party hosted by Helms Design District in partnership with the City of Culver City\, designed to bring the community together for music\, food\, drinks\, and connection. As the days grow longer\, we’re creating space to stay local\, unwind\, and celebrate the start of the season. \nFrom 5 pm to 8 pm\, enjoy: \nKCRW curated music with DJ Novena Carmel\nSweet treats from Pasta Sisters\nFather’s Office mocktails\nA mini Sunshine Makers Market\nTarot Lounge & Boho Photo Booth\nA fun workshop with artist\, Jeff Morrical\nLocal bites\, after-hours energy and so much more! \nMore sunlight. More music. More community.
URL:https://helmsdesigndistrict.com/event/skip-the-traffic-find-your-vibe/
LOCATION:Helms Design Center\, 8745 Washington Boulevard\, Culver City\, CA\, 90232
CATEGORIES:News
ATTACH;FMTTYPE=image/jpeg:https://helmsdesigndistrict.com/wp-content/uploads/2026/03/Vibes-After-5-Helms-Design-District-with-Logos.jpg
GEO:34.0286594;-118.3857496
X-APPLE-STRUCTURED-LOCATION;VALUE=URI;X-ADDRESS=Helms Design Center 8745 Washington Boulevard Culver City CA 90232;X-APPLE-RADIUS=500;X-TITLE=8745 Washington Boulevard:geo:-118.3857496,34.0286594
END:VEVENT
END:VCALENDAR