BEGIN:VCALENDAR
VERSION:2.0
PRODID:-//Helms Design District - ECPv6.15.18//NONSGML v1.0//EN
CALSCALE:GREGORIAN
METHOD:PUBLISH
X-WR-CALNAME:Helms Design District
X-ORIGINAL-URL:https://helmsdesigndistrict.com
X-WR-CALDESC:Events for Helms Design District
REFRESH-INTERVAL;VALUE=DURATION:PT1H
X-Robots-Tag:noindex
X-PUBLISHED-TTL:PT1H
BEGIN:VTIMEZONE
TZID:America/Los_Angeles
BEGIN:DAYLIGHT
TZOFFSETFROM:-0800
TZOFFSETTO:-0700
TZNAME:PDT
DTSTART:20160313T100000
END:DAYLIGHT
BEGIN:STANDARD
TZOFFSETFROM:-0700
TZOFFSETTO:-0800
TZNAME:PST
DTSTART:20161106T090000
END:STANDARD
BEGIN:DAYLIGHT
TZOFFSETFROM:-0800
TZOFFSETTO:-0700
TZNAME:PDT
DTSTART:20170312T100000
END:DAYLIGHT
BEGIN:STANDARD
TZOFFSETFROM:-0700
TZOFFSETTO:-0800
TZNAME:PST
DTSTART:20171105T090000
END:STANDARD
BEGIN:DAYLIGHT
TZOFFSETFROM:-0800
TZOFFSETTO:-0700
TZNAME:PDT
DTSTART:20180311T100000
END:DAYLIGHT
BEGIN:STANDARD
TZOFFSETFROM:-0700
TZOFFSETTO:-0800
TZNAME:PST
DTSTART:20181104T090000
END:STANDARD
BEGIN:DAYLIGHT
TZOFFSETFROM:-0800
TZOFFSETTO:-0700
TZNAME:PDT
DTSTART:20190310T100000
END:DAYLIGHT
BEGIN:STANDARD
TZOFFSETFROM:-0700
TZOFFSETTO:-0800
TZNAME:PST
DTSTART:20191103T090000
END:STANDARD
BEGIN:DAYLIGHT
TZOFFSETFROM:-0800
TZOFFSETTO:-0700
TZNAME:PDT
DTSTART:20200308T100000
END:DAYLIGHT
BEGIN:STANDARD
TZOFFSETFROM:-0700
TZOFFSETTO:-0800
TZNAME:PST
DTSTART:20201101T090000
END:STANDARD
BEGIN:DAYLIGHT
TZOFFSETFROM:-0800
TZOFFSETTO:-0700
TZNAME:PDT
DTSTART:20210314T100000
END:DAYLIGHT
BEGIN:STANDARD
TZOFFSETFROM:-0700
TZOFFSETTO:-0800
TZNAME:PST
DTSTART:20211107T090000
END:STANDARD
BEGIN:DAYLIGHT
TZOFFSETFROM:-0800
TZOFFSETTO:-0700
TZNAME:PDT
DTSTART:20220313T100000
END:DAYLIGHT
BEGIN:STANDARD
TZOFFSETFROM:-0700
TZOFFSETTO:-0800
TZNAME:PST
DTSTART:20221106T090000
END:STANDARD
END:VTIMEZONE
BEGIN:VEVENT
DTSTART;TZID=America/Los_Angeles:20210919T100000
DTEND;TZID=America/Los_Angeles:20210919T160000
DTSTAMP:20260423T231118
CREATED:20210821T185809Z
LAST-MODIFIED:20210821T191147Z
UID:10000443-1632045600-1632067200@helmsdesigndistrict.com
SUMMARY:Meditative Block Printing with Dusty Guerra
DESCRIPTION:Textile Arts | Los Angeles invites you to Meditative Block Printing with Dusty Guerra  \nSunday\, September 19th\, 10 am – 4 pm\, at the Helms Design Center \nIn this workshop\, participants will learn an alternative approach to relief printmaking utilizing a press-less printing method while discovering a repetitive process that will calm the mind and enrich a creative outlet. You will explore and develop your own motifs\, either from imagination or in reference to cultural narratives. Learn to work with alternative materials and techniques to design\, transfer\, carve\, register\, print\, and clean up. You will engage in a studio practice that will emphasize textile printing and pattern making. \nThere will be opportunity to explore and experiment as a way to develop a series of design networks. The motifs will first be test printed on cotton rag paper and once further developed\, the patterns may then be printed onto fabric (Participants are welcome to bring personal garments and pre-washed fabrics to be printed on). We will be using traditional printmaking inks and learn the basics of preparing ink and charging brayers for inking of the blocks — as well as how to efficiently clean up/conserve materials as a way to learn proper printmaking etiquette. \nDusty Guerra is a Xicano artist\, printmaker\, and educator based in Southern California. As a first generation artist\, Guerra explores family heritage and traditions to further investigate the origins of his Mexicanidad. Guerra’s art practice is managing the creation of a non-verbal\, spiritual language of symbols and motifs rooted in native belief systems and histories of migration. He holds a BFA in Traditional Printmaking and has been teaching printmaking to underserved communities in Los Angeles for the past 6 years. \nMORE INFO \n 
URL:https://helmsdesigndistrict.com/event/meditative-block-printing/
LOCATION:Helms Design Center\, 8745 Washington Boulevard\, Culver City\, CA\, 90232
CATEGORIES:News
ATTACH;FMTTYPE=image/jpeg:https://helmsdesigndistrict.com/wp-content/uploads/2021/08/dusty_tailor_workshop_1200px.jpg
GEO:34.0286594;-118.3857496
X-APPLE-STRUCTURED-LOCATION;VALUE=URI;X-ADDRESS=Helms Design Center 8745 Washington Boulevard Culver City CA 90232;X-APPLE-RADIUS=500;X-TITLE=8745 Washington Boulevard:geo:-118.3857496,34.0286594
END:VEVENT
BEGIN:VEVENT
DTSTART;TZID=America/Los_Angeles:20171202T100000
DTEND;TZID=America/Los_Angeles:20171202T160000
DTSTAMP:20260423T231119
CREATED:20171127T182213Z
LAST-MODIFIED:20171127T182213Z
UID:10000200-1512208800-1512230400@helmsdesigndistrict.com
SUMMARY:Block Printing + Sewing Workshop at Helms Bakery District
DESCRIPTION:On Saturday\, December 2nd from 10 am to 4 pm\, please join us in welcoming Akogare Trading Co. for a one-day-only Block Printing + Sewing Workshop.  \n In the morning\, fiber artist and educator Carrie Burckle will introduce block printing techniques on unfinished textiles. Students will design and carve their own foam blocks\, then experiment with color and pattern. Come afternoon\, students will work with fashion designer and master sewer Yoshimi Radstrom of Kaban+ to transform their newly printed textile into a finished piece or pieces. Patterns will be available for an apron\, simple wrap shirts\, scarf\, or simple zippered or drawstring pouches. Students may also bring their own fabric (natural fibers only) if they’d like to experiment with overprinting. \nWe’ll supply the raw materials you’ll need\, including a selection of zippers and cording – as well as a light lunch\, beverages\, and great conversation! $50 material fee payable to instructors at the class. \nThis class is for beginning and intermediate students. Click HERE to register.  \nFee: $150 \nPLEASE READ THE DISCLAIMER HERE.  No refunds will be honored within 24 hours of the beginning of the workshop.
URL:https://helmsdesigndistrict.com/event/block-printing-sewing-workshop-at-helms-bakery-district/
LOCATION:Helms Design Center\, 8745 Washington Boulevard\, Culver City\, CA\, 90232
CATEGORIES:News
ATTACH;FMTTYPE=image/png:https://helmsdesigndistrict.com/wp-content/uploads/2017/11/all-day.workshop_17.12.02.png
GEO:34.0286594;-118.3857496
X-APPLE-STRUCTURED-LOCATION;VALUE=URI;X-ADDRESS=Helms Design Center 8745 Washington Boulevard Culver City CA 90232;X-APPLE-RADIUS=500;X-TITLE=8745 Washington Boulevard:geo:-118.3857496,34.0286594
END:VEVENT
END:VCALENDAR