BEGIN:VCALENDAR
VERSION:2.0
PRODID:-//Helms Design District - ECPv6.15.18//NONSGML v1.0//EN
CALSCALE:GREGORIAN
METHOD:PUBLISH
X-WR-CALNAME:Helms Design District
X-ORIGINAL-URL:https://helmsdesigndistrict.com
X-WR-CALDESC:Events for Helms Design District
REFRESH-INTERVAL;VALUE=DURATION:PT1H
X-Robots-Tag:noindex
X-PUBLISHED-TTL:PT1H
BEGIN:VTIMEZONE
TZID:America/Los_Angeles
BEGIN:DAYLIGHT
TZOFFSETFROM:-0800
TZOFFSETTO:-0700
TZNAME:PDT
DTSTART:20200308T100000
END:DAYLIGHT
BEGIN:STANDARD
TZOFFSETFROM:-0700
TZOFFSETTO:-0800
TZNAME:PST
DTSTART:20201101T090000
END:STANDARD
BEGIN:DAYLIGHT
TZOFFSETFROM:-0800
TZOFFSETTO:-0700
TZNAME:PDT
DTSTART:20210314T100000
END:DAYLIGHT
BEGIN:STANDARD
TZOFFSETFROM:-0700
TZOFFSETTO:-0800
TZNAME:PST
DTSTART:20211107T090000
END:STANDARD
BEGIN:DAYLIGHT
TZOFFSETFROM:-0800
TZOFFSETTO:-0700
TZNAME:PDT
DTSTART:20220313T100000
END:DAYLIGHT
BEGIN:STANDARD
TZOFFSETFROM:-0700
TZOFFSETTO:-0800
TZNAME:PST
DTSTART:20221106T090000
END:STANDARD
END:VTIMEZONE
BEGIN:VEVENT
DTSTART;TZID=America/Los_Angeles:20210817T190000
DTEND;TZID=America/Los_Angeles:20210817T203000
DTSTAMP:20260423T235724
CREATED:20210317T210603Z
LAST-MODIFIED:20210328T225244Z
UID:10000421-1629226800-1629232200@helmsdesigndistrict.com
SUMMARY:Reading Materials\, A Book Club Hosted by Textile Arts
DESCRIPTION:Textile Arts | Los Angeles invites you to join READING MATERIALS\, a book club with an art and material focus. We will be reading books about the artist’s life\, about ways of seeing and reasons for making\, and about our inextricable relationship with material. The titles and conversations should appeal to all creatives\, regardless of medium. Offered in partnership with Studio203\, an art gallery / creative space in Mar Vista\, they will gather on Tuesdays at 7pm. Admission free for members; $40 for the public (for the year). Please consider purchasing your books from Arcana: Books on the Arts in Culver City\, or your favorite local indie shop\, or bookshop.org \nOn Tuesday August 17th from  7:00 – 8:30pm the book selection is CRAFT: AN AMERICAN HISTORY by Glen Adamson\nA groundbreaking and endlessly surprising history of how artisans created America\, from the nation’s origins to the present day. \nJOIN THE CLUB! \nAt the center of the United States’ economic and social development\, according to conventional wisdom\, are industry and technology-while craftspeople and handmade objects are relegated to a bygone past. Renowned historian Glenn Adamson turns that narrative on its head in this innovative account\, revealing makers’ central role in shaping America’s identity. Examine any phase of the nation’s struggle to define itself\, and artisans are there-from the silversmith Paul Revere and the revolutionary carpenters and blacksmiths who hurled tea into Boston Harbor\, to today’s “maker movement.” From Mother Jones to Rosie the Riveter. From Betsy Ross to Rosa Parks. From suffrage banners to the AIDS Quilt.
URL:https://helmsdesigndistrict.com/event/reading-materials-a-book-club-hosted-by-textile-arts-081721/
LOCATION:Zoom\, CA
CATEGORIES:News
ATTACH;FMTTYPE=image/jpeg:https://helmsdesigndistrict.com/wp-content/uploads/2021/03/Book-Club-web.jpg
END:VEVENT
BEGIN:VEVENT
DTSTART;TZID=America/Los_Angeles:20210518T190000
DTEND;TZID=America/Los_Angeles:20210518T203000
DTSTAMP:20260423T235724
CREATED:20210317T211158Z
LAST-MODIFIED:20210328T225226Z
UID:10000422-1621364400-1621369800@helmsdesigndistrict.com
SUMMARY:Reading Materials\, A Book Club Hosted by Textile Arts
DESCRIPTION:Textile Arts | Los Angeles invites you to join READING MATERIALS\, a book club with an art and material focus. We will be reading books about the artist’s life\, about ways of seeing and reasons for making\, and about our inextricable relationship with material. The titles and conversations should appeal to all creatives\, regardless of medium. Offered in partnership with Studio203\, an art gallery / creative space in Mar Vista\, they will gather on Tuesdays at 7pm. Admission free for members; $40 for the public (for the year). Please consider purchasing your books from Arcana: Books on the Arts in Culver City\, or your favorite local indie shop\, or bookshop.org \nOn Tuesday May 18th from  7:00 – 8:30pm the book selection is THE CREATIVE HABIT: LEARN IT AND USE IT FOR LIFE by Twyla Tharp. JOIN THE CLUB! \nAll it takes to make creativity a part of your life is the willingness to make it a habit. It is the product of preparation and effort\, and is within reach of everyone. Whether you are a painter\, musician\, businessperson\, or simply an individual yearning to put your creativity to use\, The Creative Habit provides you with thirty-two practical exercises based on the lessons Twyla Tharp has learned in her remarkable thirty-five-year career.
URL:https://helmsdesigndistrict.com/event/reading-materials-a-book-club-hosted-by-textile-arts-031721/
LOCATION:Zoom\, CA
CATEGORIES:News
ATTACH;FMTTYPE=image/jpeg:https://helmsdesigndistrict.com/wp-content/uploads/2021/03/Book-Club-web.jpg
END:VEVENT
BEGIN:VEVENT
DTSTART;TZID=America/Los_Angeles:20210316T190000
DTEND;TZID=America/Los_Angeles:20210316T203000
DTSTAMP:20260423T235724
CREATED:20210317T210530Z
LAST-MODIFIED:20210317T211053Z
UID:10000420-1615921200-1615926600@helmsdesigndistrict.com
SUMMARY:Reading Materials\, A Book Club Hosted by Textile Arts
DESCRIPTION:Textile Arts | Los Angeles invites you to join READING MATERIALS\, a book club with an art and material focus. We will be reading books about the artist’s life\, about ways of seeing and reasons for making\, and about our inextricable relationship with material. The titles and conversations should appeal to all creatives\, regardless of medium. Offered in partnership with Studio203\, an art gallery / creative space in Mar Vista\, they will gather on Tuesdays at 7pm. Admission free for members; $40 for the public (for the year). Please consider purchasing your books from Arcana: Books on the Arts in Culver City\, or your favorite local indie shop\, or bookshop.org \nOn Tuesday March 16th from  7:00 – 8:30pm the book selection is ART & FEAR: OBSERVATIONS ON THE PERILS (AND REWARDS) OF ARTMAKING by Ted Orland\, and David Bayles \nArt & Fear explores the way art gets made\, the reasons it often doesn’t get made\, and the nature of the difficulties that cause so many artists to give up along the way. This is an old favorite\, and a quick read (and worth re-reading several times). \nJOIN THE CLUB!
URL:https://helmsdesigndistrict.com/event/reading-materials-a-book-club-hosted-by-textile-arts/
LOCATION:Zoom\, CA
CATEGORIES:News
ATTACH;FMTTYPE=image/jpeg:https://helmsdesigndistrict.com/wp-content/uploads/2021/03/Book-Club-web.jpg
END:VEVENT
END:VCALENDAR