BEGIN:VCALENDAR
VERSION:2.0
PRODID:-//Helms Design District - ECPv6.15.18//NONSGML v1.0//EN
CALSCALE:GREGORIAN
METHOD:PUBLISH
X-ORIGINAL-URL:https://helmsdesigndistrict.com
X-WR-CALDESC:Events for Helms Design District
REFRESH-INTERVAL;VALUE=DURATION:PT1H
X-Robots-Tag:noindex
X-PUBLISHED-TTL:PT1H
BEGIN:VTIMEZONE
TZID:America/Los_Angeles
BEGIN:DAYLIGHT
TZOFFSETFROM:-0800
TZOFFSETTO:-0700
TZNAME:PDT
DTSTART:20190310T100000
END:DAYLIGHT
BEGIN:STANDARD
TZOFFSETFROM:-0700
TZOFFSETTO:-0800
TZNAME:PST
DTSTART:20191103T090000
END:STANDARD
BEGIN:DAYLIGHT
TZOFFSETFROM:-0800
TZOFFSETTO:-0700
TZNAME:PDT
DTSTART:20200308T100000
END:DAYLIGHT
BEGIN:STANDARD
TZOFFSETFROM:-0700
TZOFFSETTO:-0800
TZNAME:PST
DTSTART:20201101T090000
END:STANDARD
BEGIN:DAYLIGHT
TZOFFSETFROM:-0800
TZOFFSETTO:-0700
TZNAME:PDT
DTSTART:20210314T100000
END:DAYLIGHT
BEGIN:STANDARD
TZOFFSETFROM:-0700
TZOFFSETTO:-0800
TZNAME:PST
DTSTART:20211107T090000
END:STANDARD
END:VTIMEZONE
BEGIN:VEVENT
DTSTART;TZID=America/Los_Angeles:20200125T100000
DTEND;TZID=America/Los_Angeles:20200125T160000
DTSTAMP:20260422T004724
CREATED:20200108T203615Z
LAST-MODIFIED:20200108T203615Z
UID:10000364-1579946400-1579968000@helmsdesigndistrict.com
SUMMARY:Textile Arts LA Hosts Bookmaking with Sue Ann Robinson
DESCRIPTION:On Saturday\, January 25th from 10:00 am to 4:00 pm\, please join Textile Arts LA for this all-day workshop\, Bookmaking: Art Material Storage with Sue Ann Robinson. Learn to make a beautiful and functional artist’s book\, using a “baggie book” structure to store samples of thread\, fiber\, dye\, swatches\, or anything you can dream up! \nThis six-hour workshop will teach a useful concertina spine fold technique and then how to attach archival bags to the spine\, and end the afternoon with covers. Examples will be provided to ensure that multiple sizes and uses for the Baggie Book can be adapted to your particular needs and will provide for reusable pages. Materials will be provided for one size book. All participants will leave with one Baggie Book ready to use. \nABOUT THE ARTIST \nSue Ann Robinson is a maker of artist books and teaches Artist Books and Paper Making at California State University Long Beach. She is a member of the Guild of Book Workers and has exhibited her artist books nationally and internationally. Robinson is the recipient of numerous grants and fellowships and residencies including the Library Fellows of the National Museum of Women in the Arts\, a CoLA Fellowship\, the Visual Studies Workshop and the Women’s Studio Workshop among others. Her artist books are included in the collections of the Getty Research Institute\, the Victoria and Albert Museum\, Yale University\, and many other public and private collections. \nPlease BYOLunch. There will be a short break with an opportunity to run across the street to the Co-op Market. \nMaterial fee $15 payable to the instructor; class size limited to 15 students.
URL:https://helmsdesigndistrict.com/event/textile-arts-la-hosts-bookmaking-with-sue-ann-robinson/
LOCATION:Helms Design Center\, 8745 Washington Boulevard\, Culver City\, CA\, 90232
CATEGORIES:News
ATTACH;FMTTYPE=image/jpeg:https://helmsdesigndistrict.com/wp-content/uploads/2020/01/SueAnn2ParkArtBaggieBk.jpg
GEO:34.0286594;-118.3857496
X-APPLE-STRUCTURED-LOCATION;VALUE=URI;X-ADDRESS=Helms Design Center 8745 Washington Boulevard Culver City CA 90232;X-APPLE-RADIUS=500;X-TITLE=8745 Washington Boulevard:geo:-118.3857496,34.0286594
END:VEVENT
END:VCALENDAR