BEGIN:VCALENDAR
VERSION:2.0
PRODID:-//Helms Design District - ECPv6.15.18//NONSGML v1.0//EN
CALSCALE:GREGORIAN
METHOD:PUBLISH
X-ORIGINAL-URL:https://helmsdesigndistrict.com
X-WR-CALDESC:Events for Helms Design District
REFRESH-INTERVAL;VALUE=DURATION:PT1H
X-Robots-Tag:noindex
X-PUBLISHED-TTL:PT1H
BEGIN:VTIMEZONE
TZID:America/Los_Angeles
BEGIN:DAYLIGHT
TZOFFSETFROM:-0800
TZOFFSETTO:-0700
TZNAME:PDT
DTSTART:20240310T100000
END:DAYLIGHT
BEGIN:STANDARD
TZOFFSETFROM:-0700
TZOFFSETTO:-0800
TZNAME:PST
DTSTART:20241103T090000
END:STANDARD
BEGIN:DAYLIGHT
TZOFFSETFROM:-0800
TZOFFSETTO:-0700
TZNAME:PDT
DTSTART:20250309T100000
END:DAYLIGHT
BEGIN:STANDARD
TZOFFSETFROM:-0700
TZOFFSETTO:-0800
TZNAME:PST
DTSTART:20251102T090000
END:STANDARD
BEGIN:DAYLIGHT
TZOFFSETFROM:-0800
TZOFFSETTO:-0700
TZNAME:PDT
DTSTART:20260308T100000
END:DAYLIGHT
BEGIN:STANDARD
TZOFFSETFROM:-0700
TZOFFSETTO:-0800
TZNAME:PST
DTSTART:20261101T090000
END:STANDARD
END:VTIMEZONE
BEGIN:VEVENT
DTSTART;TZID=America/Los_Angeles:20250215T160000
DTEND;TZID=America/Los_Angeles:20250215T180000
DTSTAMP:20260423T204240
CREATED:20250211T171925Z
LAST-MODIFIED:20250211T194927Z
UID:10001939-1739635200-1739642400@helmsdesigndistrict.com
SUMMARY:Arcana Book Signing for Brick Stowell’s “Almost Famous 2011-2016: The OFWGKTA Photographs”
DESCRIPTION:Join us Saturday\, February 15th\, between 4:00 and 6:00 PM to meet and greet photographer Brick Stowell and celebrate the availability once again of his fabulous Almost Famous 2011-2016: The OFWGKTA Photographs. \nBrick was the staff photographer and tour manager for Odd Future (OFWGKTA) from 2011 to 2016\, capturing the collective’s rise to fame. Almost Famous… is a comprehensive look at Odd Future’s history\, featuring photos\, original merchandise\, music video props\, outfits\, and other memorabilia\, documenting the cultural impact of the group. \nThe first edition of this vital document of Los Angeles’ near past featuring Odd Future members Tyler The Creator\, Earl Sweatshirt\, Frank Ocean\, Travis “Taco” Bennett\, Jasper The Dolphin\, Syd Tha Kid\, Hodgy\, and more was published to coincide with the Camp Flog Gnaw Carnival last November\, where it sold out immediately! So\, be sure to stop by on Saturday to hang and pick one up while you can. The first one hundred purchased in-store will be accompanied by a free Polaroid t-shirt courtesy of Mr. Stowell. One tee only per customer\, and please check your decks at the door. \nIf you cannot attend and would like to purchase a SIGNED copy of Almost Famous 2011-2016: The OFWGKTA Photographs\, please place your order here.
URL:https://helmsdesigndistrict.com/event/brick-stowell/
LOCATION:Arcana: Books on the Arts\, 8675 Washington Blvd.\, Culver City\, CA\, 90232
CATEGORIES:News
ATTACH;FMTTYPE=image/jpeg:https://helmsdesigndistrict.com/wp-content/uploads/2025/02/Brick-Stowell_image5_1200px.jpg
GEO:34.0300679;-118.3835128
X-APPLE-STRUCTURED-LOCATION;VALUE=URI;X-ADDRESS=Arcana: Books on the Arts 8675 Washington Blvd. Culver City CA 90232;X-APPLE-RADIUS=500;X-TITLE=8675 Washington Blvd.:geo:-118.3835128,34.0300679
END:VEVENT
END:VCALENDAR