BEGIN:VCALENDAR
VERSION:2.0
PRODID:-//Helms Design District - ECPv6.15.18//NONSGML v1.0//EN
CALSCALE:GREGORIAN
METHOD:PUBLISH
X-WR-CALNAME:Helms Design District
X-ORIGINAL-URL:https://helmsdesigndistrict.com
X-WR-CALDESC:Events for Helms Design District
REFRESH-INTERVAL;VALUE=DURATION:PT1H
X-Robots-Tag:noindex
X-PUBLISHED-TTL:PT1H
BEGIN:VTIMEZONE
TZID:America/Los_Angeles
BEGIN:DAYLIGHT
TZOFFSETFROM:-0800
TZOFFSETTO:-0700
TZNAME:PDT
DTSTART:20160313T100000
END:DAYLIGHT
BEGIN:STANDARD
TZOFFSETFROM:-0700
TZOFFSETTO:-0800
TZNAME:PST
DTSTART:20161106T090000
END:STANDARD
BEGIN:DAYLIGHT
TZOFFSETFROM:-0800
TZOFFSETTO:-0700
TZNAME:PDT
DTSTART:20170312T100000
END:DAYLIGHT
BEGIN:STANDARD
TZOFFSETFROM:-0700
TZOFFSETTO:-0800
TZNAME:PST
DTSTART:20171105T090000
END:STANDARD
BEGIN:DAYLIGHT
TZOFFSETFROM:-0800
TZOFFSETTO:-0700
TZNAME:PDT
DTSTART:20180311T100000
END:DAYLIGHT
BEGIN:STANDARD
TZOFFSETFROM:-0700
TZOFFSETTO:-0800
TZNAME:PST
DTSTART:20181104T090000
END:STANDARD
END:VTIMEZONE
BEGIN:VEVENT
DTSTART;TZID=America/Los_Angeles:20171112T150000
DTEND;TZID=America/Los_Angeles:20171112T170000
DTSTAMP:20260424T003504
CREATED:20171102T235610Z
LAST-MODIFIED:20171102T235610Z
UID:10000192-1510498800-1510506000@helmsdesigndistrict.com
SUMMARY:Arcana Books Hosts a Conversation with Author Emily Spivak
DESCRIPTION:Free\nHead over to Arcana: Books on the Arts on Sunday\, November 12th from 3 to 5pm to celebrate the publication of Emily Spivak’s Worn In New York\, and enjoy a conversation with the author and contributors including artist Catherine Opie (whose leather jacket graces the cover)\, producer Alicia Van Couvering\, and writer + artist Mel Shimkovitz! \n“The boots a passenger had on when his plane landed on the Hudson River\, the tank top Andy Warhol’s assistant wore to one of their nightclub outings together\, the jacket a taxi driver put on to feel safe as he worked the night shift…” \nThese and over sixty other clothing-inspired narratives make up Worn in New York – the latest volume from New York Times bestselling author Emily Spivack. In these first-person accounts\, contributors in and out of the public eye share surprising\, personal\, wild\, poignant\, and funny stories behind a piece of clothing that reminds them of a significant moment of their New York lives. Worn in New York offers a contemporary cultural history of the city – its changing identity\, temper\, and tone\, and its irrepressible vitality – by paying tribute to these well-loved clothes and the people who wore them. \nIncluded are contributions from Adam Horovitz\, Amy Heckerling\, Andre Royo\, Anna Sui\, Aubrey Plaza\, Catherine Opie\, Coco Rocha\, Dick Cavett\, Eileen Myles\, Fab 5 Freddy\, Gay Talese\, Genesis Breyer P-Orridge\, J.D. Samson\, Jenji Kohan\, Jenna Lyons\, Kyp Malone\, Lena Dunham\, Pee Wee Kirkland\, Thelma Golden\, Timothy Greenfield-Sanders\, and many\, many more. \nAbout the Author\nEmily Spivack is a Brooklyn-based artist\, writer\, and editor who writes a recurring column for T: The New York Times Style Magazine. Her work has been featured in the New York Times\, Wall Street Journal\, New York\, Vogue\, and Harper’s Bazaar.
URL:https://helmsdesigndistrict.com/event/arcana-books-hosts-a-conversation-with-author-emily-spivak/
LOCATION:Arcana: Books on the Arts\, 8675 Washington Blvd.\, Culver City\, CA\, 90232
CATEGORIES:News
ATTACH;FMTTYPE=image/jpeg:https://helmsdesigndistrict.com/wp-content/uploads/2017/11/Arcana-17.11.11-2.jpg
GEO:34.0300679;-118.3835128
X-APPLE-STRUCTURED-LOCATION;VALUE=URI;X-ADDRESS=Arcana: Books on the Arts 8675 Washington Blvd. Culver City CA 90232;X-APPLE-RADIUS=500;X-TITLE=8675 Washington Blvd.:geo:-118.3835128,34.0300679
END:VEVENT
END:VCALENDAR