BEGIN:VCALENDAR
VERSION:2.0
PRODID:-//Helms Design District - ECPv6.15.18//NONSGML v1.0//EN
CALSCALE:GREGORIAN
METHOD:PUBLISH
X-WR-CALNAME:Helms Design District
X-ORIGINAL-URL:https://helmsdesigndistrict.com
X-WR-CALDESC:Events for Helms Design District
REFRESH-INTERVAL;VALUE=DURATION:PT1H
X-Robots-Tag:noindex
X-PUBLISHED-TTL:PT1H
BEGIN:VTIMEZONE
TZID:America/Los_Angeles
BEGIN:DAYLIGHT
TZOFFSETFROM:-0800
TZOFFSETTO:-0700
TZNAME:PDT
DTSTART:20150308T100000
END:DAYLIGHT
BEGIN:STANDARD
TZOFFSETFROM:-0700
TZOFFSETTO:-0800
TZNAME:PST
DTSTART:20151101T090000
END:STANDARD
BEGIN:DAYLIGHT
TZOFFSETFROM:-0800
TZOFFSETTO:-0700
TZNAME:PDT
DTSTART:20160313T100000
END:DAYLIGHT
BEGIN:STANDARD
TZOFFSETFROM:-0700
TZOFFSETTO:-0800
TZNAME:PST
DTSTART:20161106T090000
END:STANDARD
BEGIN:DAYLIGHT
TZOFFSETFROM:-0800
TZOFFSETTO:-0700
TZNAME:PDT
DTSTART:20170312T100000
END:DAYLIGHT
BEGIN:STANDARD
TZOFFSETFROM:-0700
TZOFFSETTO:-0800
TZNAME:PST
DTSTART:20171105T090000
END:STANDARD
BEGIN:DAYLIGHT
TZOFFSETFROM:-0800
TZOFFSETTO:-0700
TZNAME:PDT
DTSTART:20180311T100000
END:DAYLIGHT
BEGIN:STANDARD
TZOFFSETFROM:-0700
TZOFFSETTO:-0800
TZNAME:PST
DTSTART:20181104T090000
END:STANDARD
BEGIN:DAYLIGHT
TZOFFSETFROM:-0800
TZOFFSETTO:-0700
TZNAME:PDT
DTSTART:20190310T100000
END:DAYLIGHT
BEGIN:STANDARD
TZOFFSETFROM:-0700
TZOFFSETTO:-0800
TZNAME:PST
DTSTART:20191103T090000
END:STANDARD
BEGIN:DAYLIGHT
TZOFFSETFROM:-0800
TZOFFSETTO:-0700
TZNAME:PDT
DTSTART:20200308T100000
END:DAYLIGHT
BEGIN:STANDARD
TZOFFSETFROM:-0700
TZOFFSETTO:-0800
TZNAME:PST
DTSTART:20201101T090000
END:STANDARD
BEGIN:DAYLIGHT
TZOFFSETFROM:-0800
TZOFFSETTO:-0700
TZNAME:PDT
DTSTART:20210314T100000
END:DAYLIGHT
BEGIN:STANDARD
TZOFFSETFROM:-0700
TZOFFSETTO:-0800
TZNAME:PST
DTSTART:20211107T090000
END:STANDARD
BEGIN:DAYLIGHT
TZOFFSETFROM:-0800
TZOFFSETTO:-0700
TZNAME:PDT
DTSTART:20220313T100000
END:DAYLIGHT
BEGIN:STANDARD
TZOFFSETFROM:-0700
TZOFFSETTO:-0800
TZNAME:PST
DTSTART:20221106T090000
END:STANDARD
BEGIN:DAYLIGHT
TZOFFSETFROM:-0800
TZOFFSETTO:-0700
TZNAME:PDT
DTSTART:20230312T100000
END:DAYLIGHT
BEGIN:STANDARD
TZOFFSETFROM:-0700
TZOFFSETTO:-0800
TZNAME:PST
DTSTART:20231105T090000
END:STANDARD
BEGIN:DAYLIGHT
TZOFFSETFROM:-0800
TZOFFSETTO:-0700
TZNAME:PDT
DTSTART:20240310T100000
END:DAYLIGHT
BEGIN:STANDARD
TZOFFSETFROM:-0700
TZOFFSETTO:-0800
TZNAME:PST
DTSTART:20241103T090000
END:STANDARD
BEGIN:DAYLIGHT
TZOFFSETFROM:-0800
TZOFFSETTO:-0700
TZNAME:PDT
DTSTART:20250309T100000
END:DAYLIGHT
BEGIN:STANDARD
TZOFFSETFROM:-0700
TZOFFSETTO:-0800
TZNAME:PST
DTSTART:20251102T090000
END:STANDARD
END:VTIMEZONE
BEGIN:VEVENT
DTSTART;TZID=America/Los_Angeles:20240901T080000
DTEND;TZID=America/Los_Angeles:20240930T170000
DTSTAMP:20260421T064001
CREATED:20240901T162258Z
LAST-MODIFIED:20240903T163914Z
UID:10001910-1725177600-1727715600@helmsdesigndistrict.com
SUMMARY:Fresh Perks: September Instagram Giveaway
DESCRIPTION:Nothing brings us joy like sharing in some social fun with our followers. September’s Fresh Perks giveaway is brought to you by our friends at Rejuvenation\, a company built on a passionate love affair with history\, architecture\, and dedicated to bringing back the best lighting and house parts ever made. \nEnter-to-Win a Linnea Gift Set of fresh scents for your home\, including: \n(1) Linnea Grande Triple Wick Candle in Lavender Rosemary scent: Linnea candles are hand poured and use essential oils and soy wax for a long life. Rosemary Lavender scent has notes of chamomile\, lavender and rosemary. \n(1) Linnea Reed Diffuser Kit in Cashmere scent: Linnea diffusers are made with essential oils. This kit comes with one glass receptacle and 10 reed diffusers. Cashmere has notes of chamomile\, amber woods and patchouli. \n(1) Linnea candle care kit which includes a wick trimmer and candle snuffer. \nBe sure to follow us on Instagram @helmsbakerydistrict to be eligible to participate. This Fresh Perks giveaway runs from September 1st at 9:00 am thru September 30th at 5:00 pm. One lucky winner will be contacted after the end of the giveaway. \nWe are officially calling 2024 the year of Fresh Perks as a way to show our thanks and gratitude. We appreciate  you for choosing Helms Bakery District as your go-to design hub\, your shopping destination\, and a favorite spot to dine. Thank you for spending time with us throughout the entire year and thank you for always showing up. We love seeing you! \n\nTo enter is simple: \n(1) You must Follow us on Instagram. \n(2) Tag two friends in your comment so they can follow us and enter too. \n(3) Tell us about your favorite fall candle scent\, though this one is not mandatory. \nSign up for our newsletter and automatically be entered for a second chance to win.  \nPlus\, you’ll find out when the next Helms Fresh Perk drops. Good luck! \n\nRules & Regs \nNo purchase is required to enter. \nWinners will be selected randomly\, contacted after each giveaway closes\, and announced in our comments on Instagram. \nOpen to US residents only\, 18 years and older.  By entering\, entrants confirm they are at least 18+ years of age. \nThis is a “GIVEAWAY” and is not eligible for return\, refund\, or exchange at any of our showrooms or restaurants. \nThe “Helms Perks” giveaway  is not sponsored\, endorsed\, administered by or associated with Instagram. Entrants release Instagram and all brands of all responsibility and agree to Instagram’s terms of use. \nOne entry per Instagram user. Duplicate entries will not be considered. \nThis giveaway is open to residents of Los Angeles County.
URL:https://helmsdesigndistrict.com/event/fresh-perks-september-instagram-giveaway/
LOCATION:Online\, CA
CATEGORIES:Long Term Events
ATTACH;FMTTYPE=image/jpeg:https://helmsdesigndistrict.com/wp-content/uploads/2024/09/Fresh-Perks_2024.09_EventImageEmail.jpg
END:VEVENT
BEGIN:VEVENT
DTSTART;TZID=America/Los_Angeles:20240801T080000
DTEND;TZID=America/Los_Angeles:20240831T170000
DTSTAMP:20260421T064001
CREATED:20240730T160840Z
LAST-MODIFIED:20240802T163608Z
UID:10001907-1722499200-1725123600@helmsdesigndistrict.com
SUMMARY:Fresh Perks: August Instagram Giveaway
DESCRIPTION:Nothing brings us joy like sharing in some social fun with our followers. We are over-the-moon excited for the upcoming opening of the Bakery and so our Fresh Perks giveaway is brought to you this August by our friends at Helms Bakery. Enter-to-Win a Helms Bakery Coach Cookie Tin and sticker! \nThe old Helms Bakery closed operations in 1969 but the center continues to thrive as a food-focused center with great shops\, fine furniture\, and a love for all things design. Set in an historic building\, with a nod to the Olympic Games\, we invite you to explore all that Helms has to offer. \nBe sure to follow us on Instagram @helmsbakerydistrict to be eligible to participate and to get updates about the Helms Bakery opening date. This Fresh Perks giveaway runs from August 1st at 9:00 am thru August 31st at 5:00 pm. One lucky winner will be contacted after the end of the giveaway. \nWe are officially calling 2024 the year of Fresh Perks as a way to show our thanks and gratitude. We appreciate  you for choosing Helms Bakery District as your go-to design hub\, your shopping destination\, and a favorite spot to dine. Thank you for spending time with us throughout the entire year and thank you for always showing up. We love seeing you! \n\nTo enter is simple: \n(1) You must Follow us on Instagram. \n(2) Tag two friends in your comment so they can follow us and enter too. \n(3) Tell us about your favorite thing to cook\, though this one is not mandatory. \nSign up for our newsletter and automatically be entered for a second chance to win.  \nPlus\, you’ll find out when the next Helms Fresh Perk drops. Good luck! \n\nRules & Regs \nNo purchase is required to enter. \nWinners will be selected randomly\, contacted after each giveaway closes\, and announced in our comments on Instagram. \nOpen to US residents only\, 18 years and older.  By entering\, entrants confirm they are at least 18+ years of age. \nThis is a “GIVEAWAY” and is not eligible for return\, refund\, or exchange at any of our showrooms or restaurants. \nThe “Helms Perks” giveaway  is not sponsored\, endorsed\, administered by or associated with Instagram. Entrants release Instagram and all brands of all responsibility and agree to Instagram’s terms of use. \nOne entry per Instagram user. Duplicate entries will not be considered. \nThis giveaway is open to residents of Los Angeles County.
URL:https://helmsdesigndistrict.com/event/fresh-perks-august-instagram-giveaway/
LOCATION:Online\, CA
CATEGORIES:Long Term Events
ATTACH;FMTTYPE=image/jpeg:https://helmsdesigndistrict.com/wp-content/uploads/2024/07/Fresh-Perks_2024.08_EventImageEmail-1.jpg
END:VEVENT
BEGIN:VEVENT
DTSTART;TZID=America/Los_Angeles:20160614T140000
DTEND;TZID=America/Los_Angeles:20160614T160000
DTSTAMP:20260421T064001
CREATED:20160601T210408Z
LAST-MODIFIED:20160601T235819Z
UID:10000015-1465912800-1465920000@helmsdesigndistrict.com
SUMMARY:Lukshon Tour With Architect Ana Henton
DESCRIPTION:On Tuesday\, June 14th from 2:00 – 4:00pm\, LA Design Festival takes you on a tour of three area restaurants\, including a stop at Helms. Lukshon\, the yiddish word for noodle\, is the brainchild of celebrity chef Sang Yoon. Meet architect Ana Henton of MASS Architecture who designed the sleek\, contemporary interior to complement the restaurant’s inspired interpretation of modern Southeast Asian cuisine. (Note that food is not provided at this stop.) \nEvent Map and Details will be provided to ticketholders only. Tickets are $20. \nFree Valet Parking is located in the lot on the corner of Helms Avenue and Venice Boulevard.
URL:https://helmsdesigndistrict.com/event/lukshon-tour-with-architect-ana-henton/
LOCATION:Lukshon\, 3239 Helms Avenue\, Culver City\, 90232
CATEGORIES:News
ATTACH;FMTTYPE=image/jpeg:https://helmsdesigndistrict.com/wp-content/uploads/2016/06/ana-henton-1.jpg
GEO:34.0298853;-118.3843003
X-APPLE-STRUCTURED-LOCATION;VALUE=URI;X-ADDRESS=Lukshon 3239 Helms Avenue Culver City 90232;X-APPLE-RADIUS=500;X-TITLE=3239 Helms Avenue:geo:-118.3843003,34.0298853
END:VEVENT
END:VCALENDAR