BEGIN:VCALENDAR
VERSION:2.0
PRODID:-//Helms Design District - ECPv6.15.18//NONSGML v1.0//EN
CALSCALE:GREGORIAN
METHOD:PUBLISH
X-ORIGINAL-URL:https://helmsdesigndistrict.com
X-WR-CALDESC:Events for Helms Design District
REFRESH-INTERVAL;VALUE=DURATION:PT1H
X-Robots-Tag:noindex
X-PUBLISHED-TTL:PT1H
BEGIN:VTIMEZONE
TZID:America/Los_Angeles
BEGIN:DAYLIGHT
TZOFFSETFROM:-0800
TZOFFSETTO:-0700
TZNAME:PDT
DTSTART:20160313T100000
END:DAYLIGHT
BEGIN:STANDARD
TZOFFSETFROM:-0700
TZOFFSETTO:-0800
TZNAME:PST
DTSTART:20161106T090000
END:STANDARD
BEGIN:DAYLIGHT
TZOFFSETFROM:-0800
TZOFFSETTO:-0700
TZNAME:PDT
DTSTART:20170312T100000
END:DAYLIGHT
BEGIN:STANDARD
TZOFFSETFROM:-0700
TZOFFSETTO:-0800
TZNAME:PST
DTSTART:20171105T090000
END:STANDARD
BEGIN:DAYLIGHT
TZOFFSETFROM:-0800
TZOFFSETTO:-0700
TZNAME:PDT
DTSTART:20180311T100000
END:DAYLIGHT
BEGIN:STANDARD
TZOFFSETFROM:-0700
TZOFFSETTO:-0800
TZNAME:PST
DTSTART:20181104T090000
END:STANDARD
END:VTIMEZONE
BEGIN:VEVENT
DTSTART;TZID=America/Los_Angeles:20170601T070000
DTEND;TZID=America/Los_Angeles:20170601T220000
DTSTAMP:20260423T232030
CREATED:20170525T011825Z
LAST-MODIFIED:20170525T011825Z
UID:10000165-1496300400-1496354400@helmsdesigndistrict.com
SUMMARY:Rejuvenation Hosts a Reception with Cheyenne Parker
DESCRIPTION:Free\nOn Thursday\, June 1st from 7 to 10 PM\, Rejuvenation hosts an opening reception for Black Room\, an installation featuring the work of designer\, collector\, artist\, model\, LGBT influencer and Fire Island reality star\, Cheyenne Parker. A portion of proceeds will benefit LA LGBT homeless youth programs\, a cause close to Cheyenne’s heart. The installation will remain in-store until June 3rd. \n  \n  \n  \n 
URL:https://helmsdesigndistrict.com/event/rejuvenation-hosts-a-reception-with-cheyenne-parker/
LOCATION:Rejuvenation\, 8780 Venice Boulevard\, Los Angeles\, CA\, 90034\, United States
CATEGORIES:News
ATTACH;FMTTYPE=image/jpeg:https://helmsdesigndistrict.com/wp-content/uploads/2017/05/Rejuve-2-17.06.01.jpg
GEO:34.0308259;-118.3845144
X-APPLE-STRUCTURED-LOCATION;VALUE=URI;X-ADDRESS=Rejuvenation 8780 Venice Boulevard Los Angeles CA 90034 United States;X-APPLE-RADIUS=500;X-TITLE=8780 Venice Boulevard:geo:-118.3845144,34.0308259
END:VEVENT
END:VCALENDAR