BEGIN:VCALENDAR
VERSION:2.0
PRODID:-//Helms Design District - ECPv6.15.18//NONSGML v1.0//EN
CALSCALE:GREGORIAN
METHOD:PUBLISH
X-ORIGINAL-URL:https://helmsdesigndistrict.com
X-WR-CALDESC:Events for Helms Design District
REFRESH-INTERVAL;VALUE=DURATION:PT1H
X-Robots-Tag:noindex
X-PUBLISHED-TTL:PT1H
BEGIN:VTIMEZONE
TZID:America/Los_Angeles
BEGIN:DAYLIGHT
TZOFFSETFROM:-0800
TZOFFSETTO:-0700
TZNAME:PDT
DTSTART:20150308T100000
END:DAYLIGHT
BEGIN:STANDARD
TZOFFSETFROM:-0700
TZOFFSETTO:-0800
TZNAME:PST
DTSTART:20151101T090000
END:STANDARD
BEGIN:DAYLIGHT
TZOFFSETFROM:-0800
TZOFFSETTO:-0700
TZNAME:PDT
DTSTART:20160313T100000
END:DAYLIGHT
BEGIN:STANDARD
TZOFFSETFROM:-0700
TZOFFSETTO:-0800
TZNAME:PST
DTSTART:20161106T090000
END:STANDARD
BEGIN:DAYLIGHT
TZOFFSETFROM:-0800
TZOFFSETTO:-0700
TZNAME:PDT
DTSTART:20170312T100000
END:DAYLIGHT
BEGIN:STANDARD
TZOFFSETFROM:-0700
TZOFFSETTO:-0800
TZNAME:PST
DTSTART:20171105T090000
END:STANDARD
BEGIN:DAYLIGHT
TZOFFSETFROM:-0800
TZOFFSETTO:-0700
TZNAME:PDT
DTSTART:20180311T100000
END:DAYLIGHT
BEGIN:STANDARD
TZOFFSETFROM:-0700
TZOFFSETTO:-0800
TZNAME:PST
DTSTART:20181104T090000
END:STANDARD
END:VTIMEZONE
BEGIN:VEVENT
DTSTART;TZID=America/Los_Angeles:20170108T113000
DTEND;TZID=America/Los_Angeles:20170108T133000
DTSTAMP:20260423T192134
CREATED:20170104T232709Z
LAST-MODIFIED:20170104T232709Z
UID:10000152-1483875000-1483882200@helmsdesigndistrict.com
SUMMARY:Arcana Hosts A Special Workshop With Christina Kim
DESCRIPTION:On Sunday\, January 8th at 11:30AM\, please join us at Arcana: Books on the Arts for a special workshop with Christina Kim to learn to make yo-yo puffs! \nA yo-yo puff is a circle of fabric gathered around its edges into a “puff” used for embellishing quilts and clothing. First\, a circle is drawn on a piece of cloth\, cut out\, and stitched with thread around the outside of the folded edge while turning a tiny hem as you go. The thread is pulled\, gathering the fabric into a puff\, then knotted. A traditional form of recycling thought to date back centuries\, yo-yo or Suffolk puffs\, as they are sometimes called in England\, are best known in the United States for their use in Depression-era quilting practice. \nChristina attempted her first yo-yo puffs creation\, a coverlet\, in high school by following instructions in an issue of Seventeen magazine. For a project in 2013 evoking the transformation of winter to spring\, 10\,000 puffs dip-dyed and hand-painted in subtle gradients of sky\, snow\, and cherry blossom colors were made for an 18 window installation in Tokyo. The technique was incorporated into the dosa Traveler 2013 collection. \n$55.00 includes materials and a rare small-group workshop with Christina Kim. \nBook your place in advance (by calling Whitney at 310-458-1499 or writing to books@arcanabooks.com)\, or “at the door” on Sunday morning.
URL:https://helmsdesigndistrict.com/event/arcana-hosts-a-special-workshop-with-christina-kim/
LOCATION:Arcana: Books on the Arts\, 8675 Washington Blvd.\, Culver City\, CA\, 90232
CATEGORIES:News
ATTACH;FMTTYPE=image/jpeg:https://helmsdesigndistrict.com/wp-content/uploads/2017/01/33_yo-yo-puffs-2.jpg
GEO:34.0300679;-118.3835128
X-APPLE-STRUCTURED-LOCATION;VALUE=URI;X-ADDRESS=Arcana: Books on the Arts 8675 Washington Blvd. Culver City CA 90232;X-APPLE-RADIUS=500;X-TITLE=8675 Washington Blvd.:geo:-118.3835128,34.0300679
END:VEVENT
BEGIN:VEVENT
DTSTART;TZID=America/Los_Angeles:20161216T180000
DTEND;TZID=America/Los_Angeles:20161216T200000
DTSTAMP:20260423T192134
CREATED:20161207T205950Z
LAST-MODIFIED:20161207T205950Z
UID:10000149-1481911200-1481918400@helmsdesigndistrict.com
SUMMARY:Arcana Books Hosts a Special Installation With Christina Kim
DESCRIPTION:Free\nPlease join Arcana: Books on the Arts on Friday\, December 16th from 6 to 8PM\, to celebrate Christina Kim’s publication of dosa glossary along with a special month-long installation inside their store. \nChristina Kim is a Los Angeles-based designer who is the co-founder of dosa. Textiles play a central role in her design practice\, which ranges from housewares and clothing to temporary installations and architectural projects. This year\, she has created a public art piece for the APAP5 art triennial in Anyang\, Korea\, a four-month installation at the Museo Textil de Oaxaca in Mexico\, and collaborated with architect Peter Zumthor for the Venice Architecture Biennale. Her work is currently on display as part of the three-person “Scraps: Fashion\, Textiles and Creative Reuse” exhibition at New York’s  Cooper Hewitt\, Smithsonian Design Museum. \ndosa glossary is a beautiful one hundred and eight page gazette designed by Christina with Green Dragon Office of Los Angeles and printed by Sankei Shinbun in Tokyo. With one hundred and four entries\, it is a “collection of techniques\, textiles\, people and organizations involved with dosa\, past and present. Information is based on our notes from the field – insights gained working side by side with artisans\, knowledge shared with us firsthand and reference material from books picked up along our travels.” \nChristina will sign this limited edition piece at Arcana the night of the opening.  Her accompanying site-specific installation is a visual and sometimes tactile reflection of the entries and concepts illustrated in the glossary that will be a magical and playful environment in which to discover dosa from a to z and the creative connections\, both carefully considered and wondrously serendipitous\, that it inspires.
URL:https://helmsdesigndistrict.com/event/arcana-books-hosts-a-special-installation-with-christina-kim/
LOCATION:Arcana: Books on the Arts\, 8675 Washington Blvd.\, Culver City\, CA\, 90232
CATEGORIES:News
ATTACH;FMTTYPE=image/gif:https://helmsdesigndistrict.com/wp-content/uploads/2016/12/Arcana-16.12.16.gif
GEO:34.0300679;-118.3835128
X-APPLE-STRUCTURED-LOCATION;VALUE=URI;X-ADDRESS=Arcana: Books on the Arts 8675 Washington Blvd. Culver City CA 90232;X-APPLE-RADIUS=500;X-TITLE=8675 Washington Blvd.:geo:-118.3835128,34.0300679
END:VEVENT
END:VCALENDAR