BEGIN:VCALENDAR
VERSION:2.0
PRODID:-//Helms Design District - ECPv6.15.18//NONSGML v1.0//EN
CALSCALE:GREGORIAN
METHOD:PUBLISH
X-WR-CALNAME:Helms Design District
X-ORIGINAL-URL:https://helmsdesigndistrict.com
X-WR-CALDESC:Events for Helms Design District
REFRESH-INTERVAL;VALUE=DURATION:PT1H
X-Robots-Tag:noindex
X-PUBLISHED-TTL:PT1H
BEGIN:VTIMEZONE
TZID:America/Los_Angeles
BEGIN:DAYLIGHT
TZOFFSETFROM:-0800
TZOFFSETTO:-0700
TZNAME:PDT
DTSTART:20210314T100000
END:DAYLIGHT
BEGIN:STANDARD
TZOFFSETFROM:-0700
TZOFFSETTO:-0800
TZNAME:PST
DTSTART:20211107T090000
END:STANDARD
BEGIN:DAYLIGHT
TZOFFSETFROM:-0800
TZOFFSETTO:-0700
TZNAME:PDT
DTSTART:20220313T100000
END:DAYLIGHT
BEGIN:STANDARD
TZOFFSETFROM:-0700
TZOFFSETTO:-0800
TZNAME:PST
DTSTART:20221106T090000
END:STANDARD
BEGIN:DAYLIGHT
TZOFFSETFROM:-0800
TZOFFSETTO:-0700
TZNAME:PDT
DTSTART:20230312T100000
END:DAYLIGHT
BEGIN:STANDARD
TZOFFSETFROM:-0700
TZOFFSETTO:-0800
TZNAME:PST
DTSTART:20231105T090000
END:STANDARD
END:VTIMEZONE
BEGIN:VEVENT
DTSTART;TZID=America/Los_Angeles:20220806T160000
DTEND;TZID=America/Los_Angeles:20220806T180000
DTSTAMP:20260423T222751
CREATED:20220803T234829Z
LAST-MODIFIED:20220805T185140Z
UID:10000504-1659801600-1659808800@helmsdesigndistrict.com
SUMMARY:Join Arcana Books for a book signing with Clara Balzary: Big Fresh Air
DESCRIPTION:Stop in to Arcana: Books on the Arts this Saturday\, August 6th\, between 4:00 and 6:00 PM to celebrate the launch of Clara Balzary’s Big Fresh Air. \nIf you cannot attend but would like to purchase a book signed by Ms. Balzary\, please place your order here or call Arcana at 310-458-1499. \nClara Balzary is a Los Angeles-based photographer and filmmaker whose first book is the newly released Big Fresh Air from London’s Pinch Publishing. “The photographs in Big Fresh Air were taken over the course of four days\, spanning from the late spring to the late summer of 2021. All pictures are the result of a collaboration with Ruby Kernkamp and Emily Leona Rose. Kernkamp and Rose used contact improvisation techniques to create distinct movement dialogues between participants and the natural landscape\, stemming from an interest in what happens when bodies give and receive weight and touch. Each day took place in the public parks in La Cañada / Flintridge\, a city in the foothills of the Verdugo Mountains in Los Angeles County\, during a time when groups were encouraged to gather exclusively in outdoor spaces.”
URL:https://helmsdesigndistrict.com/event/join-arcana-books-for-a-book-signing-with-clara-balzary-big-fresh-air/
LOCATION:Arcana: Books on the Arts\, 8675 Washington Blvd.\, Culver City\, CA\, 90232
CATEGORIES:News
ATTACH;FMTTYPE=image/jpeg:https://helmsdesigndistrict.com/wp-content/uploads/2022/08/2324ea3f8fe2567fd75143c812e58588.jpg
GEO:34.0300679;-118.3835128
X-APPLE-STRUCTURED-LOCATION;VALUE=URI;X-ADDRESS=Arcana: Books on the Arts 8675 Washington Blvd. Culver City CA 90232;X-APPLE-RADIUS=500;X-TITLE=8675 Washington Blvd.:geo:-118.3835128,34.0300679
END:VEVENT
END:VCALENDAR