BEGIN:VCALENDAR
VERSION:2.0
PRODID:-//Helms Design District - ECPv6.15.18//NONSGML v1.0//EN
CALSCALE:GREGORIAN
METHOD:PUBLISH
X-WR-CALNAME:Helms Design District
X-ORIGINAL-URL:https://helmsdesigndistrict.com
X-WR-CALDESC:Events for Helms Design District
REFRESH-INTERVAL;VALUE=DURATION:PT1H
X-Robots-Tag:noindex
X-PUBLISHED-TTL:PT1H
BEGIN:VTIMEZONE
TZID:America/Los_Angeles
BEGIN:DAYLIGHT
TZOFFSETFROM:-0800
TZOFFSETTO:-0700
TZNAME:PDT
DTSTART:20210314T100000
END:DAYLIGHT
BEGIN:STANDARD
TZOFFSETFROM:-0700
TZOFFSETTO:-0800
TZNAME:PST
DTSTART:20211107T090000
END:STANDARD
BEGIN:DAYLIGHT
TZOFFSETFROM:-0800
TZOFFSETTO:-0700
TZNAME:PDT
DTSTART:20220313T100000
END:DAYLIGHT
BEGIN:STANDARD
TZOFFSETFROM:-0700
TZOFFSETTO:-0800
TZNAME:PST
DTSTART:20221106T090000
END:STANDARD
BEGIN:DAYLIGHT
TZOFFSETFROM:-0800
TZOFFSETTO:-0700
TZNAME:PDT
DTSTART:20230312T100000
END:DAYLIGHT
BEGIN:STANDARD
TZOFFSETFROM:-0700
TZOFFSETTO:-0800
TZNAME:PST
DTSTART:20231105T090000
END:STANDARD
END:VTIMEZONE
BEGIN:VEVENT
DTSTART;TZID=America/Los_Angeles:20221120T180000
DTEND;TZID=America/Los_Angeles:20221120T200000
DTSTAMP:20260423T223250
CREATED:20221019T180022Z
LAST-MODIFIED:20221118T173812Z
UID:10000521-1668967200-1668974400@helmsdesigndistrict.com
SUMMARY:¡AZÚCAR! Closing Reception with CONTRA-TIEMPO
DESCRIPTION:Join us on Sunday\, November 20th from 6:00 to 8:00 PM for the closing reception of the photo gallery show of CAÑA by photographer Farah Sosa and CONTRA-TIEMPO’S powerful 2-week residency at Helms Bakery. \nCome celebrate with CONTRA-TIEMPO all the magic that was created\, the relationships that were built\, the dancing that took place\, and the stories that were shared. We will close our partnership with a final screening of the film CAŃA that was created in collaboration with Ana María Alvarez\, Meena Murugesan\, and Anaïs Maviel. Immediately following the film\, join us in a dialogue with the collaborators of their newest work ¡AZÚCAR! \nCLICK HERE TO REGISTER
URL:https://helmsdesigndistrict.com/event/azucar-closing-reception-with-contra-tiempo/
LOCATION:Helms Design Center\, 8745 Washington Boulevard\, Culver City\, CA\, 90232
CATEGORIES:News
ATTACH;FMTTYPE=image/jpeg:https://helmsdesigndistrict.com/wp-content/uploads/2022/10/CT_AMA-Press-Image.jpg
GEO:34.0286594;-118.3857496
X-APPLE-STRUCTURED-LOCATION;VALUE=URI;X-ADDRESS=Helms Design Center 8745 Washington Boulevard Culver City CA 90232;X-APPLE-RADIUS=500;X-TITLE=8745 Washington Boulevard:geo:-118.3857496,34.0286594
END:VEVENT
BEGIN:VEVENT
DTSTART;TZID=America/Los_Angeles:20221119T130000
DTEND;TZID=America/Los_Angeles:20221119T150000
DTSTAMP:20260423T223250
CREATED:20221019T171659Z
LAST-MODIFIED:20221118T173656Z
UID:10000520-1668862800-1668870000@helmsdesigndistrict.com
SUMMARY:¡AZÚCAR! Sabor Session at Helms Bakery
DESCRIPTION:Dance and get down with CONTRA-TIEMPO during their Sabor Session! \nJoin CONTRA-TIEMPO on Saturday\, November 19th from 1:00 to 3:00 PM on Helms Walk\, our pedestrian plaza on Helms Avenue\, as you move through and embody social dance practices rooted in the African and Afro-Latin Diaspora. \nThese ancestral movement practices were designed and passed down to build resilience\, affirm joy\, instill hope and to strengthen social and political resistance. From line dancing to comparsa processions from freestyling to Salsa; from cyphering to partnering – their sabor sessions will remind you of your strength\, of our complexities as human beings\, and your deep connection to others and the world around you. \nCLICK HERE TO REGISTER\nBe ready to move your body and join the movement procession from the pedestrian plaza into the gallery space to view the beautiful photo exhibition of CAŃA that was captured by photographer Farah Sosa. The exhibition is available for viewing through November 20th.
URL:https://helmsdesigndistrict.com/event/azucar-sabor-session-at-helms-bakery/
LOCATION:Helms Walk\, 3270 Helms Avenue\, Los Angeles\, CA\, 90034
CATEGORIES:News
ATTACH;FMTTYPE=image/png:https://helmsdesigndistrict.com/wp-content/uploads/2022/10/AZUCAR-at-Helms-Bakery-2_1080x1080.png
GEO:34.0306591;-118.384688
X-APPLE-STRUCTURED-LOCATION;VALUE=URI;X-ADDRESS=Helms Walk 3270 Helms Avenue Los Angeles CA 90034;X-APPLE-RADIUS=500;X-TITLE=3270 Helms Avenue:geo:-118.384688,34.0306591
END:VEVENT
BEGIN:VEVENT
DTSTART;TZID=America/Los_Angeles:20221113T130000
DTEND;TZID=America/Los_Angeles:20221113T150000
DTSTAMP:20260423T223250
CREATED:20221019T171610Z
LAST-MODIFIED:20221019T171610Z
UID:10000519-1668344400-1668351600@helmsdesigndistrict.com
SUMMARY:¡AZÚCAR! Choreographic Lab at Helms Bakery
DESCRIPTION:On Sunday\, November 13th from 1:00 to 3:00 PM\, come participate in the creative process of CONTRA-TIEMPO’S newest work ¡AZÚCAR! during this Choreographic Lab inside Helms Bakery’s Washington Corridor Gallery. \nWe invite you to witness a small work in progress\, create your own movement/theater-based work around the themes explored in the piece (ancestral healing\, movement\, sugar\, sweetness\, etc.)\, and share your own stories connected to the work in council circles. Council is an age-old practice that involves bringing people together in a circle to bear witness and share authentically. \nCLICK HERE TO REGISTER\nJoin us in building\, creating\, and imagining the future of this work. The beautiful photo gallery exhibition of CAŃA\, captured by photographer Farah Sosa\, is available for viewing through November 20th.
URL:https://helmsdesigndistrict.com/event/azucar-choreographic-lab-at-helms-bakery/
LOCATION:Washington Corridor Gallery\, 8723 Washington Boulevard\, Culver City\, CA\, 90232\, United States
CATEGORIES:News
ATTACH;FMTTYPE=image/png:https://helmsdesigndistrict.com/wp-content/uploads/2022/10/AZUCAR-at-Helms-Bakery-2_1080x1080.png
GEO:34.0315037;-118.3774661
X-APPLE-STRUCTURED-LOCATION;VALUE=URI;X-ADDRESS=Washington Corridor Gallery 8723 Washington Boulevard Culver City CA 90232 United States;X-APPLE-RADIUS=500;X-TITLE=8723 Washington Boulevard:geo:-118.3774661,34.0315037
END:VEVENT
BEGIN:VEVENT
DTSTART;TZID=America/Los_Angeles:20221112T180000
DTEND;TZID=America/Los_Angeles:20221112T200000
DTSTAMP:20260423T223250
CREATED:20221019T170233Z
LAST-MODIFIED:20221031T230420Z
UID:10000518-1668276000-1668283200@helmsdesigndistrict.com
SUMMARY:Residency Launch\, Film Screening + Photo Exhibit with CONTRA-TIEMPO
DESCRIPTION:Join us on Saturday\, November 12th from 6:00 to 8:00 PM for the opening reception of CONTRA-TIEMPO’S gallery show and two week residency. Come help us celebrate the beginning of two powerful weeks of dancing\, creating\, and grounding! \nDuring this reception\, we will be screening the film CAŃA that was created in collaboration with Ana María Alvarez\, Meena Murugesan and Anaïs\, following with an opportunity to engage in dialogue with the collaborators of CONTRA-TIEMPO’s newest work ¡AZÚCAR! Additionally\, this marks the opening of the photo gallery showing of CAŃA that was captured by photographer Farah Sosa. The photos will be up for viewing inside the Washington Corridor Gallery at Helms Bakery District through November 20th. \nREGISTER FOR EVENTS HERE\nLearn more about ¡AZÚCAR! & all the amazing collaborators HERE.
URL:https://helmsdesigndistrict.com/event/film-screening-gallery-exhibit-with-contra-tiempo/
LOCATION:Helms Design Center\, 8745 Washington Boulevard\, Culver City\, CA\, 90232
CATEGORIES:News
ATTACH;FMTTYPE=image/png:https://helmsdesigndistrict.com/wp-content/uploads/2022/10/AZUCAR-at-Helms-Bakery-1_1080x1080.png
GEO:34.0286594;-118.3857496
X-APPLE-STRUCTURED-LOCATION;VALUE=URI;X-ADDRESS=Helms Design Center 8745 Washington Boulevard Culver City CA 90232;X-APPLE-RADIUS=500;X-TITLE=8745 Washington Boulevard:geo:-118.3857496,34.0286594
END:VEVENT
END:VCALENDAR