BEGIN:VCALENDAR
VERSION:2.0
PRODID:-//Helms Design District - ECPv6.15.18//NONSGML v1.0//EN
CALSCALE:GREGORIAN
METHOD:PUBLISH
X-ORIGINAL-URL:https://helmsdesigndistrict.com
X-WR-CALDESC:Events for Helms Design District
REFRESH-INTERVAL;VALUE=DURATION:PT1H
X-Robots-Tag:noindex
X-PUBLISHED-TTL:PT1H
BEGIN:VTIMEZONE
TZID:America/Los_Angeles
BEGIN:DAYLIGHT
TZOFFSETFROM:-0800
TZOFFSETTO:-0700
TZNAME:PDT
DTSTART:20140309T100000
END:DAYLIGHT
BEGIN:STANDARD
TZOFFSETFROM:-0700
TZOFFSETTO:-0800
TZNAME:PST
DTSTART:20141102T090000
END:STANDARD
BEGIN:DAYLIGHT
TZOFFSETFROM:-0800
TZOFFSETTO:-0700
TZNAME:PDT
DTSTART:20150308T100000
END:DAYLIGHT
BEGIN:STANDARD
TZOFFSETFROM:-0700
TZOFFSETTO:-0800
TZNAME:PST
DTSTART:20151101T090000
END:STANDARD
BEGIN:DAYLIGHT
TZOFFSETFROM:-0800
TZOFFSETTO:-0700
TZNAME:PDT
DTSTART:20160313T100000
END:DAYLIGHT
BEGIN:STANDARD
TZOFFSETFROM:-0700
TZOFFSETTO:-0800
TZNAME:PST
DTSTART:20161106T090000
END:STANDARD
END:VTIMEZONE
BEGIN:VEVENT
DTSTART;TZID=America/Los_Angeles:20151027T180000
DTEND;TZID=America/Los_Angeles:20151027T200000
DTSTAMP:20260424T002142
CREATED:20151027T005901Z
LAST-MODIFIED:20151027T011328Z
UID:10000065-1445968800-1445976000@helmsdesigndistrict.com
SUMMARY:The New School of Cooking Hosts An Open House
DESCRIPTION:On Tuesday\, October 27th from 6:00 – 8:00pm\, the New School of Cooking opens up their doors for a delicious evening of appetizers\, beverages and live cooking demos from their Chef Instructors and current Professional Culinary Arts and Baking & Pastry Arts students.   \nThe New School of Cooking offers recreational classes on a wide range of themes\, from Asian Noodles to Artisan Jams\, short series such as Basic Pastry and Healthy Cooking\, their signature “ProSeries” in both cooking and baking\, and the flagship programs of the school – Advanced Professional Culinary Arts and Baking & Pastry Arts.  \nDiscover the high quality of their programs in a fun and relaxed setting.
URL:https://helmsdesigndistrict.com/event/the-new-school-of-cooking-hosts-an-open-house/
LOCATION:New School of Cooking\, 8690 Washington Boulevard\, Culver City\, CA\, 90232\, United States
CATEGORIES:News
ATTACH;FMTTYPE=image/jpeg:https://helmsdesigndistrict.com/wp-content/uploads/2015/04/NSOC-2.jpg
GEO:34.0296153;-118.3836273
X-APPLE-STRUCTURED-LOCATION;VALUE=URI;X-ADDRESS=New School of Cooking 8690 Washington Boulevard Culver City CA 90232 United States;X-APPLE-RADIUS=500;X-TITLE=8690 Washington Boulevard:geo:-118.3836273,34.0296153
END:VEVENT
END:VCALENDAR