BEGIN:VCALENDAR
VERSION:2.0
PRODID:-//Helms Design District - ECPv6.15.18//NONSGML v1.0//EN
CALSCALE:GREGORIAN
METHOD:PUBLISH
X-WR-CALNAME:Helms Design District
X-ORIGINAL-URL:https://helmsdesigndistrict.com
X-WR-CALDESC:Events for Helms Design District
REFRESH-INTERVAL;VALUE=DURATION:PT1H
X-Robots-Tag:noindex
X-PUBLISHED-TTL:PT1H
BEGIN:VTIMEZONE
TZID:America/Los_Angeles
BEGIN:DAYLIGHT
TZOFFSETFROM:-0800
TZOFFSETTO:-0700
TZNAME:PDT
DTSTART:20230312T100000
END:DAYLIGHT
BEGIN:STANDARD
TZOFFSETFROM:-0700
TZOFFSETTO:-0800
TZNAME:PST
DTSTART:20231105T090000
END:STANDARD
BEGIN:DAYLIGHT
TZOFFSETFROM:-0800
TZOFFSETTO:-0700
TZNAME:PDT
DTSTART:20240310T100000
END:DAYLIGHT
BEGIN:STANDARD
TZOFFSETFROM:-0700
TZOFFSETTO:-0800
TZNAME:PST
DTSTART:20241103T090000
END:STANDARD
BEGIN:DAYLIGHT
TZOFFSETFROM:-0800
TZOFFSETTO:-0700
TZNAME:PDT
DTSTART:20250309T100000
END:DAYLIGHT
BEGIN:STANDARD
TZOFFSETFROM:-0700
TZOFFSETTO:-0800
TZNAME:PST
DTSTART:20251102T090000
END:STANDARD
END:VTIMEZONE
BEGIN:VEVENT
DTSTART;TZID=America/Los_Angeles:20240413T100000
DTEND;TZID=America/Los_Angeles:20240413T190000
DTSTAMP:20260423T195146
CREATED:20240412T141641Z
LAST-MODIFIED:20240412T141641Z
UID:10001888-1713002400-1713034800@helmsdesigndistrict.com
SUMMARY:Washington Corridor Gallery Exhibits AVPA Student Art
DESCRIPTION:Join us this weekend as we welcome Culver City’s student artists for their opening exhibition inside Helms Bakery District’s Washington Corridor Gallery. For their final year of AVPA\, the Visual Art Seniors wanted to exhibit inside a gallery space and we are excited to partner with them to bring their vision to life. \nAVPA students have been working together on this project since September 2023 and are so excited to present it to the world. Everyone has contributed pieces in their own unique art style\, and it is a celebration of their individual artistic visions. There will be everything from digital prints to oil paintings to graphite drawings. \nGALLERY HOURS:\nSaturday\, April 13th from 10 am to 7 pm\nReception & Awards Ceremony from 5 to 7 pm\nSunday\, April 14th\, from 12 to 5 pm \nARTISTS:\nLola Alonso\, Etienne Birchfield\, Queequeg Boosinger\, Soli Butts\, Samantha Culajay\, Kamalika De\, Vi Garcia\, Madelyn Intrieri\, Jasmine Liu\, Claudia Lowey\, Haifa Maung\, Lily Maxson\, Makenzie McCullen\, Emayi Monroy\, Jolene Prevenas\, Lucia Rauser\, Benjamin Scully\, Bhupa Sriwattananon\, Cortney Valencia\, Andrew Ward
URL:https://helmsdesigndistrict.com/event/washington-corridor-gallery-exhibits-avpa-student-art/
LOCATION:Washington Corridor Gallery\, 8723 Washington Boulevard\, Culver City\, CA\, 90232\, United States
CATEGORIES:News
ATTACH;FMTTYPE=image/jpeg:https://helmsdesigndistrict.com/wp-content/uploads/2024/04/AVPA-Postcard_500x750.jpg
GEO:34.0315037;-118.3774661
X-APPLE-STRUCTURED-LOCATION;VALUE=URI;X-ADDRESS=Washington Corridor Gallery 8723 Washington Boulevard Culver City CA 90232 United States;X-APPLE-RADIUS=500;X-TITLE=8723 Washington Boulevard:geo:-118.3774661,34.0315037
END:VEVENT
END:VCALENDAR