BEGIN:VCALENDAR
VERSION:2.0
PRODID:-//Helms Design District - ECPv6.15.18//NONSGML v1.0//EN
CALSCALE:GREGORIAN
METHOD:PUBLISH
X-WR-CALNAME:Helms Design District
X-ORIGINAL-URL:https://helmsdesigndistrict.com
X-WR-CALDESC:Events for Helms Design District
REFRESH-INTERVAL;VALUE=DURATION:PT1H
X-Robots-Tag:noindex
X-PUBLISHED-TTL:PT1H
BEGIN:VTIMEZONE
TZID:America/Los_Angeles
BEGIN:DAYLIGHT
TZOFFSETFROM:-0800
TZOFFSETTO:-0700
TZNAME:PDT
DTSTART:20150308T100000
END:DAYLIGHT
BEGIN:STANDARD
TZOFFSETFROM:-0700
TZOFFSETTO:-0800
TZNAME:PST
DTSTART:20151101T090000
END:STANDARD
BEGIN:DAYLIGHT
TZOFFSETFROM:-0800
TZOFFSETTO:-0700
TZNAME:PDT
DTSTART:20160313T100000
END:DAYLIGHT
BEGIN:STANDARD
TZOFFSETFROM:-0700
TZOFFSETTO:-0800
TZNAME:PST
DTSTART:20161106T090000
END:STANDARD
BEGIN:DAYLIGHT
TZOFFSETFROM:-0800
TZOFFSETTO:-0700
TZNAME:PDT
DTSTART:20170312T100000
END:DAYLIGHT
BEGIN:STANDARD
TZOFFSETFROM:-0700
TZOFFSETTO:-0800
TZNAME:PST
DTSTART:20171105T090000
END:STANDARD
END:VTIMEZONE
BEGIN:VEVENT
DTSTART;TZID=America/Los_Angeles:20161222T120000
DTEND;TZID=America/Los_Angeles:20161222T160000
DTSTAMP:20260423T191934
CREATED:20161221T235033Z
LAST-MODIFIED:20161221T235033Z
UID:10000150-1482408000-1482422400@helmsdesigndistrict.com
SUMMARY:Dandelion Ranch Pops Up On Helms Avenue
DESCRIPTION:On Thursday and Friday\, December 22 – 23 from 12:00 – 4:00PM\, our neighbors over at Dandelion Ranch are heading to Helms Avenue (across from Room & Board) with their holiday wreaths\, boughs\, and floral arrangements to help our busy guests get another errand crossed off their list. If you’re heading to a holiday party and need a hostess gift or just need to fancy up your own home for the holidays\, stop by to see these ladies. \n  \n 
URL:https://helmsdesigndistrict.com/event/dandelion-ranch-pops-up-on-helms-avenue/
LOCATION:Helms Walk\, 3270 Helms Avenue\, Los Angeles\, CA\, 90034
CATEGORIES:News
ATTACH;FMTTYPE=image/jpeg:https://helmsdesigndistrict.com/wp-content/uploads/2016/12/Holiday-Pop-Up.jpg
GEO:34.0306591;-118.384688
X-APPLE-STRUCTURED-LOCATION;VALUE=URI;X-ADDRESS=Helms Walk 3270 Helms Avenue Los Angeles CA 90034;X-APPLE-RADIUS=500;X-TITLE=3270 Helms Avenue:geo:-118.384688,34.0306591
END:VEVENT
END:VCALENDAR