BEGIN:VCALENDAR
VERSION:2.0
PRODID:-//Helms Design District - ECPv6.15.18//NONSGML v1.0//EN
CALSCALE:GREGORIAN
METHOD:PUBLISH
X-ORIGINAL-URL:https://helmsdesigndistrict.com
X-WR-CALDESC:Events for Helms Design District
REFRESH-INTERVAL;VALUE=DURATION:PT1H
X-Robots-Tag:noindex
X-PUBLISHED-TTL:PT1H
BEGIN:VTIMEZONE
TZID:America/Los_Angeles
BEGIN:DAYLIGHT
TZOFFSETFROM:-0800
TZOFFSETTO:-0700
TZNAME:PDT
DTSTART:20200308T100000
END:DAYLIGHT
BEGIN:STANDARD
TZOFFSETFROM:-0700
TZOFFSETTO:-0800
TZNAME:PST
DTSTART:20201101T090000
END:STANDARD
BEGIN:DAYLIGHT
TZOFFSETFROM:-0800
TZOFFSETTO:-0700
TZNAME:PDT
DTSTART:20210314T100000
END:DAYLIGHT
BEGIN:STANDARD
TZOFFSETFROM:-0700
TZOFFSETTO:-0800
TZNAME:PST
DTSTART:20211107T090000
END:STANDARD
BEGIN:DAYLIGHT
TZOFFSETFROM:-0800
TZOFFSETTO:-0700
TZNAME:PDT
DTSTART:20220313T100000
END:DAYLIGHT
BEGIN:STANDARD
TZOFFSETFROM:-0700
TZOFFSETTO:-0800
TZNAME:PST
DTSTART:20221106T090000
END:STANDARD
END:VTIMEZONE
BEGIN:VEVENT
DTSTART;TZID=America/Los_Angeles:20210605T110000
DTEND;TZID=America/Los_Angeles:20210605T123000
DTSTAMP:20260423T205101
CREATED:20210601T201116Z
LAST-MODIFIED:20210604T231420Z
UID:10000268-1622890800-1622896200@helmsdesigndistrict.com
SUMMARY:THIS EVENT IS CANCELLED - Design Your Own Dream Space\, A Virtual Community Art Class in Partnership with L.A. GOAL
DESCRIPTION:Free \nTHIS EVENT IS CANCELLED. WE APOLOGIZE FOR THE INCONVENIENCE. \nDue to technical difficulties at the start of our May Design Your Own Dream Space workshop\, it’s possible that some of our registered participants were unable to join the class. We are offering this Virtual Community Art Class again for anyone who would like to join! Whether you couldn’t make it the first time or you would like to participate for a second time\, we can’t wait to see you! \nOn Saturday\, June 5th from 11:00 AM to 12:30 PM\, we are partnering with L.A. GOAL and artist Dani Samson of Calico Flower Studio to bring you a virtual mixed media workshop. \nIn this workshop\, participants will design their own 2-dimensional dream space – for example\, a home\, a room\, a garden – through a mixed media approach. Dani will walk you through creative prompts to help ease the flow of ideas. Dani will demonstrate by creating her own dream space\, but the specific design will ultimately be up to each participant. \nGrab your family\, a friend\, or an artist in your life and join the fun! This class is intended to be enjoyable\, joyful\, and inspirational. A time to explore your creativity\, connect with a creative community\, and decompress from the stresses of everyday life. No experience necessary. \nRead MORE about suggested art materials HERE. \nLEARN MORE & REGISTER HERE \nRegistration closes on Friday\, June 4th at 6pm PST. If you register after registration closes\, we cannot guarantee that you will be admitted to the workshop. \n*Please be punctual! Once Dani begins class\, she will not be repeating instructions for late-comers. \n \nABOUT DANI SAMPSON\nDani Michaux Samson is a scrappy mixed media collage artist. She loves to collect residual material from her art and her day-to-day so that she may give it new life in her collages. Her creative practice stems from thoughts about her living space\, the sanctuary that she calls home. Naturally\, her cat is one of her muses and her number one studio assistant. Born and raised in Ohio\, Dani received her MFA degree from Columbus College of Art & Design just before moving to Los Angeles in 2019. In L.A.\, she established her business\, Calico Flower Studio\, where her independent artwork can be viewed and purchased online. In the past\, she has facilitated art activities with organizations such as Goodwill Columbus Art Studio & Gallery\, Kya’s Krusade\, Paint Nite\, and Columbus Museum of Art. Her range of experience has allowed her to work with people of various ages and abilities. Currently\, Dani brings art into the lives of LAUSD middle schoolers in the Team Prime Time After School Program. Throughout her career\, she has maintained the belief that everyone has creative potential. Dani is so excited to meet the Helms Bakery/L.A. GOAL community!
URL:https://helmsdesigndistrict.com/event/design-your-own-dream-space-a-virtual-community-art-class-in-partnership-with-l-a-goal-june-5/
LOCATION:Zoom\, CA
CATEGORIES:News
ATTACH;FMTTYPE=image/png:https://helmsdesigndistrict.com/wp-content/uploads/2021/06/50ce80c8-5506-4484-bfa8-a358eb7e2fd5_1.png
END:VEVENT
BEGIN:VEVENT
DTSTART;TZID=America/Los_Angeles:20210501T110000
DTEND;TZID=America/Los_Angeles:20210501T123000
DTSTAMP:20260423T205101
CREATED:20210426T222850Z
LAST-MODIFIED:20210426T222850Z
UID:10000427-1619866800-1619872200@helmsdesigndistrict.com
SUMMARY:Design Your Own Dream Space\, A Virtual Community Art Class in Partnership with L.A. GOAL
DESCRIPTION:Free\nOn Saturday\, May 1st from 11:00 AM to 12:30 PM\, we are partnering with L.A. GOAL and artist Dani Samson of Calico Flower Studio to bring you a virtual mixed media workshop. \nIn this workshop\, participants will design their own 2-dimensional dream space – for example\, a home\, a room\, a garden – through a mixed media approach. Dani will walk you through creative prompts to help ease the flow of ideas. Dani will demonstrate by creating her own dream space\, but the specific design will ultimately be up to each participant. \nGrab your family\, a friend\, or an artist in your life and join the fun! This class is intended to be enjoyable\, joyful\, and inspirational. A time to explore your creativity\, connect with a creative community\, and decompress from the stresses of everyday life. No experience necessary. \nRead MORE about suggested art materials HERE. \nREGISTER HERE \n***Please be punctual! Once Dani begins class\, she will not be repeating instructions for late-comers.*** \n \nABOUT DANI SAMPSON\nDani Michaux Samson is a scrappy mixed media collage artist. She loves to collect residual material from her art and her day-to-day so that she may give it new life in her collages. Her creative practice stems from thoughts about her living space\, the sanctuary that she calls home. Naturally\, her cat is one of her muses and her number one studio assistant. Born and raised in Ohio\, Dani received her MFA degree from Columbus College of Art & Design just before moving to Los Angeles in 2019. In L.A.\, she established her business\, Calico Flower Studio\, where her independent artwork can be viewed and purchased online. In the past\, she has facilitated art activities with organizations such as Goodwill Columbus Art Studio & Gallery\, Kya’s Krusade\, Paint Nite\, and Columbus Museum of Art. Her range of experience has allowed her to work with people of various ages and abilities. Currently\, Dani brings art into the lives of LAUSD middle schoolers in the Team Prime Time After School Program. Throughout her career\, she has maintained the belief that everyone has creative potential. Dani is so excited to meet the Helms Bakery/L.A. GOAL community!
URL:https://helmsdesigndistrict.com/event/design-your-own-dream-space-a-virtual-community-art-class-in-partnership-with-l-a-goal/
LOCATION:Zoom\, CA
CATEGORIES:News
ATTACH;FMTTYPE=image/jpeg:https://helmsdesigndistrict.com/wp-content/uploads/2021/04/Art-Workshop-Announcement-web.jpg
END:VEVENT
END:VCALENDAR