BEGIN:VCALENDAR
VERSION:2.0
PRODID:-//Helms Design District - ECPv6.15.18//NONSGML v1.0//EN
CALSCALE:GREGORIAN
METHOD:PUBLISH
X-WR-CALNAME:Helms Design District
X-ORIGINAL-URL:https://helmsdesigndistrict.com
X-WR-CALDESC:Events for Helms Design District
REFRESH-INTERVAL;VALUE=DURATION:PT1H
X-Robots-Tag:noindex
X-PUBLISHED-TTL:PT1H
BEGIN:VTIMEZONE
TZID:America/Los_Angeles
BEGIN:DAYLIGHT
TZOFFSETFROM:-0800
TZOFFSETTO:-0700
TZNAME:PDT
DTSTART:20230312T100000
END:DAYLIGHT
BEGIN:STANDARD
TZOFFSETFROM:-0700
TZOFFSETTO:-0800
TZNAME:PST
DTSTART:20231105T090000
END:STANDARD
BEGIN:DAYLIGHT
TZOFFSETFROM:-0800
TZOFFSETTO:-0700
TZNAME:PDT
DTSTART:20240310T100000
END:DAYLIGHT
BEGIN:STANDARD
TZOFFSETFROM:-0700
TZOFFSETTO:-0800
TZNAME:PST
DTSTART:20241103T090000
END:STANDARD
BEGIN:DAYLIGHT
TZOFFSETFROM:-0800
TZOFFSETTO:-0700
TZNAME:PDT
DTSTART:20250309T100000
END:DAYLIGHT
BEGIN:STANDARD
TZOFFSETFROM:-0700
TZOFFSETTO:-0800
TZNAME:PST
DTSTART:20251102T090000
END:STANDARD
END:VTIMEZONE
BEGIN:VEVENT
DTSTART;TZID=America/Los_Angeles:20240302T160000
DTEND;TZID=America/Los_Angeles:20240302T180000
DTSTAMP:20260423T204221
CREATED:20240215T223038Z
LAST-MODIFIED:20240215T231300Z
UID:10001870-1709395200-1709402400@helmsdesigndistrict.com
SUMMARY:Arcana Book Signing with Dawoud Bey for Elegy
DESCRIPTION:Free \nOn Saturday\, March 2nd from 4:00 to 6:00 pm\, please join Arcana: Books on the Arts for a book signing with Dawoud Bey to celebrate the publication of Elegy \nIf you cannot attend and would like to order a signed copy to have shipped or to pick up at Arcana\, please place your order here. \n\nRenowned for his Harlem street scenes and expressive portraits\, Dawoud Bey continues his ongoing series on African American history focusing on the landscape to create a portrait of the early African American presence in the United States. Elegy brings together Bey’s three landscape series to date – “Night Coming Tenderly\, Black (2017)”\, “In This Here Place (2021)”\, and “Stoney the Road (2023)” – elucidating the deep historical memory still embedded in the geography of the United States. Bey takes viewers to the historic Richmond Slave Trail in Virginia\, where Africans were marched onto auction blocks; to the plantations of Louisiana\, where they labored; and along the last stages of the Underground Railroad in Ohio\, where fugitives sought self-emancipation. Essays by the exhibition’s curator\, Valerie Cassel Oliver\, and scholars LeRonn P. Brooks\, Imani Perry\, and Christina Sharpe illuminate the work. By interweaving these bodies of work into an elegy in three movements\, Bey doesn’t merely evoke history\, he retells it through historically grounded images that challenge viewers to go beyond seeing and imagine lived experiences. \nA brand new example additionally SIGNED by photographer Dawoud Bey. \n\nCover Image: Untitled (James River) from the series Stony the Road\, 2023\, Dawoud Bey (American\, born 1953)\, gelatin silver print. Virginia Museum of Fine Arts\, Gift of Mrs. Alfred duPont\, by exchange. Image © Dawoud Bey. Photograph of Dawoud Bey © Frank Ashman.
URL:https://helmsdesigndistrict.com/event/elegy/
LOCATION:Arcana: Books on the Arts\, 8675 Washington Blvd.\, Culver City\, CA\, 90232
CATEGORIES:News
ATTACH;FMTTYPE=image/jpeg:https://helmsdesigndistrict.com/wp-content/uploads/2024/02/Dawoud-Bey_Cover_1045px.jpg
GEO:34.0300679;-118.3835128
X-APPLE-STRUCTURED-LOCATION;VALUE=URI;X-ADDRESS=Arcana: Books on the Arts 8675 Washington Blvd. Culver City CA 90232;X-APPLE-RADIUS=500;X-TITLE=8675 Washington Blvd.:geo:-118.3835128,34.0300679
END:VEVENT
END:VCALENDAR