BEGIN:VCALENDAR
VERSION:2.0
PRODID:-//Helms Design District - ECPv6.15.18//NONSGML v1.0//EN
CALSCALE:GREGORIAN
METHOD:PUBLISH
X-WR-CALNAME:Helms Design District
X-ORIGINAL-URL:https://helmsdesigndistrict.com
X-WR-CALDESC:Events for Helms Design District
REFRESH-INTERVAL;VALUE=DURATION:PT1H
X-Robots-Tag:noindex
X-PUBLISHED-TTL:PT1H
BEGIN:VTIMEZONE
TZID:America/Los_Angeles
BEGIN:DAYLIGHT
TZOFFSETFROM:-0800
TZOFFSETTO:-0700
TZNAME:PDT
DTSTART:20150308T100000
END:DAYLIGHT
BEGIN:STANDARD
TZOFFSETFROM:-0700
TZOFFSETTO:-0800
TZNAME:PST
DTSTART:20151101T090000
END:STANDARD
BEGIN:DAYLIGHT
TZOFFSETFROM:-0800
TZOFFSETTO:-0700
TZNAME:PDT
DTSTART:20160313T100000
END:DAYLIGHT
BEGIN:STANDARD
TZOFFSETFROM:-0700
TZOFFSETTO:-0800
TZNAME:PST
DTSTART:20161106T090000
END:STANDARD
BEGIN:DAYLIGHT
TZOFFSETFROM:-0800
TZOFFSETTO:-0700
TZNAME:PDT
DTSTART:20170312T100000
END:DAYLIGHT
BEGIN:STANDARD
TZOFFSETFROM:-0700
TZOFFSETTO:-0800
TZNAME:PST
DTSTART:20171105T090000
END:STANDARD
BEGIN:DAYLIGHT
TZOFFSETFROM:-0800
TZOFFSETTO:-0700
TZNAME:PDT
DTSTART:20180311T100000
END:DAYLIGHT
BEGIN:STANDARD
TZOFFSETFROM:-0700
TZOFFSETTO:-0800
TZNAME:PST
DTSTART:20181104T090000
END:STANDARD
BEGIN:DAYLIGHT
TZOFFSETFROM:-0800
TZOFFSETTO:-0700
TZNAME:PDT
DTSTART:20190310T100000
END:DAYLIGHT
BEGIN:STANDARD
TZOFFSETFROM:-0700
TZOFFSETTO:-0800
TZNAME:PST
DTSTART:20191103T090000
END:STANDARD
BEGIN:DAYLIGHT
TZOFFSETFROM:-0800
TZOFFSETTO:-0700
TZNAME:PDT
DTSTART:20200308T100000
END:DAYLIGHT
BEGIN:STANDARD
TZOFFSETFROM:-0700
TZOFFSETTO:-0800
TZNAME:PST
DTSTART:20201101T090000
END:STANDARD
BEGIN:DAYLIGHT
TZOFFSETFROM:-0800
TZOFFSETTO:-0700
TZNAME:PDT
DTSTART:20210314T100000
END:DAYLIGHT
BEGIN:STANDARD
TZOFFSETFROM:-0700
TZOFFSETTO:-0800
TZNAME:PST
DTSTART:20211107T090000
END:STANDARD
BEGIN:DAYLIGHT
TZOFFSETFROM:-0800
TZOFFSETTO:-0700
TZNAME:PDT
DTSTART:20220313T100000
END:DAYLIGHT
BEGIN:STANDARD
TZOFFSETFROM:-0700
TZOFFSETTO:-0800
TZNAME:PST
DTSTART:20221106T090000
END:STANDARD
END:VTIMEZONE
BEGIN:VEVENT
DTSTART;TZID=America/Los_Angeles:20210218T183000
DTEND;TZID=America/Los_Angeles:20210218T193000
DTSTAMP:20260423T204223
CREATED:20210202T182700Z
LAST-MODIFIED:20210202T184535Z
UID:10000410-1613673000-1613676600@helmsdesigndistrict.com
SUMMARY:Architecture is a Social Act with Lorcan O'Herlihy + Frances Anderton
DESCRIPTION:Free\nOn Thursday\, February 18th from 6:30 to 7:30PM\, please join Lorcan O’Herlihy\, FAIA\, and Frances Anderton for a livestream discussion about LOHA’s latest monograph Architecture Is a Social Act. Lorcan and Frances will talk about his work\, and how he navigates tight budgets and stakeholder needs to integrate common space. He will also share insights into 410 Rossmore\, his latest Los Angeles project\, where he will add five new floors of co-living space to the 90-year-old apartment building in Hancock Park. \nRegister here. Once you register\, a Zoom link will be emailed prior to the event date. \nTo purchase a signed copy of the book\, please visit Arcana: Books on the Arts. \n \nLorcan O’Herlihy is the founder and design principal of Lorcan O’Herlihy Architects [LOHA]\, a Los Angeles/Detroit based architecture and urban design firm. \nLorcan O’Herlihy spent his childhood as a thespian’s son. His father Dan O’Herlihy was an actor and took his family on overseas shoots. From time spent hanging out in Rome\, London and other great urban cities\, Lorcan developed a deep appreciation for social space. \nHe has since made his mark as an architect with housing\, workplaces and cultural buildings that put human connectivity at their center\, while emphasizing bold design. Formosa 1140 in West Hollywood\, for example\, connects residents and neighbors in a pocket park\, and it bursts with the color and spirit of the nearby Formosa Cafe\, a one time drinking haunt of Dan O’Herlihy and his buddy Orson Welles. O’Herlihy has tackled social inequity in Detroit with a conversion of the African Bead Museum\, new housing and neighborhood plans. At Isla Intersections in South LA\, he has put supportive housing in a complex of prefabricated structures attached to a paseo. These are just some of the projects featured in his latest monograph\, Architecture Is a Social Act published by Frame\, with an introduction by Frances Anderton. \n \nFrances Anderton covers design and architecture in Los Angeles for radio\, podcast and print. A series she co-produced\, Wasted: Neat Solutions to the Dirty Problem of Waste\, is currently airing on KCRW public radio station. She is writing a book entitled Common Ground: Multifamily Housing in Los Angeles; and she is working with Helms Bakery District on the programming of events and talks about design\, architecture and art. \n  \n 
URL:https://helmsdesigndistrict.com/event/architecture-is-a-social-act-with-lorcan-oherlihy-frances-anderton/
LOCATION:Zoom\, CA
CATEGORIES:News
ATTACH;FMTTYPE=image/jpeg:https://helmsdesigndistrict.com/wp-content/uploads/2021/02/LOHA-Book-Cover-web.jpg
END:VEVENT
BEGIN:VEVENT
DTSTART;TZID=America/Los_Angeles:20160915T183000
DTEND;TZID=America/Los_Angeles:20160915T210000
DTSTAMP:20260423T204223
CREATED:20160826T194058Z
LAST-MODIFIED:20160826T195820Z
UID:10000107-1473964200-1473973200@helmsdesigndistrict.com
SUMMARY:Design For The Ages: Up Close With Frances Anderton and Roman Alonso
DESCRIPTION:Join acclaimed designer and founding partner of Commune Design\, Roman Alonso\, as he sits down with Frances Anderton\, host of KCRW’s Design and Architecture\, to talk about how our environmental needs evolve as we age. A new generation of consumers of design are aging and expecting to live in spaces very different from Sun City\, Arizona. Roman\, who is known for designing projects for the jet set\, will talk about how this kind of design thinking can be applied to designing for the silver set. \n8745 Washington Boulevard \nFree Valet Parking is located at 8711 Washington Boulevard\, Culver City \nLight bites & refreshments. \nSeating is limited so please RSVP here.\n \n \n \n 
URL:https://helmsdesigndistrict.com/event/design-for-the-ages-up-close-with-frances-anderton-and-roman-alonso/
LOCATION:Helms Design Center\, 8745 Washington Boulevard\, Culver City\, CA\, 90232
CATEGORIES:News
ATTACH;FMTTYPE=image/jpeg:https://helmsdesigndistrict.com/wp-content/uploads/2015/04/Frances-Anderton_Roman-Alonso_sfw.jpg
GEO:34.0286594;-118.3857496
X-APPLE-STRUCTURED-LOCATION;VALUE=URI;X-ADDRESS=Helms Design Center 8745 Washington Boulevard Culver City CA 90232;X-APPLE-RADIUS=500;X-TITLE=8745 Washington Boulevard:geo:-118.3857496,34.0286594
END:VEVENT
END:VCALENDAR