BEGIN:VCALENDAR
VERSION:2.0
PRODID:-//Helms Design District - ECPv6.15.18//NONSGML v1.0//EN
CALSCALE:GREGORIAN
METHOD:PUBLISH
X-ORIGINAL-URL:https://helmsdesigndistrict.com
X-WR-CALDESC:Events for Helms Design District
REFRESH-INTERVAL;VALUE=DURATION:PT1H
X-Robots-Tag:noindex
X-PUBLISHED-TTL:PT1H
BEGIN:VTIMEZONE
TZID:America/Los_Angeles
BEGIN:DAYLIGHT
TZOFFSETFROM:-0800
TZOFFSETTO:-0700
TZNAME:PDT
DTSTART:20140309T100000
END:DAYLIGHT
BEGIN:STANDARD
TZOFFSETFROM:-0700
TZOFFSETTO:-0800
TZNAME:PST
DTSTART:20141102T090000
END:STANDARD
BEGIN:DAYLIGHT
TZOFFSETFROM:-0800
TZOFFSETTO:-0700
TZNAME:PDT
DTSTART:20150308T100000
END:DAYLIGHT
BEGIN:STANDARD
TZOFFSETFROM:-0700
TZOFFSETTO:-0800
TZNAME:PST
DTSTART:20151101T090000
END:STANDARD
BEGIN:DAYLIGHT
TZOFFSETFROM:-0800
TZOFFSETTO:-0700
TZNAME:PDT
DTSTART:20160313T100000
END:DAYLIGHT
BEGIN:STANDARD
TZOFFSETFROM:-0700
TZOFFSETTO:-0800
TZNAME:PST
DTSTART:20161106T090000
END:STANDARD
END:VTIMEZONE
BEGIN:VEVENT
DTSTART;TZID=America/Los_Angeles:20151206T130000
DTEND;TZID=America/Los_Angeles:20151206T150000
DTSTAMP:20260422T045712
CREATED:20151125T230153Z
LAST-MODIFIED:20151125T230153Z
UID:10000061-1449406800-1449414000@helmsdesigndistrict.com
SUMMARY:Diana Wyenn's Interactive Performance "Compassio\N" Comes To Helms Walk
DESCRIPTION:Join us on Sunday\, December 6th from 1:00 – 3:00pm on Helms Walk\, our pedestrian plaza on Helms Avenue\, for Diana Wyenn’s interactive performance Compassio\N. Compassion is an ancient idea upon which all the major religions place great importance. Compassion is also quickly becoming a new age buzzword. \nInvestigating the historical and contemporary uses\, references\, and definitions of compassion through the lens of Climate Change\, this series of short mixed media performances directed by Diana Wyenn confronts our relationship to the term and the ambition\, as well as its actual embodiment and exclusion in local\, U.S.\, and global culture today. \nPerformed outside in unexpected places at unexpected times and using movement\, text\, screens\, intimacy\, and humor\, Compassio\N surprises and compels its unsuspecting audience to ask: What form does compassion take in our capitalist society? If compassion is the response to the suffering of others that motivates a desire to help\, who is suffering? And how much motivation is needed before one helps? \nParking is located at the Free Valet in the lot on Helms Avenue and Venice Boulevard. \nThe Helms Bakery Festival events run Thursday\, December 3rd through Wednesday\, December 9th.  We hope you join us for a film screening or discussion\, enjoy an art installation or theatre performance\, or come to all of the events around our campus. The Festival umbrella brings together a collective of artists who have much to share about shaping a better future. For a complete Festival calendar\, click here. \nAbout VisionLA\n The VisionLA ’15 Climate Action Arts Festival is the first-ever multi-disciplinary arts festival throughout the greater Los Angeles area organized to give artists a voice in the increasingly urgent conversation around climate change\, resource use and environmental social justice. The festival is an all-volunteer\, grassroots effort organized by artists for artists\, and for the Los Angeles community as a whole. This first year\, the festival is timed to coincide with the UN’s COP21 Global Climate Conference in Paris\, from November 30 through December 11\, to raise awareness of this important milestone in the international call for strong carbon emissions standards.
URL:https://helmsdesigndistrict.com/event/diana-wyenns-interactive-performance-compassion-comes-to-helms-walk/
LOCATION:Helms Walk\, 3270 Helms Avenue\, Los Angeles\, CA\, 90034
CATEGORIES:News
ATTACH;FMTTYPE=image/gif:https://helmsdesigndistrict.com/wp-content/uploads/2015/11/CompassioN.gif
GEO:34.0306591;-118.384688
X-APPLE-STRUCTURED-LOCATION;VALUE=URI;X-ADDRESS=Helms Walk 3270 Helms Avenue Los Angeles CA 90034;X-APPLE-RADIUS=500;X-TITLE=3270 Helms Avenue:geo:-118.384688,34.0306591
END:VEVENT
END:VCALENDAR