BEGIN:VCALENDAR
VERSION:2.0
PRODID:-//Helms Design District - ECPv6.15.18//NONSGML v1.0//EN
CALSCALE:GREGORIAN
METHOD:PUBLISH
X-ORIGINAL-URL:https://helmsdesigndistrict.com
X-WR-CALDESC:Events for Helms Design District
REFRESH-INTERVAL;VALUE=DURATION:PT1H
X-Robots-Tag:noindex
X-PUBLISHED-TTL:PT1H
BEGIN:VTIMEZONE
TZID:America/Los_Angeles
BEGIN:DAYLIGHT
TZOFFSETFROM:-0800
TZOFFSETTO:-0700
TZNAME:PDT
DTSTART:20150308T100000
END:DAYLIGHT
BEGIN:STANDARD
TZOFFSETFROM:-0700
TZOFFSETTO:-0800
TZNAME:PST
DTSTART:20151101T090000
END:STANDARD
BEGIN:DAYLIGHT
TZOFFSETFROM:-0800
TZOFFSETTO:-0700
TZNAME:PDT
DTSTART:20160313T100000
END:DAYLIGHT
BEGIN:STANDARD
TZOFFSETFROM:-0700
TZOFFSETTO:-0800
TZNAME:PST
DTSTART:20161106T090000
END:STANDARD
BEGIN:DAYLIGHT
TZOFFSETFROM:-0800
TZOFFSETTO:-0700
TZNAME:PDT
DTSTART:20170312T100000
END:DAYLIGHT
BEGIN:STANDARD
TZOFFSETFROM:-0700
TZOFFSETTO:-0800
TZNAME:PST
DTSTART:20171105T090000
END:STANDARD
END:VTIMEZONE
BEGIN:VEVENT
DTSTART;TZID=America/Los_Angeles:20160929T190000
DTEND;TZID=America/Los_Angeles:20160929T220000
DTSTAMP:20260423T231246
CREATED:20160927T235955Z
LAST-MODIFIED:20160928T155427Z
UID:10000115-1475175600-1475186400@helmsdesigndistrict.com
SUMMARY:The Urbanism Filmmaking Challenge Comes To Helms Design Center
DESCRIPTION:We are excited to partner with The New Urbanism Film Festival to present THE URBANISM FILMMAKING CHALLENGE on September 29th thru October 9th. Filmmakers have a week to shoot and edit a 3 to 5 minute documentary about a contemporary LA urban planning issue or project\, submit the finished film\, and then participate in a premiere and awards ceremony. \nPart 1: NUFF Talks  Thursday\, September 29th 7pm\nHelms Design Center\n8745 Washington Boulevard\nTop urban thinkers and local community leaders give seven minute long presentations on LA’s dynamic urban landscape. These presentations form the basis of the documentaries. Topics are as diverse as the city itself and may include street art\, road diets\, homelessness\, development issues\, advocacy efforts\, and more. The filmmakers who have accepted the challenge watch the presentations\, and afterwards choose who they want to work with. It’s a fun urbanism/filmmaking speed dating atmosphere. Free Valet Parking is available in the lot at Helms Avenue and Venice Boulevard. (This event is also open to the public.) \nPart 2: Filmmaking  September 30th – October 8th\nThe following week\, the urbanist and filmmaker work together to complete the film. The urbanist may assist the filmmaker by arranging location shoots and interviews with fellow experts\, and by providing historical or relevant photos. The films are finished and submitted by 11:59pm Saturday October 8th. \nPart 3: Film Premieres Sunday\, October 9th 7pm\nHelms Design Center\n8745 Washington Boulevard\nThe films are premiered at the Helms Design Center on Sunday October 9th at 7pm. Awards are presented immediately following the screening. \nAwards:\n1st Place: $300 Cash\, Betabrand Gear Bag\, Custom Design Award\, NUFF Gift bag\, and Registration with InkTip.\n2nd & 3rd Place: Betabrand Gear Bag and NUFF Gift bag.\nThe judges panel includes: Lisa Hasko (International Documentary Association)\, Travis Knight (last year’s winner)\,\nand Diego Cardoso (Planning Director for LA County Metro).\nEntry Fee: Filmmakers $25\, Urbanists $25\, Audience $10.\nStudent & Nonprofit discounts available. \nFor more information visit and to purchase tickets: www.NewUrbanismFilmFestival.com/ufc
URL:https://helmsdesigndistrict.com/event/the-urbanism-filmmaking-challenge-comes-to-helms-design-center/
LOCATION:Helms Design Center\, 8745 Washington Boulevard\, Culver City\, CA\, 90232
CATEGORIES:News
ATTACH;FMTTYPE=image/jpeg:https://helmsdesigndistrict.com/wp-content/uploads/2016/09/nuff-fmc-2016.jpg
GEO:34.0286594;-118.3857496
X-APPLE-STRUCTURED-LOCATION;VALUE=URI;X-ADDRESS=Helms Design Center 8745 Washington Boulevard Culver City CA 90232;X-APPLE-RADIUS=500;X-TITLE=8745 Washington Boulevard:geo:-118.3857496,34.0286594
END:VEVENT
END:VCALENDAR