BEGIN:VCALENDAR
VERSION:2.0
PRODID:-//Helms Design District - ECPv6.15.18//NONSGML v1.0//EN
CALSCALE:GREGORIAN
METHOD:PUBLISH
X-ORIGINAL-URL:https://helmsdesigndistrict.com
X-WR-CALDESC:Events for Helms Design District
REFRESH-INTERVAL;VALUE=DURATION:PT1H
X-Robots-Tag:noindex
X-PUBLISHED-TTL:PT1H
BEGIN:VTIMEZONE
TZID:America/Los_Angeles
BEGIN:DAYLIGHT
TZOFFSETFROM:-0800
TZOFFSETTO:-0700
TZNAME:PDT
DTSTART:20220313T100000
END:DAYLIGHT
BEGIN:STANDARD
TZOFFSETFROM:-0700
TZOFFSETTO:-0800
TZNAME:PST
DTSTART:20221106T090000
END:STANDARD
BEGIN:DAYLIGHT
TZOFFSETFROM:-0800
TZOFFSETTO:-0700
TZNAME:PDT
DTSTART:20230312T100000
END:DAYLIGHT
BEGIN:STANDARD
TZOFFSETFROM:-0700
TZOFFSETTO:-0800
TZNAME:PST
DTSTART:20231105T090000
END:STANDARD
BEGIN:DAYLIGHT
TZOFFSETFROM:-0800
TZOFFSETTO:-0700
TZNAME:PDT
DTSTART:20240310T100000
END:DAYLIGHT
BEGIN:STANDARD
TZOFFSETFROM:-0700
TZOFFSETTO:-0800
TZNAME:PST
DTSTART:20241103T090000
END:STANDARD
END:VTIMEZONE
BEGIN:VEVENT
DTSTART;TZID=America/Los_Angeles:20231028T150000
DTEND;TZID=America/Los_Angeles:20231028T170000
DTSTAMP:20260422T103638
CREATED:20231012T152123Z
LAST-MODIFIED:20231026T175322Z
UID:10001850-1698505200-1698512400@helmsdesigndistrict.com
SUMMARY:Book Signing with Jim Goldberg: Coming and Going
DESCRIPTION:Free \nPlease join Arcana: Books on the Arts Saturday\, October 28th\, 3:00-5:00 pm\, for a discussion with Jim Goldberg and Douglas Fogle for Goldberg’s new book Coming and Going\, published by MACK. \n* PLEASE NOTE *\nThe discussion will begin at 3:20 and will be followed by the book signing. \nComing and Going will be available for purchase beginning at 3:00 at the event space (8707 Washington Blvd.) and is available for pre-order on the Arcana website now. \nMr. Goldberg’s schedule is tight and he will prioritize signing Coming and Going over other material brought to the event. \nAll seating has been reserved by those who have RSVP’d. But there is plenty of standing room\, so please do join us. If you have already RSVP’d please arrive by 3:15 to insure your seat.  Seats will be open to all after 3:15 regardless of RSVP. \nEvent Location:\n8707 Washington Boulevard (200 feet West of Arcana) \nFree parking available at 8711 Washington Boulevard \n\n		\n	 \n \n	\n		\n			\n\n“Coming and Going is Jim Goldberg’s unique work of autobiography. Since 1999\, Goldberg has been photographing his daily life through all its vicissitudes and returning to his studio to re-imagine and investigate these images through a practice of collage\, annotation\, montage\, and reconstruction for which he has become renowned. This book charts a course through the grief following the death of one’s parents\, the life-altering birth of a child\, the heartbreak of divorce\, and the rediscovery of love. Told using a correspondingly tumultuous blend of singular and combined imagery\, personal notes\, collages\, and ephemera\, the book captures the bittersweet realities of an individual life while reflecting on the universal\, inescapable comings and goings that shape us and the ways we grow to understand ourselves. Familiar from celebrated works such as Rich and Poor (1985)\, Raised by Wolves (1995) and Open See (2009)\, Goldberg’s visual language employs sequence and narrative with a feverish intensity. History\, memory\, and imagination collide in a vividly material practice to which the influences of fiction and film\, and the book form itself\, are central. Coming and Going offers a fierce\, vulnerable\, and at times overwhelming account of a life and a search for the elusive universals of experience – an achievement that constitutes Goldberg’s masterwork and a significant contribution to contemporary bookmaking.” \nIf you cannot attend and would like to purchase a signed copy of Coming and Going\, please email Arcana or place your order here!
URL:https://helmsdesigndistrict.com/event/jim-goldberg/
LOCATION:8707 Washington Boulevard\, Culver City\, CA 90232\, 8707 Washington Boulevard\, Culver City\, 90232\, United States
CATEGORIES:News
ATTACH;FMTTYPE=image/jpeg:https://helmsdesigndistrict.com/wp-content/uploads/2023/10/Jim-Goldberg_848px.jpg
END:VEVENT
END:VCALENDAR