BEGIN:VCALENDAR
VERSION:2.0
PRODID:-//Helms Design District - ECPv6.15.18//NONSGML v1.0//EN
CALSCALE:GREGORIAN
METHOD:PUBLISH
X-WR-CALNAME:Helms Design District
X-ORIGINAL-URL:https://helmsdesigndistrict.com
X-WR-CALDESC:Events for Helms Design District
REFRESH-INTERVAL;VALUE=DURATION:PT1H
X-Robots-Tag:noindex
X-PUBLISHED-TTL:PT1H
BEGIN:VTIMEZONE
TZID:America/Los_Angeles
BEGIN:DAYLIGHT
TZOFFSETFROM:-0800
TZOFFSETTO:-0700
TZNAME:PDT
DTSTART:20180311T100000
END:DAYLIGHT
BEGIN:STANDARD
TZOFFSETFROM:-0700
TZOFFSETTO:-0800
TZNAME:PST
DTSTART:20181104T090000
END:STANDARD
BEGIN:DAYLIGHT
TZOFFSETFROM:-0800
TZOFFSETTO:-0700
TZNAME:PDT
DTSTART:20190310T100000
END:DAYLIGHT
BEGIN:STANDARD
TZOFFSETFROM:-0700
TZOFFSETTO:-0800
TZNAME:PST
DTSTART:20191103T090000
END:STANDARD
BEGIN:DAYLIGHT
TZOFFSETFROM:-0800
TZOFFSETTO:-0700
TZNAME:PDT
DTSTART:20200308T100000
END:DAYLIGHT
BEGIN:STANDARD
TZOFFSETFROM:-0700
TZOFFSETTO:-0800
TZNAME:PST
DTSTART:20201101T090000
END:STANDARD
END:VTIMEZONE
BEGIN:VEVENT
DTSTART;TZID=America/Los_Angeles:20190928T191500
DTEND;TZID=America/Los_Angeles:20190928T213000
DTSTAMP:20260423T231907
CREATED:20190806T214844Z
LAST-MODIFIED:20190806T220215Z
UID:10000323-1569698100-1569706200@helmsdesigndistrict.com
SUMMARY:Helms Sunset Cinema: E.T. the Extra-Terrestrial
DESCRIPTION:Free\nJoin us on Helms Walk\, our pedestrian plaza on Helms Avenue\, for our annual Sunset Cinema series. This year we are kicking it way back to the 1980s\, with some film classics the whole family will enjoy. The final film in the series is E.T. the Extra-Terrestrial\, the story of a troubled child who summons the courage to help a friendly alien escape Earth and return to his home world. Directed by Steven Spielberg and starring Henry Thomas\, Drew Barrymore\, and Peter Coyote. \n1982 | Rated PG | Runtime: 115 Min \nCome by early to shop\, grab a bite\, or get your movie snack to go. We’ll provide plenty of chairs\, so bring your friends and neighbors for a little free fun under the stars. See you next year!
URL:https://helmsdesigndistrict.com/event/e-t-the-extra-terrestrial/
LOCATION:Helms Walk\, 3270 Helms Avenue\, Los Angeles\, CA\, 90034
CATEGORIES:News
ATTACH;FMTTYPE=image/jpeg:https://helmsdesigndistrict.com/wp-content/uploads/2019/08/ET_WEB.jpg
GEO:34.0306591;-118.384688
X-APPLE-STRUCTURED-LOCATION;VALUE=URI;X-ADDRESS=Helms Walk 3270 Helms Avenue Los Angeles CA 90034;X-APPLE-RADIUS=500;X-TITLE=3270 Helms Avenue:geo:-118.384688,34.0306591
END:VEVENT
END:VCALENDAR