BEGIN:VCALENDAR
VERSION:2.0
PRODID:-//Helms Design District - ECPv6.15.18//NONSGML v1.0//EN
CALSCALE:GREGORIAN
METHOD:PUBLISH
X-WR-CALNAME:Helms Design District
X-ORIGINAL-URL:https://helmsdesigndistrict.com
X-WR-CALDESC:Events for Helms Design District
REFRESH-INTERVAL;VALUE=DURATION:PT1H
X-Robots-Tag:noindex
X-PUBLISHED-TTL:PT1H
BEGIN:VTIMEZONE
TZID:America/Los_Angeles
BEGIN:DAYLIGHT
TZOFFSETFROM:-0800
TZOFFSETTO:-0700
TZNAME:PDT
DTSTART:20210314T100000
END:DAYLIGHT
BEGIN:STANDARD
TZOFFSETFROM:-0700
TZOFFSETTO:-0800
TZNAME:PST
DTSTART:20211107T090000
END:STANDARD
BEGIN:DAYLIGHT
TZOFFSETFROM:-0800
TZOFFSETTO:-0700
TZNAME:PDT
DTSTART:20220313T100000
END:DAYLIGHT
BEGIN:STANDARD
TZOFFSETFROM:-0700
TZOFFSETTO:-0800
TZNAME:PST
DTSTART:20221106T090000
END:STANDARD
BEGIN:DAYLIGHT
TZOFFSETFROM:-0800
TZOFFSETTO:-0700
TZNAME:PDT
DTSTART:20230312T100000
END:DAYLIGHT
BEGIN:STANDARD
TZOFFSETFROM:-0700
TZOFFSETTO:-0800
TZNAME:PST
DTSTART:20231105T090000
END:STANDARD
END:VTIMEZONE
BEGIN:VEVENT
DTSTART;TZID=America/Los_Angeles:20220903T160000
DTEND;TZID=America/Los_Angeles:20220903T180000
DTSTAMP:20260423T204243
CREATED:20220830T162007Z
LAST-MODIFIED:20220830T174850Z
UID:10000505-1662220800-1662228000@helmsdesigndistrict.com
SUMMARY:Book Signing at Arcana with Gregory Bojorquez for Eastsiders
DESCRIPTION:Please join us at Arcana: Books on the Arts on Saturday\, September 3rd\, 4:00 – 6:00 PM\, for a book signing \nGregory Bojorquez: Eastsiders\nIf you cannot attend but would like a signed copy of the brand new\, second printing of Eastsiders\, please place your order here\, or call Arcana at 310-458-1499. They have a few copies remaining of the quickly sold out first edition that can be ordered while supplies last. \nEastsiders is the brand new collection of Gregory Bojorquez’ images spanning over twenty-five years of the noted Los Angeles photographer’s vision. “This book showcases the robust body of work of Bojorquez\, photographs depicting the complex\, but also celebratory\, reality of Los Angeles’s vast Eastside. Not only the tattoos\, clothing\, and walls related to La Vida Loca\, but also the mothers\, the gardens\, the children\, the working men\, the decorated lowrider cars\, the spirit of resiliency.” – Luis J Rodriguez \nGregory Bojorquez was born in Los Angeles in 1972. He started photographing in his teens\, and set about documenting the subjects and stories that interested him personally. The intimate images he captured in East L.A. were not the product of structured photo sessions or assignments. They were shot from the perspective of a young man hanging out with friends and neighbors. In the late 1980s Gregory began photographing for the L.A. Weekly and was added as a staff photographer. Assignments for magazines and commercial work for major record labels naturally followed. His portraits of personalities such as Snoop Dogg and Mike Tyson appeared in publications such as Rolling Stone and For His magazine. In 1999 Gregory became instrumental in the early beginnings of DUB Magazine where he was brought on as Photo Editor and a feature photographer for a period of more than seven years. Since that time\, Gregory’s photographs have been exhibited internationally in gallery shows\, museum exhibitions\, and art fairs including Photo London\, Paris Photo\, and Art Düsseldorf. His work is represented by Galerie Bene Taschen in Koln\, and by Little Big Man in Los Angeles; who has published this spectacular volume. \n 
URL:https://helmsdesigndistrict.com/event/gregory-bojorquez/
LOCATION:Arcana: Books on the Arts\, 8675 Washington Blvd.\, Culver City\, CA\, 90232
CATEGORIES:News
ATTACH;FMTTYPE=image/jpeg:https://helmsdesigndistrict.com/wp-content/uploads/2022/08/Gregory-Bojorquez-Eastsiders.jpg
GEO:34.0300679;-118.3835128
X-APPLE-STRUCTURED-LOCATION;VALUE=URI;X-ADDRESS=Arcana: Books on the Arts 8675 Washington Blvd. Culver City CA 90232;X-APPLE-RADIUS=500;X-TITLE=8675 Washington Blvd.:geo:-118.3835128,34.0300679
END:VEVENT
END:VCALENDAR