BEGIN:VCALENDAR
VERSION:2.0
PRODID:-//Helms Design District - ECPv6.15.18//NONSGML v1.0//EN
CALSCALE:GREGORIAN
METHOD:PUBLISH
X-WR-CALNAME:Helms Design District
X-ORIGINAL-URL:https://helmsdesigndistrict.com
X-WR-CALDESC:Events for Helms Design District
REFRESH-INTERVAL;VALUE=DURATION:PT1H
X-Robots-Tag:noindex
X-PUBLISHED-TTL:PT1H
BEGIN:VTIMEZONE
TZID:America/Los_Angeles
BEGIN:DAYLIGHT
TZOFFSETFROM:-0800
TZOFFSETTO:-0700
TZNAME:PDT
DTSTART:20230312T100000
END:DAYLIGHT
BEGIN:STANDARD
TZOFFSETFROM:-0700
TZOFFSETTO:-0800
TZNAME:PST
DTSTART:20231105T090000
END:STANDARD
BEGIN:DAYLIGHT
TZOFFSETFROM:-0800
TZOFFSETTO:-0700
TZNAME:PDT
DTSTART:20240310T100000
END:DAYLIGHT
BEGIN:STANDARD
TZOFFSETFROM:-0700
TZOFFSETTO:-0800
TZNAME:PST
DTSTART:20241103T090000
END:STANDARD
BEGIN:DAYLIGHT
TZOFFSETFROM:-0800
TZOFFSETTO:-0700
TZNAME:PDT
DTSTART:20250309T100000
END:DAYLIGHT
BEGIN:STANDARD
TZOFFSETFROM:-0700
TZOFFSETTO:-0800
TZNAME:PST
DTSTART:20251102T090000
END:STANDARD
END:VTIMEZONE
BEGIN:VEVENT
DTSTART;TZID=America/Los_Angeles:20240330T110000
DTEND;TZID=America/Los_Angeles:20240330T190000
DTSTAMP:20260423T191929
CREATED:20240328T220737Z
LAST-MODIFIED:20240328T220737Z
UID:10001877-1711796400-1711825200@helmsdesigndistrict.com
SUMMARY:Golden Egg Hunt at Room & Board
DESCRIPTION:What’s more fun than an Egg Hunt? An Egg Hunt with toy-filled goodies! Bring the kiddos to Room & Board this Saturday\, March 30th\, for an afternoon exploring their 2024 Collection and enjoying a full day of treasure-hunting family fun. \nRoom & Board\nToy-Filled Golden Egg Hunt (for Kids)\nSaturday\, March 30th\n11AM  – 7PM \n*While supplies last
URL:https://helmsdesigndistrict.com/event/golden-egg-hunt-at-room-board/
LOCATION:Room&Board\, 3231 Helms Avenue\, Culver City\, CA\, 90034
CATEGORIES:News
ATTACH;FMTTYPE=image/jpeg:https://helmsdesigndistrict.com/wp-content/uploads/2024/03/RB-EggHunt-2024_Email-News.jpg
GEO:34.0296674;-118.3846043
X-APPLE-STRUCTURED-LOCATION;VALUE=URI;X-ADDRESS=Room&Board 3231 Helms Avenue Culver City CA 90034;X-APPLE-RADIUS=500;X-TITLE=3231 Helms Avenue:geo:-118.3846043,34.0296674
END:VEVENT
END:VCALENDAR