BEGIN:VCALENDAR
VERSION:2.0
PRODID:-//Helms Design District - ECPv6.15.18//NONSGML v1.0//EN
CALSCALE:GREGORIAN
METHOD:PUBLISH
X-ORIGINAL-URL:https://helmsdesigndistrict.com
X-WR-CALDESC:Events for Helms Design District
REFRESH-INTERVAL;VALUE=DURATION:PT1H
X-Robots-Tag:noindex
X-PUBLISHED-TTL:PT1H
BEGIN:VTIMEZONE
TZID:America/Los_Angeles
BEGIN:DAYLIGHT
TZOFFSETFROM:-0800
TZOFFSETTO:-0700
TZNAME:PDT
DTSTART:20160313T100000
END:DAYLIGHT
BEGIN:STANDARD
TZOFFSETFROM:-0700
TZOFFSETTO:-0800
TZNAME:PST
DTSTART:20161106T090000
END:STANDARD
BEGIN:DAYLIGHT
TZOFFSETFROM:-0800
TZOFFSETTO:-0700
TZNAME:PDT
DTSTART:20170312T100000
END:DAYLIGHT
BEGIN:STANDARD
TZOFFSETFROM:-0700
TZOFFSETTO:-0800
TZNAME:PST
DTSTART:20171105T090000
END:STANDARD
BEGIN:DAYLIGHT
TZOFFSETFROM:-0800
TZOFFSETTO:-0700
TZNAME:PDT
DTSTART:20180311T100000
END:DAYLIGHT
BEGIN:STANDARD
TZOFFSETFROM:-0700
TZOFFSETTO:-0800
TZNAME:PST
DTSTART:20181104T090000
END:STANDARD
END:VTIMEZONE
BEGIN:VEVENT
DTSTART;TZID=America/Los_Angeles:20170604T150000
DTEND;TZID=America/Los_Angeles:20170604T170000
DTSTAMP:20260423T204237
CREATED:20170525T001125Z
LAST-MODIFIED:20170525T002310Z
UID:10000164-1496588400-1496595600@helmsdesigndistrict.com
SUMMARY:Arcana Books Hosts a day of Art + Salad with Julia Sherman and Evan Kleiman
DESCRIPTION:Free\nOn Sunday\, June 4th from 3 to 5 PM\, please join Arcana: Books on the Arts for this extra special event celebrating the publication of Julia Sherman’s fantastic new Abrams book: Salad For President! \nQ + A between Ms. Sherman and Evan Kleiman will begin around 3:30\, concurrent with the nude figure and vegetable life drawing. Listen\, sketch from life\, snack on Sherman’s Mexican Fruit Salad (recipe from the book!) and raise a glass! Bring your own art supplies or use the charcoal and newsprint provided by Arcana.\n \nThe creator of the immensely popular Salad for President blog presents a visually rich collection of more than 75 salad recipes\, with contributions and interviews by artists/creative professionals like William Wegman\, Tauba Auerbach\, Laurie Anderson\, and Alice Waters. Sherman loves salad\, and she encourages her readers to consider it an everyday indulgence that can include cocktails\, soups\, family style brunch dishes\, and dinner-party entrées. \nSalad—with its infinite possibilities—is a game of endless combinations\, not stifling rules. And with that in mind\, Salad for President offers a window into how artists approach preparing their favorite dishes. Sherman visits sculptors\, painters\, photographers\, and musicians in their homes and gardens\, interviewing and photographing them as they cook. Utterly unique in its look into the worlds of food\, art\, and everyday practices\, Salad for President is at once a practical resource for healthy\, satisfying recipes and an inspiring look at creativity.
URL:https://helmsdesigndistrict.com/event/arcana-books-hosts-a-discussion-and-book-signing-for-so-ils-solid-objectives-order-edge-aura-copy/
LOCATION:Arcana: Books on the Arts\, 8675 Washington Blvd.\, Culver City\, CA\, 90232
CATEGORIES:News
ATTACH;FMTTYPE=image/jpeg:https://helmsdesigndistrict.com/wp-content/uploads/2017/05/Arcana-17.06.04.jpg
GEO:34.0300679;-118.3835128
X-APPLE-STRUCTURED-LOCATION;VALUE=URI;X-ADDRESS=Arcana: Books on the Arts 8675 Washington Blvd. Culver City CA 90232;X-APPLE-RADIUS=500;X-TITLE=8675 Washington Blvd.:geo:-118.3835128,34.0300679
END:VEVENT
END:VCALENDAR