BEGIN:VCALENDAR
VERSION:2.0
PRODID:-//Helms Design District - ECPv6.15.18//NONSGML v1.0//EN
CALSCALE:GREGORIAN
METHOD:PUBLISH
X-ORIGINAL-URL:https://helmsdesigndistrict.com
X-WR-CALDESC:Events for Helms Design District
REFRESH-INTERVAL;VALUE=DURATION:PT1H
X-Robots-Tag:noindex
X-PUBLISHED-TTL:PT1H
BEGIN:VTIMEZONE
TZID:America/Los_Angeles
BEGIN:DAYLIGHT
TZOFFSETFROM:-0800
TZOFFSETTO:-0700
TZNAME:PDT
DTSTART:20190310T100000
END:DAYLIGHT
BEGIN:STANDARD
TZOFFSETFROM:-0700
TZOFFSETTO:-0800
TZNAME:PST
DTSTART:20191103T090000
END:STANDARD
BEGIN:DAYLIGHT
TZOFFSETFROM:-0800
TZOFFSETTO:-0700
TZNAME:PDT
DTSTART:20200308T100000
END:DAYLIGHT
BEGIN:STANDARD
TZOFFSETFROM:-0700
TZOFFSETTO:-0800
TZNAME:PST
DTSTART:20201101T090000
END:STANDARD
BEGIN:DAYLIGHT
TZOFFSETFROM:-0800
TZOFFSETTO:-0700
TZNAME:PDT
DTSTART:20210314T100000
END:DAYLIGHT
BEGIN:STANDARD
TZOFFSETFROM:-0700
TZOFFSETTO:-0800
TZNAME:PST
DTSTART:20211107T090000
END:STANDARD
END:VTIMEZONE
BEGIN:VEVENT
DTSTART;TZID=America/Los_Angeles:20200528T160000
DTEND;TZID=America/Los_Angeles:20200528T173000
DTSTAMP:20260424T022611
CREATED:20200303T185055Z
LAST-MODIFIED:20200518T194419Z
UID:10000383-1590681600-1590687000@helmsdesigndistrict.com
SUMMARY:A lecture and live Q+A discussion with Dana Cuff from cityLAB
DESCRIPTION:Join us on Thursday\, May 28th\, for a lecture and live Q+A discussion with Dana Cuff | Architecture as Demonstration: Design for the Long Game\nIn collaboration with the Cal Poly LA Metro Program in Architecture and Urban Design \nLecture is Free and Open to the Public \nRegister for the  Zoom Webinar\n\nDana Cuff \nDana Cuff is Professor of Architecture and Urban Design at UCLA where she is also Director of cityLAB\, an award-winning think tank that advances experimental urbanism and architecture. Since receiving her Ph.D. in Architecture from Berkeley\, Cuff has published and lectured widely about spatial justice\, the architectural profession\, and affordable housing. She is author of several books\, including The Provisional City about postwar housing in Los Angeles\, and a co-authored book (in bookstores next year) documenting her innovative cross-disciplinary project at UCLA called the Urban Humanities Initiative\, funded by the Mellon Foundation. Based on cityLAB’s design research\, she co-authored a landmark bill that permits “backyard homes” on virtually all 8 million single-family properties in California (AB 2299\, Bloom-2016)\, doubling the density of suburbs across the state. She and her team are currently working on a wide range of new forms of affordable housing to be co-located with schools. cityLAB recently initiated a satellite center in one underserved neighborhood of Los Angeles\, where a deep\, multi-year exchange with community organizations will demonstrate ways that humanistic design of the public realm can create more compassionate cities. Cuff was the recent recipient of two prestigious awards that describe her career: Women in Architecture Activist of the Year (2019\, Architectural Record) and the international prize for Researcher of the Year (2019\, Architectural Research Centers Consortium). \n\nIntroduced and moderated by Stephen Phillips\, AIA\, PhD\, Principal of Stephen Phillips Architects (SPARCHS) and professor\, director\, Cal Poly LA Metro Program in Architecture and Urban Design (California Polytechnic State University\, San Luis Obispo) \nFree Parking is available at the corner of Helms Ave. and Venice Blvd. \nPhotos (Left to Right): Image of Dana Cuff\, Image of Backyard BIHOME\, Image of Deep Think.
URL:https://helmsdesigndistrict.com/event/dana-cuff/
CATEGORIES:News
ATTACH;FMTTYPE=image/jpeg:https://helmsdesigndistrict.com/wp-content/uploads/2020/03/DanaCuff_800px.jpg
END:VEVENT
END:VCALENDAR