BEGIN:VCALENDAR
VERSION:2.0
PRODID:-//Helms Design District - ECPv6.15.18//NONSGML v1.0//EN
CALSCALE:GREGORIAN
METHOD:PUBLISH
X-WR-CALNAME:Helms Design District
X-ORIGINAL-URL:https://helmsdesigndistrict.com
X-WR-CALDESC:Events for Helms Design District
REFRESH-INTERVAL;VALUE=DURATION:PT1H
X-Robots-Tag:noindex
X-PUBLISHED-TTL:PT1H
BEGIN:VTIMEZONE
TZID:America/Los_Angeles
BEGIN:DAYLIGHT
TZOFFSETFROM:-0800
TZOFFSETTO:-0700
TZNAME:PDT
DTSTART:20200308T100000
END:DAYLIGHT
BEGIN:STANDARD
TZOFFSETFROM:-0700
TZOFFSETTO:-0800
TZNAME:PST
DTSTART:20201101T090000
END:STANDARD
BEGIN:DAYLIGHT
TZOFFSETFROM:-0800
TZOFFSETTO:-0700
TZNAME:PDT
DTSTART:20210314T100000
END:DAYLIGHT
BEGIN:STANDARD
TZOFFSETFROM:-0700
TZOFFSETTO:-0800
TZNAME:PST
DTSTART:20211107T090000
END:STANDARD
BEGIN:DAYLIGHT
TZOFFSETFROM:-0800
TZOFFSETTO:-0700
TZNAME:PDT
DTSTART:20220313T100000
END:DAYLIGHT
BEGIN:STANDARD
TZOFFSETFROM:-0700
TZOFFSETTO:-0800
TZNAME:PST
DTSTART:20221106T090000
END:STANDARD
END:VTIMEZONE
BEGIN:VEVENT
DTSTART;TZID=America/Los_Angeles:20210128T190000
DTEND;TZID=America/Los_Angeles:20210128T203000
DTSTAMP:20260423T211129
CREATED:20210127T014204Z
LAST-MODIFIED:20210127T014204Z
UID:10000412-1611860400-1611865800@helmsdesigndistrict.com
SUMMARY:Textile Arts LA Presents practiceLAB with Ferne Jacobs
DESCRIPTION:On Thursday\, January 28th at 7:00 pm ONLINE\, please join us in welcoming Textile Arts Los Angeles in a spirited\, freeform conversation with Ferne Jacobs. Where does an Idea come from? What is an Idea? When does it emerge? How do you know it is an idea? How do you relate to the idea? \nTextile Arts kicks off 2021 with an idiosyncratic\, unconventional\, open-ended dialogue about the provenance\, shape\, and meaning of an idea. They will open the floor right away for Q&A and commentary from the audience. Please come with your own research\, quotes\, and experience with ideas. \nTickets $FREE members; $20 non-members
URL:https://helmsdesigndistrict.com/event/textile-arts-la-presents-practicelab-with-ferne-jacobs/
LOCATION:Zoom\, CA
CATEGORIES:News
ATTACH;FMTTYPE=image/jpeg:https://helmsdesigndistrict.com/wp-content/uploads/2021/01/Ferne-Jacobs-web.jpg
END:VEVENT
END:VCALENDAR