BEGIN:VCALENDAR
VERSION:2.0
PRODID:-//Helms Design District - ECPv6.15.18//NONSGML v1.0//EN
CALSCALE:GREGORIAN
METHOD:PUBLISH
X-ORIGINAL-URL:https://helmsdesigndistrict.com
X-WR-CALDESC:Events for Helms Design District
REFRESH-INTERVAL;VALUE=DURATION:PT1H
X-Robots-Tag:noindex
X-PUBLISHED-TTL:PT1H
BEGIN:VTIMEZONE
TZID:America/Los_Angeles
BEGIN:DAYLIGHT
TZOFFSETFROM:-0800
TZOFFSETTO:-0700
TZNAME:PDT
DTSTART:20190310T100000
END:DAYLIGHT
BEGIN:STANDARD
TZOFFSETFROM:-0700
TZOFFSETTO:-0800
TZNAME:PST
DTSTART:20191103T090000
END:STANDARD
BEGIN:DAYLIGHT
TZOFFSETFROM:-0800
TZOFFSETTO:-0700
TZNAME:PDT
DTSTART:20200308T100000
END:DAYLIGHT
BEGIN:STANDARD
TZOFFSETFROM:-0700
TZOFFSETTO:-0800
TZNAME:PST
DTSTART:20201101T090000
END:STANDARD
BEGIN:DAYLIGHT
TZOFFSETFROM:-0800
TZOFFSETTO:-0700
TZNAME:PDT
DTSTART:20210314T100000
END:DAYLIGHT
BEGIN:STANDARD
TZOFFSETFROM:-0700
TZOFFSETTO:-0800
TZNAME:PST
DTSTART:20211107T090000
END:STANDARD
END:VTIMEZONE
BEGIN:VEVENT
DTSTART;TZID=America/Los_Angeles:20200130T190000
DTEND;TZID=America/Los_Angeles:20200130T210000
DTSTAMP:20260422T025247
CREATED:20200128T205354Z
LAST-MODIFIED:20200128T205354Z
UID:10000370-1580410800-1580418000@helmsdesigndistrict.com
SUMMARY:Author Talk + Book Signing with Fibershed Founder\, Rebecca Burgess
DESCRIPTION:On Thursday\, January 30th\, the Southern California Fibershed Affiliate is delighted to welcome Fibershed founder Rebecca Burgess to Los Angeles for an exclusive conversation and book signing for Fibershed: Growing a Movement of Farmers\, Fashion Activists\, and Makers for a New Textile Economy. Rebecca will be joined by moderator Kamea Chayne of the Green Dreamer Podcast. \nGreen Dreamer with Kamea Chayne is a podcast and multimedia journal illuminating our paths to ecological regeneration\, intersectional sustainability\, and true abundance and wellness for all. \nThere will be  a few copies of the book available for sale at the event. \nSeating is limited – Please RSVP Here.\nDoors Open at 7 pm.\nConversation with Rebecca 7:30 – 8:30 pm\, including a brief Q&A. Mingling and light bites until 9:30 pm.\nFree Valet Parking is located at 8711 Washington Boulevard\, adjacent to the event location.
URL:https://helmsdesigndistrict.com/event/author-talk-book-signing-with-fibershed-founder-rebecca-burgess/
LOCATION:Helms Design Center\, 8745 Washington Boulevard\, Culver City\, CA\, 90232
CATEGORIES:News
ATTACH;FMTTYPE=image/jpeg:https://helmsdesigndistrict.com/wp-content/uploads/2020/01/Rebecca-Burgess.jpg
GEO:34.0286594;-118.3857496
X-APPLE-STRUCTURED-LOCATION;VALUE=URI;X-ADDRESS=Helms Design Center 8745 Washington Boulevard Culver City CA 90232;X-APPLE-RADIUS=500;X-TITLE=8745 Washington Boulevard:geo:-118.3857496,34.0286594
END:VEVENT
END:VCALENDAR