BEGIN:VCALENDAR
VERSION:2.0
PRODID:-//Helms Design District - ECPv6.15.18//NONSGML v1.0//EN
CALSCALE:GREGORIAN
METHOD:PUBLISH
X-ORIGINAL-URL:https://helmsdesigndistrict.com
X-WR-CALDESC:Events for Helms Design District
REFRESH-INTERVAL;VALUE=DURATION:PT1H
X-Robots-Tag:noindex
X-PUBLISHED-TTL:PT1H
BEGIN:VTIMEZONE
TZID:America/Los_Angeles
BEGIN:DAYLIGHT
TZOFFSETFROM:-0800
TZOFFSETTO:-0700
TZNAME:PDT
DTSTART:20210314T100000
END:DAYLIGHT
BEGIN:STANDARD
TZOFFSETFROM:-0700
TZOFFSETTO:-0800
TZNAME:PST
DTSTART:20211107T090000
END:STANDARD
BEGIN:DAYLIGHT
TZOFFSETFROM:-0800
TZOFFSETTO:-0700
TZNAME:PDT
DTSTART:20220313T100000
END:DAYLIGHT
BEGIN:STANDARD
TZOFFSETFROM:-0700
TZOFFSETTO:-0800
TZNAME:PST
DTSTART:20221106T090000
END:STANDARD
BEGIN:DAYLIGHT
TZOFFSETFROM:-0800
TZOFFSETTO:-0700
TZNAME:PDT
DTSTART:20230312T100000
END:DAYLIGHT
BEGIN:STANDARD
TZOFFSETFROM:-0700
TZOFFSETTO:-0800
TZNAME:PST
DTSTART:20231105T090000
END:STANDARD
END:VTIMEZONE
BEGIN:VEVENT
DTSTART;TZID=America/Los_Angeles:20220512T183000
DTEND;TZID=America/Los_Angeles:20220512T203000
DTSTAMP:20260423T232238
CREATED:20220509T235759Z
LAST-MODIFIED:20220510T145056Z
UID:10000463-1652380200-1652387400@helmsdesigndistrict.com
SUMMARY:A reception\, lecture\, and discussion with Victor Jones
DESCRIPTION:Join us on Thursday\, May 12th\, 6:30-8:30 pm\, for a reception\, lecture\, and discussion with Victor Jones\nTweakers & Upcyclers\nIn collaboration with the Helms Bakery District and the Cal Poly SLO LA Metro Program in Architecture and Urban Design \nHELMS DESIGN CENTER        \n8745 Washington Blvd.\, Culver City\, CA 90232 \nFree Parking is available at the corner of Helms Ave. and Venice Blvd. \nLecture is Free and Open to the Public \nRSVP\n\nVictor Jones \nVictor Jones is a designer\, writer\, and cultural activist. His creative and intellectual work stands at the intersection of architecture\, community engagement\, and the urban experience. Infrastructure as a social\, political\, and spatial instrument is central to his scholarship\, design research\, and teaching. \nJones’s written works include (IN)FORMAL L.A.: The Space of Politics (eVolo Press\, 2014)\, A Distant Bridge | Un pont à part (MétisPresses\, 2016)\, and “New Orleans – Ecological Urbanism” in Shaping the City: Studies in History\, Theory\, and Urban Design (Routledge\, 2013). \nIn addition\, Jones is design principal of Fièvre + Jones Inc. Projects include Near Noah (2021)\, Bywater Houses (2015)\, and Watt House Project Platform (2011). \nCurrently Graduate Director and Assistant Professor of Architecture at Cal Poly Pomona\, Jones has taught design studios and seminars at Tulane University\, the University of California at Los Angeles\, and the University of Southern California. \nHe lives and works in Los Angeles with his partner Alain Fièvre. \nIntroduced and moderated by Stephen Phillips\, FAIA\, PhD\, Principal of Stephen Phillips Architects (SPARCHS) and professor\, director\, Cal Poly LA Metro Program in Architecture and Urban Design (California Polytechnic State University\, San Luis Obispo). \nPhotos (Left to Right): Image of Victor Jones\, Image of Guild House\, 2021\, Image of Couples\, 2020.\n \n 
URL:https://helmsdesigndistrict.com/event/victor-jones/
LOCATION:Helms Design Center\, 8745 Washington Boulevard\, Culver City\, CA\, 90232
CATEGORIES:News
ATTACH;FMTTYPE=image/jpeg:https://helmsdesigndistrict.com/wp-content/uploads/2022/05/Victor-Jones_1200px.jpg
GEO:34.0286594;-118.3857496
X-APPLE-STRUCTURED-LOCATION;VALUE=URI;X-ADDRESS=Helms Design Center 8745 Washington Boulevard Culver City CA 90232;X-APPLE-RADIUS=500;X-TITLE=8745 Washington Boulevard:geo:-118.3857496,34.0286594
END:VEVENT
END:VCALENDAR