BEGIN:VCALENDAR
VERSION:2.0
PRODID:-//Helms Design District - ECPv6.15.18//NONSGML v1.0//EN
CALSCALE:GREGORIAN
METHOD:PUBLISH
X-ORIGINAL-URL:https://helmsdesigndistrict.com
X-WR-CALDESC:Events for Helms Design District
REFRESH-INTERVAL;VALUE=DURATION:PT1H
X-Robots-Tag:noindex
X-PUBLISHED-TTL:PT1H
BEGIN:VTIMEZONE
TZID:America/Los_Angeles
BEGIN:DAYLIGHT
TZOFFSETFROM:-0800
TZOFFSETTO:-0700
TZNAME:PDT
DTSTART:20220313T100000
END:DAYLIGHT
BEGIN:STANDARD
TZOFFSETFROM:-0700
TZOFFSETTO:-0800
TZNAME:PST
DTSTART:20221106T090000
END:STANDARD
BEGIN:DAYLIGHT
TZOFFSETFROM:-0800
TZOFFSETTO:-0700
TZNAME:PDT
DTSTART:20230312T100000
END:DAYLIGHT
BEGIN:STANDARD
TZOFFSETFROM:-0700
TZOFFSETTO:-0800
TZNAME:PST
DTSTART:20231105T090000
END:STANDARD
BEGIN:DAYLIGHT
TZOFFSETFROM:-0800
TZOFFSETTO:-0700
TZNAME:PDT
DTSTART:20240310T100000
END:DAYLIGHT
BEGIN:STANDARD
TZOFFSETFROM:-0700
TZOFFSETTO:-0800
TZNAME:PST
DTSTART:20241103T090000
END:STANDARD
END:VTIMEZONE
BEGIN:VEVENT
DTSTART;TZID=America/Los_Angeles:20230622T190000
DTEND;TZID=America/Los_Angeles:20230622T200000
DTSTAMP:20260424T002142
CREATED:20230613T165854Z
LAST-MODIFIED:20230615T212454Z
UID:10001814-1687460400-1687464000@helmsdesigndistrict.com
SUMMARY:Creating Gen AI Tools with and for Designers
DESCRIPTION:Free \nJoin members of the Adobe Design and Community teams for a very special event\, as they host a conversation with local designers about the design process behind Adobe’s Gen AI tools.\nPanelists will discuss how they’re currently using AI in their design workflows\, touch upon what’s ahead\, and talk about how it takes a human touch to make and create the next generation of design tools. There will be a brief demo\, followed by the panel discussion\, and wrap with audience Q&A. \nSpeakers: Tomasz Opasinski + Annie Lu + Lisa Carney + Nick Longo + Chrysanthe Tenentes \nHelms Design Center\n8745 Washington Blvd\, Culver City\, CA 90232
URL:https://helmsdesigndistrict.com/event/adobe-firefly/
LOCATION:Helms Design Center\, 8745 Washington Boulevard\, Culver City\, CA\, 90232
CATEGORIES:News
ATTACH;FMTTYPE=image/jpeg:https://helmsdesigndistrict.com/wp-content/uploads/2023/06/Adobe-SFDW_banner_square_1080px.jpg
GEO:34.0286594;-118.3857496
X-APPLE-STRUCTURED-LOCATION;VALUE=URI;X-ADDRESS=Helms Design Center 8745 Washington Boulevard Culver City CA 90232;X-APPLE-RADIUS=500;X-TITLE=8745 Washington Boulevard:geo:-118.3857496,34.0286594
END:VEVENT
END:VCALENDAR