BEGIN:VCALENDAR
VERSION:2.0
PRODID:-//Helms Design District - ECPv6.15.18//NONSGML v1.0//EN
CALSCALE:GREGORIAN
METHOD:PUBLISH
X-WR-CALNAME:Helms Design District
X-ORIGINAL-URL:https://helmsdesigndistrict.com
X-WR-CALDESC:Events for Helms Design District
REFRESH-INTERVAL;VALUE=DURATION:PT1H
X-Robots-Tag:noindex
X-PUBLISHED-TTL:PT1H
BEGIN:VTIMEZONE
TZID:America/Los_Angeles
BEGIN:DAYLIGHT
TZOFFSETFROM:-0800
TZOFFSETTO:-0700
TZNAME:PDT
DTSTART:20140309T100000
END:DAYLIGHT
BEGIN:STANDARD
TZOFFSETFROM:-0700
TZOFFSETTO:-0800
TZNAME:PST
DTSTART:20141102T090000
END:STANDARD
BEGIN:DAYLIGHT
TZOFFSETFROM:-0800
TZOFFSETTO:-0700
TZNAME:PDT
DTSTART:20150308T100000
END:DAYLIGHT
BEGIN:STANDARD
TZOFFSETFROM:-0700
TZOFFSETTO:-0800
TZNAME:PST
DTSTART:20151101T090000
END:STANDARD
BEGIN:DAYLIGHT
TZOFFSETFROM:-0800
TZOFFSETTO:-0700
TZNAME:PDT
DTSTART:20160313T100000
END:DAYLIGHT
BEGIN:STANDARD
TZOFFSETFROM:-0700
TZOFFSETTO:-0800
TZNAME:PST
DTSTART:20161106T090000
END:STANDARD
END:VTIMEZONE
BEGIN:VEVENT
DTSTART;TZID=America/Los_Angeles:20151206T190000
DTEND;TZID=America/Los_Angeles:20151206T210000
DTSTAMP:20260423T204253
CREATED:20151130T193138Z
LAST-MODIFIED:20151130T193138Z
UID:10000002-1449428400-1449435600@helmsdesigndistrict.com
SUMMARY:Helms Bakery Partners With VisionLA To Screen "100 Mules Walking the Los Angeles Aqueduct"
DESCRIPTION:Join us on Sunday\, December 6th from 7:00 – 9:00pm for an evening of films including the screening of 100 Mules Walking the Los Angeles Aqueduct. \n100 Mules is pure poetry in motion and not to be missed. On the centenary of the opening of the Los Angeles Aqueduct\, Lauren Bon and the Metabolic Studio performed One Hundred Mules Walking the Los Angeles Aqueduct\, a commemorative artist action to connect Los Angeles to its water source. This performative parade of 100 mules traversed the 240 miles of pipelines and canals that bring water from the Eastern Sierras through a gravity-fed system to Los Angeles; passing through three counties and nearly 50 communities along the way took over a month to complete. \nMule power shaped the modern West and was a primary force in constructing the aqueduct\, an engineering feat that took only seven years to complete despite the rough terrain. One Hundred Mules Walking the Los Angeles Aqueduct documents this action with a resolution to move forward into the next hundred years with renewed appreciation for this vital resource. Let it be resolved that the citizens of Los Angeles will do better at utilizing this life-giving resource in the next one hundred years! \nUS 2014 60 min. Director Bruce Dickson; Artist Lauren Bon \nGuests Attending this Screening: artist Lauren Bon and director Bruce Dickson \nScreening with: Soil Carbon Cowboys \nTickets are free but space is limited.  Please make a reservation to secure a seat. \nParking is located at the Free Valet in the lot on Helms Avenue and Venice Boulevard. \nThe Helms Bakery Festival events run Thursday\, December 3rd through Wednesday\, December 9th.  We hope you join us for a film screening or discussion\, enjoy an art installation or theatre performance\, or come to all of the events around our campus. The Festival umbrella brings together a collective of artists who have much to share about shaping a better future. For a complete Festival calendar\, click here. \nAbout VisionLA\n The VisionLA ’15 Climate Action Arts Festival is the first-ever multi-disciplinary arts festival throughout the greater Los Angeles area organized to give artists a voice in the increasingly urgent conversation around climate change\, resource use and environmental social justice. The festival is an all-volunteer\, grassroots effort organized by artists for artists\, and for the Los Angeles community as a whole. This first year\, the festival is timed to coincide with the UN’s COP21 Global Climate Conference in Paris\, from November 30 through December 11\, to raise awareness of this important milestone in the international call for strong carbon emissions standards.
URL:https://helmsdesigndistrict.com/event/helms-bakery-partners-with-visionla-to-screen-100-mules-walking-the-los-angeles-aqueduct/
LOCATION:Helms Design Center\, 8745 Washington Boulevard\, Culver City\, CA\, 90232
CATEGORIES:News
ATTACH;FMTTYPE=image/gif:https://helmsdesigndistrict.com/wp-content/uploads/2015/11/100-Mules.gif
GEO:34.0286594;-118.3857496
X-APPLE-STRUCTURED-LOCATION;VALUE=URI;X-ADDRESS=Helms Design Center 8745 Washington Boulevard Culver City CA 90232;X-APPLE-RADIUS=500;X-TITLE=8745 Washington Boulevard:geo:-118.3857496,34.0286594
END:VEVENT
END:VCALENDAR