BEGIN:VCALENDAR
VERSION:2.0
PRODID:-//Helms Design District - ECPv6.15.18//NONSGML v1.0//EN
CALSCALE:GREGORIAN
METHOD:PUBLISH
X-ORIGINAL-URL:https://helmsdesigndistrict.com
X-WR-CALDESC:Events for Helms Design District
REFRESH-INTERVAL;VALUE=DURATION:PT1H
X-Robots-Tag:noindex
X-PUBLISHED-TTL:PT1H
BEGIN:VTIMEZONE
TZID:America/Los_Angeles
BEGIN:DAYLIGHT
TZOFFSETFROM:-0800
TZOFFSETTO:-0700
TZNAME:PDT
DTSTART:20230312T100000
END:DAYLIGHT
BEGIN:STANDARD
TZOFFSETFROM:-0700
TZOFFSETTO:-0800
TZNAME:PST
DTSTART:20231105T090000
END:STANDARD
BEGIN:DAYLIGHT
TZOFFSETFROM:-0800
TZOFFSETTO:-0700
TZNAME:PDT
DTSTART:20240310T100000
END:DAYLIGHT
BEGIN:STANDARD
TZOFFSETFROM:-0700
TZOFFSETTO:-0800
TZNAME:PST
DTSTART:20241103T090000
END:STANDARD
BEGIN:DAYLIGHT
TZOFFSETFROM:-0800
TZOFFSETTO:-0700
TZNAME:PDT
DTSTART:20250309T100000
END:DAYLIGHT
BEGIN:STANDARD
TZOFFSETFROM:-0700
TZOFFSETTO:-0800
TZNAME:PST
DTSTART:20251102T090000
END:STANDARD
END:VTIMEZONE
BEGIN:VEVENT
DTSTART;TZID=America/Los_Angeles:20240126T090000
DTEND;TZID=America/Los_Angeles:20240128T170000
DTSTAMP:20260423T220228
CREATED:20240212T220053Z
LAST-MODIFIED:20240308T164521Z
UID:10001868-1706259600-1706461200@helmsdesigndistrict.com
SUMMARY:Fresh Perks: Helms Instagram Giveaway for February
DESCRIPTION:We had such a blast sharing our #love for all of you during last December’s Giftable Giveaways on Instagram\, that we’ve decided to give away something every month of the year! \nThat’s right. We are officially calling 2024 the year of Fresh Perks as a way to show our thanks and gratitude. We appreciate  you for choosing Helms Bakery District as your go-to design hub\, your shopping destination\, and a favorite spot to dine. Thanks for spending time with us throughout the entire year and thank you for always showing up. We love seeing you! \nBe sure to follow us on Instagram @helmsbakerydistrict to see what we’re giving away and to be eligible to participate. The Giveaway begins on Friday\, January 26th at 9 am and ends on Sunday\, January 28th at 5 pm. \nTo enter is Simple: \n(1) you must Follow us on Instagram\, \n(2) Tag 2 friends in your comment so they can follow us and enter too\, and \n(3) Tell us why you love Pasta! \nSign up for our newsletter to find out when the next Helms Fresh Perk drops. \nGood luck! \nRules & Regs \n(4) No purchase is required to enter. \n(5) Winners will be selected randomly\, contacted after each giveaway closes\, and announced in our comments on Instagram. \n(6) Open to US residents only\, 18 years and older.  By entering\, entrants confirm they are at least 18+ years of age. \n(7) This is a “GIVEAWAY” and is not eligible for return\, refund\, or exchange at any of our showrooms or restaurants. \n(8) The “Helms Perks” giveaway  is not sponsored\, endorsed\, administered by or associated with Instagram. Entrants release Instagram and all brands of all responsibility and agree to Instagram’s terms of use. \n(9) One entry per Instagram user. Duplicate entries will not be considered. \n(10) This giveaway is open to residents of Los Angeles County.
URL:https://helmsdesigndistrict.com/event/fresh-perks-helms-instagram-giveaway-for-february/
LOCATION:Online\, CA
CATEGORIES:News
ATTACH;FMTTYPE=image/jpeg:https://helmsdesigndistrict.com/wp-content/uploads/2024/01/FRESHPERK-PASTASIS-1.jpg
END:VEVENT
END:VCALENDAR