BEGIN:VCALENDAR
VERSION:2.0
PRODID:-//Helms Design District - ECPv6.15.18//NONSGML v1.0//EN
CALSCALE:GREGORIAN
METHOD:PUBLISH
X-WR-CALNAME:Helms Design District
X-ORIGINAL-URL:https://helmsdesigndistrict.com
X-WR-CALDESC:Events for Helms Design District
REFRESH-INTERVAL;VALUE=DURATION:PT1H
X-Robots-Tag:noindex
X-PUBLISHED-TTL:PT1H
BEGIN:VTIMEZONE
TZID:America/Los_Angeles
BEGIN:DAYLIGHT
TZOFFSETFROM:-0800
TZOFFSETTO:-0700
TZNAME:PDT
DTSTART:20190310T100000
END:DAYLIGHT
BEGIN:STANDARD
TZOFFSETFROM:-0700
TZOFFSETTO:-0800
TZNAME:PST
DTSTART:20191103T090000
END:STANDARD
BEGIN:DAYLIGHT
TZOFFSETFROM:-0800
TZOFFSETTO:-0700
TZNAME:PDT
DTSTART:20200308T100000
END:DAYLIGHT
BEGIN:STANDARD
TZOFFSETFROM:-0700
TZOFFSETTO:-0800
TZNAME:PST
DTSTART:20201101T090000
END:STANDARD
BEGIN:DAYLIGHT
TZOFFSETFROM:-0800
TZOFFSETTO:-0700
TZNAME:PDT
DTSTART:20210314T100000
END:DAYLIGHT
BEGIN:STANDARD
TZOFFSETFROM:-0700
TZOFFSETTO:-0800
TZNAME:PST
DTSTART:20211107T090000
END:STANDARD
END:VTIMEZONE
BEGIN:VEVENT
DTSTART;VALUE=DATE:20201102
DTEND;VALUE=DATE:20201110
DTSTAMP:20260423T205750
CREATED:20201103T193933Z
LAST-MODIFIED:20201103T231903Z
UID:10000411-1604275200-1604966399@helmsdesigndistrict.com
SUMMARY:Room & Board Features an Artist Each Month in Support of LA Family Housing
DESCRIPTION:Please join Room & Board in support of LA Family Housing (LAFH) in an effort to help our homeless neighbors obtain permanent housing and a place to call home. \nWhen you purchase an artwork by the featured artist – this month is Gay Summer Rick– a 50% donation will be made on your behalf to continue the critical and life-saving services LAFH provides. \nFor questions and inquiries\, please contact the artist at gaysummerartist@gmail.com. \nABOUT THE ARTIST\nGay Summer Rick is a Los Angeles-based artist whose practice is focused on creating urban and coastal atmospheric landscapes rendered with a keen sense of place and a flair for abstraction. She applies layers of oil paint on canvas using palette knives to reveal scenes often bathed in the luminosity of clear blue white light\, or set aflame inside the warmth of a blood orange glow. \nBorn and raised in New York\, Gay Summer Rick began her arts education early\, surrounded by artists\, immersed in art. She received a Bachelor of Fine Arts degree in New York at the School of Art and Design\, Alfred University and a Master’s degree from the University of Puget Sound. She has exhibited in the United States\, Europe\, and Japan. Her paintings have been featured in solo gallery exhibitions\, and in national and international gallery and museum group exhibitions where she has received awards and honors. She is a member of Oil Painters of America\, California Art Club\, Malibu Art Association\, and is listed by the Malibu Cultural Arts Commission. Her work has been featured in publications including Artillery Magazine\, Huffington Post\, ArtScene\, Medium\, Dive Madhouse Magazine\, Santa Monica Mirror\, Malibu Surfside News and others\, and in several books and short documentary films. Her paintings are in corporate and private collections around the world. A resident of Southern California for over 25 years\, the artist maintains studios in Inglewood and Malibu. \nThere’s a quiet vibration and unexpected beauty in commonplace elements found in the urban environment. My work describes this in an atmospheric and dreamlike yet familiar manner. – Gay Summer Rick
URL:https://helmsdesigndistrict.com/event/room-board-features-an-artist-each-month-in-support-of-la-family-housing-copy/
LOCATION:Room&Board\, 3231 Helms Avenue\, Culver City\, CA\, 90034
CATEGORIES:News
ATTACH;FMTTYPE=image/jpeg:https://helmsdesigndistrict.com/wp-content/uploads/2020/11/GSRick-Sundays-Sunset-Clouds-750-x-500-web.jpg
GEO:34.0296674;-118.3846043
X-APPLE-STRUCTURED-LOCATION;VALUE=URI;X-ADDRESS=Room&Board 3231 Helms Avenue Culver City CA 90034;X-APPLE-RADIUS=500;X-TITLE=3231 Helms Avenue:geo:-118.3846043,34.0296674
END:VEVENT
END:VCALENDAR