BEGIN:VCALENDAR
VERSION:2.0
PRODID:-//Helms Design District - ECPv6.15.18//NONSGML v1.0//EN
CALSCALE:GREGORIAN
METHOD:PUBLISH
X-WR-CALNAME:Helms Design District
X-ORIGINAL-URL:https://helmsdesigndistrict.com
X-WR-CALDESC:Events for Helms Design District
REFRESH-INTERVAL;VALUE=DURATION:PT1H
X-Robots-Tag:noindex
X-PUBLISHED-TTL:PT1H
BEGIN:VTIMEZONE
TZID:America/Los_Angeles
BEGIN:DAYLIGHT
TZOFFSETFROM:-0800
TZOFFSETTO:-0700
TZNAME:PDT
DTSTART:20150308T100000
END:DAYLIGHT
BEGIN:STANDARD
TZOFFSETFROM:-0700
TZOFFSETTO:-0800
TZNAME:PST
DTSTART:20151101T090000
END:STANDARD
BEGIN:DAYLIGHT
TZOFFSETFROM:-0800
TZOFFSETTO:-0700
TZNAME:PDT
DTSTART:20160313T100000
END:DAYLIGHT
BEGIN:STANDARD
TZOFFSETFROM:-0700
TZOFFSETTO:-0800
TZNAME:PST
DTSTART:20161106T090000
END:STANDARD
BEGIN:DAYLIGHT
TZOFFSETFROM:-0800
TZOFFSETTO:-0700
TZNAME:PDT
DTSTART:20170312T100000
END:DAYLIGHT
BEGIN:STANDARD
TZOFFSETFROM:-0700
TZOFFSETTO:-0800
TZNAME:PST
DTSTART:20171105T090000
END:STANDARD
BEGIN:DAYLIGHT
TZOFFSETFROM:-0800
TZOFFSETTO:-0700
TZNAME:PDT
DTSTART:20180311T100000
END:DAYLIGHT
BEGIN:STANDARD
TZOFFSETFROM:-0700
TZOFFSETTO:-0800
TZNAME:PST
DTSTART:20181104T090000
END:STANDARD
BEGIN:DAYLIGHT
TZOFFSETFROM:-0800
TZOFFSETTO:-0700
TZNAME:PDT
DTSTART:20190310T100000
END:DAYLIGHT
BEGIN:STANDARD
TZOFFSETFROM:-0700
TZOFFSETTO:-0800
TZNAME:PST
DTSTART:20191103T090000
END:STANDARD
BEGIN:DAYLIGHT
TZOFFSETFROM:-0800
TZOFFSETTO:-0700
TZNAME:PDT
DTSTART:20200308T100000
END:DAYLIGHT
BEGIN:STANDARD
TZOFFSETFROM:-0700
TZOFFSETTO:-0800
TZNAME:PST
DTSTART:20201101T090000
END:STANDARD
BEGIN:DAYLIGHT
TZOFFSETFROM:-0800
TZOFFSETTO:-0700
TZNAME:PDT
DTSTART:20210314T100000
END:DAYLIGHT
BEGIN:STANDARD
TZOFFSETFROM:-0700
TZOFFSETTO:-0800
TZNAME:PST
DTSTART:20211107T090000
END:STANDARD
BEGIN:DAYLIGHT
TZOFFSETFROM:-0800
TZOFFSETTO:-0700
TZNAME:PDT
DTSTART:20220313T100000
END:DAYLIGHT
BEGIN:STANDARD
TZOFFSETFROM:-0700
TZOFFSETTO:-0800
TZNAME:PST
DTSTART:20221106T090000
END:STANDARD
BEGIN:DAYLIGHT
TZOFFSETFROM:-0800
TZOFFSETTO:-0700
TZNAME:PDT
DTSTART:20230312T100000
END:DAYLIGHT
BEGIN:STANDARD
TZOFFSETFROM:-0700
TZOFFSETTO:-0800
TZNAME:PST
DTSTART:20231105T090000
END:STANDARD
BEGIN:DAYLIGHT
TZOFFSETFROM:-0800
TZOFFSETTO:-0700
TZNAME:PDT
DTSTART:20240310T100000
END:DAYLIGHT
BEGIN:STANDARD
TZOFFSETFROM:-0700
TZOFFSETTO:-0800
TZNAME:PST
DTSTART:20241103T090000
END:STANDARD
BEGIN:DAYLIGHT
TZOFFSETFROM:-0800
TZOFFSETTO:-0700
TZNAME:PDT
DTSTART:20250309T100000
END:DAYLIGHT
BEGIN:STANDARD
TZOFFSETFROM:-0700
TZOFFSETTO:-0800
TZNAME:PST
DTSTART:20251102T090000
END:STANDARD
END:VTIMEZONE
BEGIN:VEVENT
DTSTART;TZID=America/Los_Angeles:20240601T080000
DTEND;TZID=America/Los_Angeles:20240630T170000
DTSTAMP:20260423T183350
CREATED:20240603T183230Z
LAST-MODIFIED:20240603T184904Z
UID:10001903-1717228800-1719766800@helmsdesigndistrict.com
SUMMARY:Fresh Perks: June Instagram Giveaway
DESCRIPTION:Nothing brings us joy like sharing in some social fun with our followers. It’s time for our monthly Fresh Perks giveaway\, brought to you this June by our friends at H.D. Buttercup. Enter-to-Win this chic and durable Catalina Outdoor Sofa by Coco Republic. This charming sofa features a dual persona crafted from rope set atop a four-legged aluminum base with a durable powder coat finish. A cushion with foam insert is covered in weather-proof fabric. Pair it with the Catalina Lounge Chair to complete your outdoor entertaining space. \nBe sure to follow us on Instagram @helmsbakerydistrict to be eligible to participate. This Fresh Perks giveaway runs from June 1st at 9:00 am thru June 30th at 5:00 pm. One lucky winner will be contacted after the end of the giveaway. \nWe are officially calling 2024 the year of Fresh Perks as a way to show our thanks and gratitude. We appreciate  you for choosing Helms Bakery District as your go-to design hub\, your shopping destination\, and a favorite spot to dine. Thank you for spending time with us throughout the entire year and thank you for always showing up. We love seeing you! \n\nTo enter is simple: \n(1) you must Follow us on Instagram\, \n(2) Tag two friends in your comment so they can follow us and enter too\, \n(3) and we would Love to hear about your fave garden/patio spot\, though this one is not mandatory. \nSign up for our newsletter and automatically be entered for a second chance to win.  \nPlus\, you’ll find out when the next Helms Fresh Perk drops. Good luck! \n\nRules & Regs \nNo purchase is required to enter. \nWinners will be selected randomly\, contacted after each giveaway closes\, and announced in our comments on Instagram. \nOpen to US residents only\, 18 years and older.  By entering\, entrants confirm they are at least 18+ years of age. \nThis is a “GIVEAWAY” and is not eligible for return\, refund\, or exchange at any of our showrooms or restaurants. \nThe “Helms Perks” giveaway  is not sponsored\, endorsed\, administered by or associated with Instagram. Entrants release Instagram and all brands of all responsibility and agree to Instagram’s terms of use. \nOne entry per Instagram user. Duplicate entries will not be considered. \nThis giveaway is open to residents of Los Angeles County.
URL:https://helmsdesigndistrict.com/event/fresh-perks-june-2024-instagram-giveaway/
LOCATION:Online\, CA
CATEGORIES:Long Term Events
ATTACH;FMTTYPE=image/jpeg:https://helmsdesigndistrict.com/wp-content/uploads/2024/05/Fresh-Perks_2024.06_EventPost1.jpg
END:VEVENT
BEGIN:VEVENT
DTSTART;TZID=America/Los_Angeles:20170610T120000
DTEND;TZID=America/Los_Angeles:20170610T180000
DTSTAMP:20260423T183350
CREATED:20170511T222827Z
LAST-MODIFIED:20170511T232529Z
UID:10000162-1497096000-1497117600@helmsdesigndistrict.com
SUMMARY:This Modern Life: A Design Field Day at Helms Bakery
DESCRIPTION:Welcome to This Modern Life: Embracing Life’s Imperfections\, a campus-wide day of design celebrating the Japanese tradition of wabi-sabi\, the art of recognizing beauty in imperfection. Participating showrooms and stores will feature workshops\, demonstrations\, tastings\, sweepstakes and special guests! Plus Local Mercato and Beautiful Things L.A. pop-up for one day only. Pick up a map at the information booth on Helms Walk and explore! Complete info on our dedicated event page. \nFree Valet Parking by the Rejuvenation showroom at Helms and Venice. \n#thismodernlife
URL:https://helmsdesigndistrict.com/event/this-modern-life-2017/
LOCATION:Helms Design District\, 8800 Venice Blvd.\, Los Angeles\, CA\, 90034\, United States
CATEGORIES:News
ATTACH;FMTTYPE=image/jpeg:https://helmsdesigndistrict.com/wp-content/uploads/2015/04/HelmsBakery_ThisModernLife2017_600px.jpg
GEO:34.0306792;-118.3851538
X-APPLE-STRUCTURED-LOCATION;VALUE=URI;X-ADDRESS=Helms Design District 8800 Venice Blvd. Los Angeles CA 90034 United States;X-APPLE-RADIUS=500;X-TITLE=8800 Venice Blvd.:geo:-118.3851538,34.0306792
END:VEVENT
BEGIN:VEVENT
DTSTART;TZID=America/Los_Angeles:20170302T170000
DTEND;TZID=America/Los_Angeles:20170302T190000
DTSTAMP:20260423T183350
CREATED:20170223T005034Z
LAST-MODIFIED:20170223T005034Z
UID:10000060-1488474000-1488481200@helmsdesigndistrict.com
SUMMARY:H.D. Buttercup Hosts a Guest Designer Event on March 2nd
DESCRIPTION:Free\nTo kick off the month of March\, H.D. Buttercup is hosting a Guest Designer Event. Please join them on Thursday\, March 2 from 5:00 to 7:00PM for a meet and greet with five top designers from Los Angeles. The award-winning list includes: Lucie Ayers\, Lindsay Chambers\, Breeze Giannasio\, Natalie Marom and Alexandra Rae. The designers will create in-store vignettes\, exclusively with H.D. Buttercup products\, inspiring customers to go for the unexpected. \nStop by for snacks\, drinks and a whole world of inspiration!
URL:https://helmsdesigndistrict.com/event/h-d-buttercup-hosts-a-guest-designer-event-on-march-2nd/
LOCATION:H.D. Buttercup | Coco Republic\, 3225 Helms Avenue\, Los Angeles\,\, CA\, 90034\, United States
CATEGORIES:News
ATTACH;FMTTYPE=image/gif:https://helmsdesigndistrict.com/wp-content/uploads/2017/02/HD-Buttercup-event-17.03.02.gif
GEO:34.0306035;-118.3850036
X-APPLE-STRUCTURED-LOCATION;VALUE=URI;X-ADDRESS=H.D. Buttercup | Coco Republic 3225 Helms Avenue Los Angeles CA 90034 United States;X-APPLE-RADIUS=500;X-TITLE=3225 Helms Avenue:geo:-118.3850036,34.0306035
END:VEVENT
BEGIN:VEVENT
DTSTART;TZID=America/Los_Angeles:20170223T160000
DTEND;TZID=America/Los_Angeles:20170223T190000
DTSTAMP:20260423T183350
CREATED:20170223T010620Z
LAST-MODIFIED:20170223T190434Z
UID:10000062-1487865600-1487876400@helmsdesigndistrict.com
SUMMARY:Artist Michael Kalish Exhibits "The Art of Finding Love" at H.D. Buttercup
DESCRIPTION:Michael Kalish\, the renowned artist\, is known for his massive public art installations\, but it’s his newest interactive installation\, “The Art of Finding Love”\, that reflect his most moving work to date. \nBeginning on Thursday\, February 23 through February 26\, “THE ART OF FINDING LOVE”\, an interactive art sculpture by MICHAEL KALISH\, will be exhibited inside the H.D. Buttercup showroom. Pop in to meet the artist on 2/23 from 4:00 to 7:00PM. \nEXPERIENCE IT\nStanding at 20 feet tall\, you are invited to come and “find love” as you walk around this interactive sculpture until you find the one spot where the letters come together. \nLIVE IT\nBring home a limited edition tabletop version of the interactive sculpture that functions as both a vase and a candle holder. \n 
URL:https://helmsdesigndistrict.com/event/artist-michael-kalish-exhibits-the-art-of-finding-love-at-h-d-buttercup/
LOCATION:H.D. Buttercup | Coco Republic\, 3225 Helms Avenue\, Los Angeles\,\, CA\, 90034\, United States
CATEGORIES:News
ATTACH;FMTTYPE=image/gif:https://helmsdesigndistrict.com/wp-content/uploads/2017/02/Michael-Kalish.gif
GEO:34.0306035;-118.3850036
X-APPLE-STRUCTURED-LOCATION;VALUE=URI;X-ADDRESS=H.D. Buttercup | Coco Republic 3225 Helms Avenue Los Angeles CA 90034 United States;X-APPLE-RADIUS=500;X-TITLE=3225 Helms Avenue:geo:-118.3850036,34.0306035
END:VEVENT
BEGIN:VEVENT
DTSTART;TZID=America/Los_Angeles:20170212T110000
DTEND;TZID=America/Los_Angeles:20170212T140000
DTSTAMP:20260423T183350
CREATED:20170211T005502Z
LAST-MODIFIED:20170211T013535Z
UID:10000155-1486897200-1486908000@helmsdesigndistrict.com
SUMMARY:H.D. Buttercup Invites You to Brunch
DESCRIPTION:Free\nOn Sunday\, February 12th from 11:00AM to 2:00PM\, drop by H.D. Buttercup for brunch on them! \nInspired by top fashion trends and artistic designs\, H.D. Buttercup is proud to present their most inventive furniture and rugs to date. Shop their new Spring 2017 Collection and enjoy an afternoon of art for the whole family. Cruise their showroom\, create kites with your kids\, and have some delicious bites with the entire H.D. Buttercup team.
URL:https://helmsdesigndistrict.com/event/h-d-buttercup-invites-you-to-brunch/
LOCATION:H.D. Buttercup | Coco Republic\, 3225 Helms Avenue\, Los Angeles\,\, CA\, 90034\, United States
CATEGORIES:News
ATTACH;FMTTYPE=image/jpeg:https://helmsdesigndistrict.com/wp-content/uploads/2017/02/HD_Buttercup_Brunch_Is_Coming.jpg
GEO:34.0306035;-118.3850036
X-APPLE-STRUCTURED-LOCATION;VALUE=URI;X-ADDRESS=H.D. Buttercup | Coco Republic 3225 Helms Avenue Los Angeles CA 90034 United States;X-APPLE-RADIUS=500;X-TITLE=3225 Helms Avenue:geo:-118.3850036,34.0306035
END:VEVENT
BEGIN:VEVENT
DTSTART;VALUE=DATE:20161226
DTEND;VALUE=DATE:20161227
DTSTAMP:20260423T183350
CREATED:20161222T000614Z
LAST-MODIFIED:20161222T000614Z
UID:10000151-1482710400-1482796799@helmsdesigndistrict.com
SUMMARY:Save A Little Room In Your Budget For After Holiday Sales
DESCRIPTION:Well\, it’s that time of year when our furniture stores move out last year’s goods and bring in their new product lines. For us interior design fanatics that means only one thing: Floor Sample Sale! \nOn Monday\, December 26th Room & Board begins their once-a-year sale\, with most of their furniture leaving to make way for the new floor set. Plus\, the famous half-yearly sale at H.D. Buttercup begins\, with up to 70% off the entire store.  Harbour Outdoor is getting into the mix as well with their own half-yearly floor sample sale – enjoy 50 to 70% off selected items throughout the store\, December 26 through January 15. \nWe love when the showrooms get a fresh makeover. Cheers to 2017!
URL:https://helmsdesigndistrict.com/event/save-a-little-room-in-your-budget-for-after-holiday-sales/
LOCATION:Helms Design District\, 8800 Venice Blvd.\, Los Angeles\, CA\, 90034\, United States
CATEGORIES:News
ATTACH;FMTTYPE=image/jpeg:https://helmsdesigndistrict.com/wp-content/uploads/2015/04/Helms_Dec26_sale.jpg
GEO:34.0306792;-118.3851538
X-APPLE-STRUCTURED-LOCATION;VALUE=URI;X-ADDRESS=Helms Design District 8800 Venice Blvd. Los Angeles CA 90034 United States;X-APPLE-RADIUS=500;X-TITLE=8800 Venice Blvd.:geo:-118.3851538,34.0306792
END:VEVENT
BEGIN:VEVENT
DTSTART;TZID=America/Los_Angeles:20160521T120000
DTEND;TZID=America/Los_Angeles:20160521T180000
DTSTAMP:20260423T183350
CREATED:20160516T210409Z
LAST-MODIFIED:20160517T220302Z
UID:10000089-1463832000-1463853600@helmsdesigndistrict.com
SUMMARY:This Modern Life: A Design Field Day at Helms Bakery District
DESCRIPTION:This Modern Life is a celebration of design for the way we live. Participating showrooms and stores will feature workshops\, demonstrations\, tastings\, sweepstakes\, and more. Plus Homepolish and Chairish host pop-ups for one day only. Pick up a map and explore! Complete info on our dedicated event page. #thismodernlife
URL:https://helmsdesigndistrict.com/event/this-modern-life/
LOCATION:Helms Design Center\, 8745 Washington Boulevard\, Culver City\, CA\, 90232
CATEGORIES:News
ATTACH;FMTTYPE=image/jpeg:https://helmsdesigndistrict.com/wp-content/uploads/2015/04/EventGraphicforSite.jpg
GEO:34.0286594;-118.3857496
X-APPLE-STRUCTURED-LOCATION;VALUE=URI;X-ADDRESS=Helms Design Center 8745 Washington Boulevard Culver City CA 90232;X-APPLE-RADIUS=500;X-TITLE=8745 Washington Boulevard:geo:-118.3857496,34.0286594
END:VEVENT
END:VCALENDAR