BEGIN:VCALENDAR
VERSION:2.0
PRODID:-//Helms Design District - ECPv6.15.18//NONSGML v1.0//EN
CALSCALE:GREGORIAN
METHOD:PUBLISH
X-WR-CALNAME:Helms Design District
X-ORIGINAL-URL:https://helmsdesigndistrict.com
X-WR-CALDESC:Events for Helms Design District
REFRESH-INTERVAL;VALUE=DURATION:PT1H
X-Robots-Tag:noindex
X-PUBLISHED-TTL:PT1H
BEGIN:VTIMEZONE
TZID:America/Los_Angeles
BEGIN:DAYLIGHT
TZOFFSETFROM:-0800
TZOFFSETTO:-0700
TZNAME:PDT
DTSTART:20160313T100000
END:DAYLIGHT
BEGIN:STANDARD
TZOFFSETFROM:-0700
TZOFFSETTO:-0800
TZNAME:PST
DTSTART:20161106T090000
END:STANDARD
BEGIN:DAYLIGHT
TZOFFSETFROM:-0800
TZOFFSETTO:-0700
TZNAME:PDT
DTSTART:20170312T100000
END:DAYLIGHT
BEGIN:STANDARD
TZOFFSETFROM:-0700
TZOFFSETTO:-0800
TZNAME:PST
DTSTART:20171105T090000
END:STANDARD
BEGIN:DAYLIGHT
TZOFFSETFROM:-0800
TZOFFSETTO:-0700
TZNAME:PDT
DTSTART:20180311T100000
END:DAYLIGHT
BEGIN:STANDARD
TZOFFSETFROM:-0700
TZOFFSETTO:-0800
TZNAME:PST
DTSTART:20181104T090000
END:STANDARD
BEGIN:DAYLIGHT
TZOFFSETFROM:-0800
TZOFFSETTO:-0700
TZNAME:PDT
DTSTART:20190310T100000
END:DAYLIGHT
BEGIN:STANDARD
TZOFFSETFROM:-0700
TZOFFSETTO:-0800
TZNAME:PST
DTSTART:20191103T090000
END:STANDARD
BEGIN:DAYLIGHT
TZOFFSETFROM:-0800
TZOFFSETTO:-0700
TZNAME:PDT
DTSTART:20200308T100000
END:DAYLIGHT
BEGIN:STANDARD
TZOFFSETFROM:-0700
TZOFFSETTO:-0800
TZNAME:PST
DTSTART:20201101T090000
END:STANDARD
BEGIN:DAYLIGHT
TZOFFSETFROM:-0800
TZOFFSETTO:-0700
TZNAME:PDT
DTSTART:20210314T100000
END:DAYLIGHT
BEGIN:STANDARD
TZOFFSETFROM:-0700
TZOFFSETTO:-0800
TZNAME:PST
DTSTART:20211107T090000
END:STANDARD
BEGIN:DAYLIGHT
TZOFFSETFROM:-0800
TZOFFSETTO:-0700
TZNAME:PDT
DTSTART:20220313T100000
END:DAYLIGHT
BEGIN:STANDARD
TZOFFSETFROM:-0700
TZOFFSETTO:-0800
TZNAME:PST
DTSTART:20221106T090000
END:STANDARD
BEGIN:DAYLIGHT
TZOFFSETFROM:-0800
TZOFFSETTO:-0700
TZNAME:PDT
DTSTART:20230312T100000
END:DAYLIGHT
BEGIN:STANDARD
TZOFFSETFROM:-0700
TZOFFSETTO:-0800
TZNAME:PST
DTSTART:20231105T090000
END:STANDARD
END:VTIMEZONE
BEGIN:VEVENT
DTSTART;TZID=America/Los_Angeles:20221212T080000
DTEND;TZID=America/Los_Angeles:20221223T160000
DTSTAMP:20260423T205602
CREATED:20221212T173215Z
LAST-MODIFIED:20221212T173215Z
UID:10000358-1670832000-1671811200@helmsdesigndistrict.com
SUMMARY:12 Days of Giveaways on Instagram!
DESCRIPTION:Nothing pleases us more than sending you good cheer during the holidays! We want to extend our warmest thanks to you for choosing Helms Bakery as your go-to design hub and favorite spot to dine\, and for joining us for art and architecture exhibitions. Please know that we appreciate you thinking of us and showing up throughout the entire year. Thank you\, thank you\, for your continued support. For all the #lovelocal you have shown us\, Helms Bakery District sends love right back to you with 12 days of gifting on Instagram during the month of December. \nThe Rules are simple. To be entered:\n(1) you must Follow us on Instagram\,\n(2) Tell us why you’re feeling grateful (fave emoji’s are always welcome!)\,\n(3) and Tag 2 friends in your comment so they can follow us and enter too! \nThe IG Giveaway begins December 12th and ends on December 23rd at 4:00 pm PST. Bakery swag includes Arcana: Books on the Arts gift card and tote\, a Classic Pandoro from Pasta Sisters\, a soft wool throw from Rejuvenation\, a Frank Lloyd Wright puzzle from Room & Board\, Pillows from Cisco Home and Scandinavian Designs\, and so much more! We have 12 items to give away in 12 days so be sure to check back with us often throughout the Giftable Giveaway. \nMay the Holidays bring you joy and delight. Plus a little dose of giveaway luck!\nRules & Regs\n(4) No purchase is required to enter.\n(5) Winners will be selected randomly\, contacted after each giveaway closes\, and announced in our comments on Instagram.\n(6) Open to US residents only\, 18 years and older. By entering\, entrants confirm they are at least 18+ years of age.\n(7) This is a “GIFTABLE GIVEAWAY” and is not eligible for return\, refund\, or exchange at any of our showrooms or restaurants.\n(8) The Helms Bakery #GiftableGiveaway is not sponsored\, endorsed\, administered by or associated with Instagram. Entrants release Instagram and all brands of all responsibility and agree to Instagram’s terms of use.\n(9) One entry per Instagram user. Duplicate entries will not be considered.\n(10) This giveaway is open to residents of Los Angeles County (we will not ship).
URL:https://helmsdesigndistrict.com/event/12-days-of-giveaways-on-instagram/
LOCATION:Helms Design District\, 8800 Venice Blvd.\, Los Angeles\, CA\, 90034\, United States
CATEGORIES:News
ATTACH;FMTTYPE=image/jpeg:https://helmsdesigndistrict.com/wp-content/uploads/2022/12/HBD_GiftableGiveaways2022_Home.jpg
GEO:34.0306792;-118.3851538
X-APPLE-STRUCTURED-LOCATION;VALUE=URI;X-ADDRESS=Helms Design District 8800 Venice Blvd. Los Angeles CA 90034 United States;X-APPLE-RADIUS=500;X-TITLE=8800 Venice Blvd.:geo:-118.3851538,34.0306792
END:VEVENT
BEGIN:VEVENT
DTSTART;TZID=America/Los_Angeles:20181217T080000
DTEND;TZID=America/Los_Angeles:20190102T170000
DTSTAMP:20260423T205602
CREATED:20181217T221841Z
LAST-MODIFIED:20190104T010102Z
UID:10000279-1545033600-1546448400@helmsdesigndistrict.com
SUMMARY:Sending You Warm Wishes for a Happy and Bright 2019!
DESCRIPTION:
URL:https://helmsdesigndistrict.com/event/sending-you-warm-wishes-for-a-happy-and-bright-2019/
LOCATION:CA
CATEGORIES:News
ATTACH;FMTTYPE=image/jpeg:https://helmsdesigndistrict.com/wp-content/uploads/2018/12/Instagram_Holiday_WEB.jpg
END:VEVENT
BEGIN:VEVENT
DTSTART;VALUE=DATE:20171219
DTEND;VALUE=DATE:20180103
DTSTAMP:20260423T205602
CREATED:20171220T000939Z
LAST-MODIFIED:20171220T000939Z
UID:10000214-1513641600-1514937599@helmsdesigndistrict.com
SUMMARY:Best Wishes From Our Family to Yours!
DESCRIPTION:
URL:https://helmsdesigndistrict.com/event/best-wishes-from-our-family-to-yours/
LOCATION:Helms Design District\, 8800 Venice Blvd.\, Los Angeles\, CA\, 90034\, United States
CATEGORIES:News
ATTACH;FMTTYPE=image/jpeg:https://helmsdesigndistrict.com/wp-content/uploads/2017/12/Holiday-Card-2017.jpg
GEO:34.0306792;-118.3851538
X-APPLE-STRUCTURED-LOCATION;VALUE=URI;X-ADDRESS=Helms Design District 8800 Venice Blvd. Los Angeles CA 90034 United States;X-APPLE-RADIUS=500;X-TITLE=8800 Venice Blvd.:geo:-118.3851538,34.0306792
END:VEVENT
END:VCALENDAR