BEGIN:VCALENDAR
VERSION:2.0
PRODID:-//Helms Design District - ECPv6.15.18//NONSGML v1.0//EN
CALSCALE:GREGORIAN
METHOD:PUBLISH
X-WR-CALNAME:Helms Design District
X-ORIGINAL-URL:https://helmsdesigndistrict.com
X-WR-CALDESC:Events for Helms Design District
REFRESH-INTERVAL;VALUE=DURATION:PT1H
X-Robots-Tag:noindex
X-PUBLISHED-TTL:PT1H
BEGIN:VTIMEZONE
TZID:America/Los_Angeles
BEGIN:DAYLIGHT
TZOFFSETFROM:-0800
TZOFFSETTO:-0700
TZNAME:PDT
DTSTART:20160313T100000
END:DAYLIGHT
BEGIN:STANDARD
TZOFFSETFROM:-0700
TZOFFSETTO:-0800
TZNAME:PST
DTSTART:20161106T090000
END:STANDARD
BEGIN:DAYLIGHT
TZOFFSETFROM:-0800
TZOFFSETTO:-0700
TZNAME:PDT
DTSTART:20170312T100000
END:DAYLIGHT
BEGIN:STANDARD
TZOFFSETFROM:-0700
TZOFFSETTO:-0800
TZNAME:PST
DTSTART:20171105T090000
END:STANDARD
BEGIN:DAYLIGHT
TZOFFSETFROM:-0800
TZOFFSETTO:-0700
TZNAME:PDT
DTSTART:20180311T100000
END:DAYLIGHT
BEGIN:STANDARD
TZOFFSETFROM:-0700
TZOFFSETTO:-0800
TZNAME:PST
DTSTART:20181104T090000
END:STANDARD
END:VTIMEZONE
BEGIN:VEVENT
DTSTART;TZID=America/Los_Angeles:20170420T183000
DTEND;TZID=America/Los_Angeles:20170420T203000
DTSTAMP:20260423T231906
CREATED:20170330T212402Z
LAST-MODIFIED:20170426T233225Z
UID:10000074-1492713000-1492720200@helmsdesigndistrict.com
SUMMARY:Cal Poly LA Metro Program Hosts Heather Roberge at the Helms Design Center
DESCRIPTION:Free\nOn Tuesday\, April 20 from 6:30 – 8:30 pm\, Helms Bakery District is pleased to present a reception\, lecture\, and discussion with HEATHER ROBERGE of MURMUR\, in collaboration with the Cal Poly LA Metro Program in Architecture and Urban Design. The evening will be introduced and moderated by Stephen Phillips\, AIA\, PhD\, Principal of Stephen Phillips Architects (SPARCHS) and professor\, director\, Cal Poly LA Metro Program in Architecture and Urban Design (California Polytechnic State University\, San Luis Obispo). \nThe event is FREE and Open to the Public. Please RSVP to calpolylametro@gmail.com. \nFree self-parking is available in the lots on Helms Avenue and Venice Boulevard.\n\n\n\nAbout the Architect: \nHeather Roberge is an LA-based designer and educator. She is the founder and principal of Murmur: Architecture and Environments and is associate professor in the Department of Architecture and Urban Design at UCLA where she currently serves as Vice Chair. Ms. Roberge’s research and professional work investigates the spatial\, structural and atmospheric potential of digital technologies on the theory and practice of building. In graduate level courses in design and technology\, her teaching emphasizes innovative approaches to material\, computation\, and manufacturing as opportunities to expand the formal vocabulary and spatial implications of building envelopes and assemblies. In recognition of her distinctive work\, she was selected for the prestigious 2016 Emerging Voices Program by the Architectural League of New York. In 2015 her installation for the SCI-Arc Gallery\, En Pointe\, was awarded an AIA design merit award. In 2011 Murmur’s proposal for the Succulent House received an AIA Next LA design merit award. Her work has been published in A+U\, Praxis\, Metropolis\, I.D.\, Wallpaper\, Architectural Record\, Log\, 306090\, Form Magazine\, The New York Times\, and The Los Angeles Times and exhibited in group shows in the U.S. and abroad. \nPhotos (Left to Right):  Heather Roberge; Succulent House; En Pointe at SCI-Arc Gallery
URL:https://helmsdesigndistrict.com/event/cal-poly-la-metro-program-hosts-heather-roberge-at-the-helms-design-center/
LOCATION:Helms Design Center\, 8745 Washington Boulevard\, Culver City\, CA\, 90232
CATEGORIES:News
ATTACH;FMTTYPE=image/jpeg:https://helmsdesigndistrict.com/wp-content/uploads/2017/03/Heather_Roberge_800px.jpg
GEO:34.0286594;-118.3857496
X-APPLE-STRUCTURED-LOCATION;VALUE=URI;X-ADDRESS=Helms Design Center 8745 Washington Boulevard Culver City CA 90232;X-APPLE-RADIUS=500;X-TITLE=8745 Washington Boulevard:geo:-118.3857496,34.0286594
END:VEVENT
END:VCALENDAR