BEGIN:VCALENDAR
VERSION:2.0
PRODID:-//Helms Design District - ECPv6.15.18//NONSGML v1.0//EN
CALSCALE:GREGORIAN
METHOD:PUBLISH
X-ORIGINAL-URL:https://helmsdesigndistrict.com
X-WR-CALDESC:Events for Helms Design District
REFRESH-INTERVAL;VALUE=DURATION:PT1H
X-Robots-Tag:noindex
X-PUBLISHED-TTL:PT1H
BEGIN:VTIMEZONE
TZID:America/Los_Angeles
BEGIN:DAYLIGHT
TZOFFSETFROM:-0800
TZOFFSETTO:-0700
TZNAME:PDT
DTSTART:20150308T100000
END:DAYLIGHT
BEGIN:STANDARD
TZOFFSETFROM:-0700
TZOFFSETTO:-0800
TZNAME:PST
DTSTART:20151101T090000
END:STANDARD
BEGIN:DAYLIGHT
TZOFFSETFROM:-0800
TZOFFSETTO:-0700
TZNAME:PDT
DTSTART:20160313T100000
END:DAYLIGHT
BEGIN:STANDARD
TZOFFSETFROM:-0700
TZOFFSETTO:-0800
TZNAME:PST
DTSTART:20161106T090000
END:STANDARD
BEGIN:DAYLIGHT
TZOFFSETFROM:-0800
TZOFFSETTO:-0700
TZNAME:PDT
DTSTART:20170312T100000
END:DAYLIGHT
BEGIN:STANDARD
TZOFFSETFROM:-0700
TZOFFSETTO:-0800
TZNAME:PST
DTSTART:20171105T090000
END:STANDARD
END:VTIMEZONE
BEGIN:VEVENT
DTSTART;TZID=America/Los_Angeles:20161210T190000
DTEND;TZID=America/Los_Angeles:20161210T200000
DTSTAMP:20260423T232239
CREATED:20161202T204800Z
LAST-MODIFIED:20161208T003336Z
UID:10000146-1481396400-1481400000@helmsdesigndistrict.com
SUMMARY:Heidi Duckler Brings Dance and Snow To Helms Bakery District
DESCRIPTION:On Saturday\, December 10 at 7 PM\, Heidi Duckler Dance Theatre comes to Helms Bakery District to perform their one-time-only piece\, Snowed Under\, an exploration of what happens when forces of nature cause unexpected confrontation between disparate groups. Snowed Under marks the soft opening of our new\, fully automated parking garage and illustrates the meeting of old and new technologies. \nThis performance will be held in the parking lot outside Arcana Books. Free Valet Parking is available at the lot on Venice Boulevard and Helms Avenue. \nClick for ticket information
URL:https://helmsdesigndistrict.com/event/heidi-duckler-brings-dance-and-snow-to-helms-bakery-district/
LOCATION:Arcana: Books on the Arts\, 8675 Washington Blvd.\, Culver City\, CA\, 90232
CATEGORIES:News
ATTACH;FMTTYPE=image/jpeg:https://helmsdesigndistrict.com/wp-content/uploads/2016/12/Snowed-Under_SFW.jpg
GEO:34.0300679;-118.3835128
X-APPLE-STRUCTURED-LOCATION;VALUE=URI;X-ADDRESS=Arcana: Books on the Arts 8675 Washington Blvd. Culver City CA 90232;X-APPLE-RADIUS=500;X-TITLE=8675 Washington Blvd.:geo:-118.3835128,34.0300679
END:VEVENT
END:VCALENDAR