BEGIN:VCALENDAR
VERSION:2.0
PRODID:-//Helms Design District - ECPv6.15.18//NONSGML v1.0//EN
CALSCALE:GREGORIAN
METHOD:PUBLISH
X-ORIGINAL-URL:https://helmsdesigndistrict.com
X-WR-CALDESC:Events for Helms Design District
REFRESH-INTERVAL;VALUE=DURATION:PT1H
X-Robots-Tag:noindex
X-PUBLISHED-TTL:PT1H
BEGIN:VTIMEZONE
TZID:America/Los_Angeles
BEGIN:DAYLIGHT
TZOFFSETFROM:-0800
TZOFFSETTO:-0700
TZNAME:PDT
DTSTART:20250309T100000
END:DAYLIGHT
BEGIN:STANDARD
TZOFFSETFROM:-0700
TZOFFSETTO:-0800
TZNAME:PST
DTSTART:20251102T090000
END:STANDARD
BEGIN:DAYLIGHT
TZOFFSETFROM:-0800
TZOFFSETTO:-0700
TZNAME:PDT
DTSTART:20260308T100000
END:DAYLIGHT
BEGIN:STANDARD
TZOFFSETFROM:-0700
TZOFFSETTO:-0800
TZNAME:PST
DTSTART:20261101T090000
END:STANDARD
BEGIN:DAYLIGHT
TZOFFSETFROM:-0800
TZOFFSETTO:-0700
TZNAME:PDT
DTSTART:20270314T100000
END:DAYLIGHT
BEGIN:STANDARD
TZOFFSETFROM:-0700
TZOFFSETTO:-0800
TZNAME:PST
DTSTART:20271107T090000
END:STANDARD
END:VTIMEZONE
BEGIN:VEVENT
DTSTART;TZID=America/Los_Angeles:20260502T110000
DTEND;TZID=America/Los_Angeles:20260502T160000
DTSTAMP:20260425T114552
CREATED:20260424T132705Z
LAST-MODIFIED:20260424T132705Z
UID:10002020-1777719600-1777737600@helmsdesigndistrict.com
SUMMARY:IKEA Opens at Helms on May 2nd
DESCRIPTION:Join us on Saturday\, May 2\, as we celebrate the grand opening of IKEA Culver City at Helms Design District. This new\, thoughtfully scaled store brings IKEA’s approach to everyday living into a walkable\, design-forward setting in the heart of Los Angeles. \nThe day will feature music\, pop-up activations\, and a lively\, open-air atmosphere on our campus. Explore the new store\, spend time in the district\, and enjoy a day designed around community and connection. \nPlease note: Helms Avenue will be closed to traffic for the event. Plan ahead and allow extra time for parking and arrival. \nSee you there!
URL:https://helmsdesigndistrict.com/event/ikea-opens-at-helms-on-may-2nd/
LOCATION:IKEA\, 3225-A Helms Avenue\, Los Angeles\, CA\, 90034\, United States
CATEGORIES:News
ATTACH;FMTTYPE=image/jpeg:https://helmsdesigndistrict.com/wp-content/uploads/2026/04/AAFF-images-mailing-market-650x335-1.jpg
END:VEVENT
END:VCALENDAR