BEGIN:VCALENDAR
VERSION:2.0
PRODID:-//Helms Design District - ECPv6.15.18//NONSGML v1.0//EN
CALSCALE:GREGORIAN
METHOD:PUBLISH
X-ORIGINAL-URL:https://helmsdesigndistrict.com
X-WR-CALDESC:Events for Helms Design District
REFRESH-INTERVAL;VALUE=DURATION:PT1H
X-Robots-Tag:noindex
X-PUBLISHED-TTL:PT1H
BEGIN:VTIMEZONE
TZID:America/Los_Angeles
BEGIN:DAYLIGHT
TZOFFSETFROM:-0800
TZOFFSETTO:-0700
TZNAME:PDT
DTSTART:20230312T100000
END:DAYLIGHT
BEGIN:STANDARD
TZOFFSETFROM:-0700
TZOFFSETTO:-0800
TZNAME:PST
DTSTART:20231105T090000
END:STANDARD
BEGIN:DAYLIGHT
TZOFFSETFROM:-0800
TZOFFSETTO:-0700
TZNAME:PDT
DTSTART:20240310T100000
END:DAYLIGHT
BEGIN:STANDARD
TZOFFSETFROM:-0700
TZOFFSETTO:-0800
TZNAME:PST
DTSTART:20241103T090000
END:STANDARD
BEGIN:DAYLIGHT
TZOFFSETFROM:-0800
TZOFFSETTO:-0700
TZNAME:PDT
DTSTART:20250309T100000
END:DAYLIGHT
BEGIN:STANDARD
TZOFFSETFROM:-0700
TZOFFSETTO:-0800
TZNAME:PST
DTSTART:20251102T090000
END:STANDARD
END:VTIMEZONE
BEGIN:VEVENT
DTSTART;TZID=America/Los_Angeles:20240420T110000
DTEND;TZID=America/Los_Angeles:20240420T170000
DTSTAMP:20260423T192040
CREATED:20240411T200907Z
LAST-MODIFIED:20240411T201053Z
UID:10001885-1713610800-1713632400@helmsdesigndistrict.com
SUMMARY:Celebrate Earth Day with Cisco Home
DESCRIPTION:On Saturday\, April 20th from 10:00 am to 4:00 pm\, please join Cisco Home for an Open House and Earth Day celebration. Enjoy a mini eucalyptus wreath making workshop in partnership with Olivia’s Floreria. \nThis event is ticketed. Sign up for a time slot between 12:00 – 4:00 pm. \nTICKETS\nWhile you’re there\, gather up some information about Cisco’s Inside Green program and preview their April Fresh Perks Instagram giveaway. Be sure to sign up for the Helms Bakery newsletter any time during the month of April and you will automatically be entered to win a Cruz Ottoman \nAbout Cisco’s Inside Green\nInside Green is the ultimate choice for natural healthy furniture. It is a uniquely smart\, healthy\, responsible\, alternative method of building furniture made entirely from FSC woods\, natural latex\, jute\, hemp\, wool\, goose feathers and down. These natural materials are not only superior in terms of comfort and lifespan\, but are inherently flame retardant without the use of chemicals. Every product in the Cisco line can be ordered with the Inside Green option.
URL:https://helmsdesigndistrict.com/event/14103/
LOCATION:Cisco Home\, 8705 Washington Boulevard\, Culver City\, CA\, 90232\, United States
CATEGORIES:News
ATTACH;FMTTYPE=image/jpeg:https://helmsdesigndistrict.com/wp-content/uploads/2024/04/Flower-Workshop-750_750.jpg
END:VEVENT
END:VCALENDAR