BEGIN:VCALENDAR
VERSION:2.0
PRODID:-//Helms Design District - ECPv6.15.18//NONSGML v1.0//EN
CALSCALE:GREGORIAN
METHOD:PUBLISH
X-WR-CALNAME:Helms Design District
X-ORIGINAL-URL:https://helmsdesigndistrict.com
X-WR-CALDESC:Events for Helms Design District
REFRESH-INTERVAL;VALUE=DURATION:PT1H
X-Robots-Tag:noindex
X-PUBLISHED-TTL:PT1H
BEGIN:VTIMEZONE
TZID:America/Los_Angeles
BEGIN:DAYLIGHT
TZOFFSETFROM:-0800
TZOFFSETTO:-0700
TZNAME:PDT
DTSTART:20230312T100000
END:DAYLIGHT
BEGIN:STANDARD
TZOFFSETFROM:-0700
TZOFFSETTO:-0800
TZNAME:PST
DTSTART:20231105T090000
END:STANDARD
BEGIN:DAYLIGHT
TZOFFSETFROM:-0800
TZOFFSETTO:-0700
TZNAME:PDT
DTSTART:20240310T100000
END:DAYLIGHT
BEGIN:STANDARD
TZOFFSETFROM:-0700
TZOFFSETTO:-0800
TZNAME:PST
DTSTART:20241103T090000
END:STANDARD
BEGIN:DAYLIGHT
TZOFFSETFROM:-0800
TZOFFSETTO:-0700
TZNAME:PDT
DTSTART:20250309T100000
END:DAYLIGHT
BEGIN:STANDARD
TZOFFSETFROM:-0700
TZOFFSETTO:-0800
TZNAME:PST
DTSTART:20251102T090000
END:STANDARD
END:VTIMEZONE
BEGIN:VEVENT
DTSTART;TZID=America/Los_Angeles:20240210T160000
DTEND;TZID=America/Los_Angeles:20240210T180000
DTSTAMP:20260424T003442
CREATED:20240206T180605Z
LAST-MODIFIED:20240206T182316Z
UID:10001866-1707580800-1707588000@helmsdesigndistrict.com
SUMMARY:Arcana Book Signing + Discussion with Mary Virginia Swanson for Publish Your Photography Book
DESCRIPTION:Free \nOn Saturday\, February 10th from 4:00 to 6:00 pm\, please join Arcana: Books on the Arts for a book signing with the iconic Mary Virginia Swanson to celebrate the publication of the newly updated edition of the ever-popular Publish Your Photography Book! Ms. Swanson will be signing and taking your questions in a discussion moderated by Radius Books’ Isabella Beroutsos. \nIf you cannot attend and would like to order a signed copy of Publish Your Photography Book to have shipped or to pick up at Arcana\, please place your order here. \n\nThe first book to demystify the process of producing and publishing a book of photographs\, Publish Your Photography Book was first released in 2011 and subsequently sold out two editions. This highly anticipated third edition guides photo-based artists through the steps involved in publishing a book of their work. Industry insiders Darius D. Himes and Mary Virginia Swanson survey the current landscape of photography-book publishing and point out the many avenues to pursue and pitfalls to avoid. This updated\, expert guide covers: a history of the photobook; an overview of the publishing industry; the process of bringing your project to book form (with both traditional publishing and self-publishing options); how to market a photography book (including a dialogue with collectors on the limited edition and artist-made books); case studies with published photographers; and valuable resources on production materials\, publishing and marketing timelines. \nFilled with educational wisdom\, the book features interviews and contributions from artists\, agents\, editors\, designers\, printers\, publishers\, distributors\, booksellers\, curators and librarians who share their experiences and provide advice about each step on the path to publication and placement. A removable workbook helps readers address book preparation\, draft submission guidelines\, production timelines and marketing plans. With over 50 years of combined industry experience and insights\, the authors also provide both historical context and contemporary expertise about the international photobook scene\, including awards\, fairs and grants. \nThe contributors include: Regina Maria Anzenberger\, Bob Aufuldish\, Julia Borissova\, Barbara Bosworth\, Frish Brandt\, Sonel Breslav\, Joan Brookbank\, Jane Brown\, Jason Burstein\, David Campany\, Alejandro Cartagena\, Bruno Ceschel\, Nelson Chan\, Lewis Chaplin\, Clément Cheroux\, David Chickey\, Joshua Chuang\, Mary DelMonico\, Sarah Espenon\, Jon Evans\, Chloe Ferres\, Tricia Gabriel\, Susan kae Grant\, Kris Graves\, Hans Gremmen\, Nathalie Herschdorfer\, Todd Hido\, Deborah Hollis\, Tiffany Jones\, Christina Labey\, Joan Liftin\, Michael Lundgren\, Lesley A. Martin\, Christopher McCall\, Lisa McCarty\, Clifton Meador\, Dan Milnor\, Arezoo Moseni\, Colleen Mullins\, Azu Nwagbogu\, Martin Parr\, Cecile Poimboeuf-Koizumi\, Alan Rapp\, Rixon Reed\, Ruth R. Rogers\, Laura Russell\, Markus Schaden\, Mike Slack\, Søren Solkær\, David Solo\, Gerhard Steidl\, Alan Thomas\, Ian van Coller\, Anne Wilkes Tucker\, Amy Wilkins\, Deborah Willis\, Denise Wolff\, Nancy E. Wolff\, Carl Wooley\, Sophie Wright and Philip Zimmermann.
URL:https://helmsdesigndistrict.com/event/publish-your-photography-book/
LOCATION:Arcana: Books on the Arts\, 8675 Washington Blvd.\, Culver City\, CA\, 90232
CATEGORIES:News
ATTACH;FMTTYPE=image/jpeg:https://helmsdesigndistrict.com/wp-content/uploads/2024/02/Publish-Your-Photo-Book_2024_site.jpg
GEO:34.0300679;-118.3835128
X-APPLE-STRUCTURED-LOCATION;VALUE=URI;X-ADDRESS=Arcana: Books on the Arts 8675 Washington Blvd. Culver City CA 90232;X-APPLE-RADIUS=500;X-TITLE=8675 Washington Blvd.:geo:-118.3835128,34.0300679
END:VEVENT
END:VCALENDAR