BEGIN:VCALENDAR
VERSION:2.0
PRODID:-//Helms Design District - ECPv6.15.18//NONSGML v1.0//EN
CALSCALE:GREGORIAN
METHOD:PUBLISH
X-ORIGINAL-URL:https://helmsdesigndistrict.com
X-WR-CALDESC:Events for Helms Design District
REFRESH-INTERVAL;VALUE=DURATION:PT1H
X-Robots-Tag:noindex
X-PUBLISHED-TTL:PT1H
BEGIN:VTIMEZONE
TZID:America/Los_Angeles
BEGIN:DAYLIGHT
TZOFFSETFROM:-0800
TZOFFSETTO:-0700
TZNAME:PDT
DTSTART:20140309T100000
END:DAYLIGHT
BEGIN:STANDARD
TZOFFSETFROM:-0700
TZOFFSETTO:-0800
TZNAME:PST
DTSTART:20141102T090000
END:STANDARD
BEGIN:DAYLIGHT
TZOFFSETFROM:-0800
TZOFFSETTO:-0700
TZNAME:PDT
DTSTART:20150308T100000
END:DAYLIGHT
BEGIN:STANDARD
TZOFFSETFROM:-0700
TZOFFSETTO:-0800
TZNAME:PST
DTSTART:20151101T090000
END:STANDARD
BEGIN:DAYLIGHT
TZOFFSETFROM:-0800
TZOFFSETTO:-0700
TZNAME:PDT
DTSTART:20160313T100000
END:DAYLIGHT
BEGIN:STANDARD
TZOFFSETFROM:-0700
TZOFFSETTO:-0800
TZNAME:PST
DTSTART:20161106T090000
END:STANDARD
END:VTIMEZONE
BEGIN:VEVENT
DTSTART;TZID=America/Los_Angeles:20151112T190000
DTEND;TZID=America/Los_Angeles:20151112T210000
DTSTAMP:20260424T003736
CREATED:20151112T010858Z
LAST-MODIFIED:20151112T011302Z
UID:10000081-1447354800-1447362000@helmsdesigndistrict.com
SUMMARY:LA Forum's "Out There\, Doing It" Series Continues At Helms Bakery
DESCRIPTION:On Thursday\, November 12th at 7:00pm\, please join the LA Forum and the 2015 Out There Doing It participants for an “ideas potluck.” No need to bring a casserole\, just bring your best questions\, thoughts\, concepts\, and critiques. Four teams of emerging architects\, designers\, and curators will muse\, discuss\, and debate at Helms Design Center. \nPanelists include:\nDuygun Inal and Ben Warwas\, Typical Office\nJia Gu and Jonathan Crisman\, LA-BOR\nJennifer Marmon\, PAR\nJomjai and Jaitip Srisomburananont\, Jai & Jai Gallery \nEvent is FREE for LA Forum members and $10.00 for non-members. \nThe LA Forum is a platform for architecture and urban design. Engaging Los Angeles through critical programming\, publications and discourse on the built environment\, it’s an advocate for emerging and multi-disciplinary practice.\nwww.laforum.org \nBased in Los Angeles\, JAI & JAI Gallery was founded in 2012 by sisters\, Jomjai and Jaitip Srisomburananont. Jai & Jai Gallery focuses on maintaining a trans-disciplinary program by working with and exhibiting the works of both emerging architects and contemporary artists. Alongside curated exhibitions of relevant\, contemporary work\, the undercurrent mission of Jai & Jai Gallery is to engage in and cultivate discussions that lie within the intersection of art and architecture. The fresh perspectives of the gallery exhibitors reveal disparate influences and practices but share a common affinity for pushing the boundaries of theory\, fabrication\, and representation through art\, architecture\, and design.\nwww.jainjai.com \nLABOR is Jonathan Crisman and Jia Gu. LABOR is a Los Angeles-based collective that works at the intersection of art and architecture. Their studio-based practice often turns to food\, fiction\, and printed matter to think critically about architecture and the city\, using the forms of collective activities\, ideas competitions\, speculative interventions\, and architectural happenings.\nwww.la-bor.com \nPlatform for Architecture + Research is an idea driven office\, committed to intellectual and artistic rigor and recognized for architectural innovation. Established in 2003\, PAR is led by partners Jennifer Marmon and Angus Goble with offices in Los Angeles and New York. PAR has received numerous awards\, including the Presidential Emerging Practice Award from the American Institute of Architects Los Angeles in 2014\, an International Architecture Award in 2014 and an American Institute of Architects Honor Award in 2013. The work of PAR has been featured in exhibitions at the US National Building Museum\, the New York Center for Architecture\, the European Center for Architecture\, the Buenos Aires Architecture Biennale among others\, and in publications such as DAMDI\, Architect\, Concept\, Form and MARK.\nwww.p-ar.com \nTypical Office presently consists of two employees\, Duygun Inal and Ben Warwas. Duygun and Ben were chosen because of their diverse backgrounds and ability to produce eclectically predictable yet unusual projects. During their employment at the Typical Office\, Duygun and Ben designed a proposal for the recently opened Broad Museum in Los Angeles and produced an anti-teenage installation ‘16 and Pregnant’ for the One Night Stand LA Show 2015. The most recent project was a bespoke custom dress for the long awaited Frank Gehry exhibition opening at the LACMA. Typical Office is currently working on couple projects mainly researching the Public Storage Buildings and the Vernacular Car Washes of Los Angeles.\nwww.byben.com\nwww.d-inal.com
URL:https://helmsdesigndistrict.com/event/la-forums-out-there-doing-it-series-continues-at-helms-bakery/
LOCATION:Helms Design Center\, 8745 Washington Boulevard\, Culver City\, CA\, 90232
CATEGORIES:News
ATTACH;FMTTYPE=image/jpeg:https://helmsdesigndistrict.com/wp-content/uploads/2015/04/LA-Forum-15.10.15-3.jpg
GEO:34.0286594;-118.3857496
X-APPLE-STRUCTURED-LOCATION;VALUE=URI;X-ADDRESS=Helms Design Center 8745 Washington Boulevard Culver City CA 90232;X-APPLE-RADIUS=500;X-TITLE=8745 Washington Boulevard:geo:-118.3857496,34.0286594
END:VEVENT
END:VCALENDAR